- using R Under development (unstable) (2025-10-28 r88973)
 
- using platform: x86_64-pc-linux-gnu
 
- R was compiled by
    Debian clang version 19.1.7 (7)
    Debian flang-new version 19.1.7 (7)
 
- running under: Debian GNU/Linux forky/sid
 
- using session charset: UTF-8
 
- checking for file ‘miscTools/DESCRIPTION’ ... OK
 
- this is package ‘miscTools’ version ‘0.6-28’
 
- checking CRAN incoming feasibility ... [1s/1s] NOTE
Maintainer: ‘Arne Henningsen <arne.henningsen@gmail.com>’
No Authors@R field in DESCRIPTION.
Please add one, modifying
  Authors@R: c(person(given = "Arne",
                      family = "Henningsen",
                      role = c("aut", "cre"),
                      email = "arne.henningsen@gmail.com"),
               person(given = "Ott",
                      family = "Toomet",
                      role = "aut"))
as necessary.
 
- checking package namespace information ... OK
 
- checking package dependencies ... OK
 
- checking if this is a source package ... OK
 
- checking if there is a namespace ... OK
 
- checking for executable files ... OK
 
- checking for hidden files and directories ... OK
 
- checking for portable file names ... OK
 
- checking for sufficient/correct file permissions ... OK
 
- checking serialization versions ... OK
 
- checking whether package ‘miscTools’ can be installed ... OK
See the install log for details.
 
- checking package directory ... OK
 
- checking for future file timestamps ... OK
 
- checking DESCRIPTION meta-information ... OK
 
- checking top-level files ... OK
 
- checking for left-over files ... OK
 
- checking index information ... OK
 
- checking package subdirectories ... OK
 
- checking code files for non-ASCII characters ... OK
 
- checking R files for syntax errors ... OK
 
- checking whether the package can be loaded ... [0s/0s] OK
 
- checking whether the package can be loaded with stated dependencies ... [0s/0s] OK
 
- checking whether the package can be unloaded cleanly ... [0s/0s] OK
 
- checking whether the namespace can be loaded with stated dependencies ... [0s/0s] OK
 
- checking whether the namespace can be unloaded cleanly ... [0s/0s] OK
 
- checking loading without being on the library search path ... [0s/0s] OK
 
- checking use of S3 registration ... OK
 
- checking dependencies in R code ... OK
 
- checking S3 generic/method consistency ... OK
 
- checking replacement functions ... OK
 
- checking foreign function calls ... OK
 
- checking R code for possible problems ... [5s/6s] OK
 
- checking Rd files ... [0s/1s] NOTE
checkRd: (-1) sumKeepAttr.Rd:19: Lost braces
    19 |       (only relevant if code{x} has only one element).}
       |                             ^
 
- checking Rd metadata ... OK
 
- checking Rd line widths ... OK
 
- checking Rd cross-references ... OK
 
- checking for missing documentation entries ... OK
 
- checking for code/documentation mismatches ... OK
 
- checking Rd \usage sections ... OK
 
- checking Rd contents ... OK
 
- checking for unstated dependencies in examples ... OK
 
- checking examples ... [1s/1s] OK
 
- checking for unstated dependencies in ‘tests’ ... OK
 
- checking tests ... [3s/5s] OK
  Running ‘colMediansTest.R’ [0s/0s]
  Comparing ‘colMediansTest.Rout’ to ‘colMediansTest.Rout.save’ ... OK
  Running ‘ddnormTest.R’ [0s/0s]
  Comparing ‘ddnormTest.Rout’ to ‘ddnormTest.Rout.save’ ... OK
  Running ‘insertColRow.R’ [0s/0s]
  Comparing ‘insertColRow.Rout’ to ‘insertColRow.Rout.save’ ... OK
  Running ‘lmMethods.R’ [0s/0s]
  Comparing ‘lmMethods.Rout’ to ‘lmMethods.Rout.save’ ... OK
  Running ‘margEffTest.R’ [0s/0s]
  Comparing ‘margEffTest.Rout’ to ‘margEffTest.Rout.save’ ... OK
  Running ‘semidefTest.R’ [0s/1s]
  Comparing ‘semidefTest.Rout’ to ‘semidefTest.Rout.save’ ... OK
  Running ‘stdErTests.R’ [0s/1s]
  Comparing ‘stdErTests.Rout’ to ‘stdErTests.Rout.save’ ... OK
  Running ‘sumKeepAttrTest.R’ [0s/0s]
  Comparing ‘sumKeepAttrTest.Rout’ to ‘sumKeepAttrTest.Rout.save’ ... OK
  Running ‘summarizeDF_tests.R’ [0s/0s]
  Comparing ‘summarizeDF_tests.Rout’ to ‘summarizeDF_tests.Rout.save’ ... OK
 
- checking PDF version of manual ... [6s/8s] OK
 
- checking HTML version of manual ... [1s/2s] OK
 
- checking for non-standard things in the check directory ... OK
 
- DONE
 
Status: 2 NOTEs