- using R Under development (unstable) (2025-10-19 r88945)
- using platform: x86_64-pc-linux-gnu
- R was compiled by
Debian clang version 19.1.7 (7)
Debian flang-new version 19.1.7 (7)
- running under: Debian GNU/Linux forky/sid
- using session charset: UTF-8
- checking for file ‘mini007/DESCRIPTION’ ... OK
- checking extension type ... Package
- this is package ‘mini007’ version ‘0.1.0’
- package encoding: UTF-8
- checking CRAN incoming feasibility ... [1s/2s] OK
- checking package namespace information ... OK
- checking package dependencies ... OK
- checking if this is a source package ... OK
- checking if there is a namespace ... OK
- checking for executable files ... OK
- checking for hidden files and directories ... OK
- checking for portable file names ... OK
- checking for sufficient/correct file permissions ... OK
- checking serialization versions ... OK
- checking whether package ‘mini007’ can be installed ... OK
See the install log for details.
- checking package directory ... OK
- checking for future file timestamps ... OK
- checking DESCRIPTION meta-information ... OK
- checking top-level files ... OK
- checking for left-over files ... OK
- checking index information ... OK
- checking package subdirectories ... OK
- checking code files for non-ASCII characters ... OK
- checking R files for syntax errors ... OK
- checking whether the package can be loaded ... [0s/1s] OK
- checking whether the package can be loaded with stated dependencies ... [0s/0s] OK
- checking whether the package can be unloaded cleanly ... [0s/0s] OK
- checking whether the namespace can be loaded with stated dependencies ... [0s/0s] OK
- checking whether the namespace can be unloaded cleanly ... [0s/0s] OK
- checking loading without being on the library search path ... [0s/1s] OK
- checking use of S3 registration ... OK
- checking dependencies in R code ... OK
- checking S3 generic/method consistency ... OK
- checking replacement functions ... OK
- checking foreign function calls ... OK
- checking R code for possible problems ... [3s/5s] OK
- checking Rd files ... [0s/1s] OK
- checking Rd metadata ... OK
- checking Rd line widths ... OK
- checking Rd cross-references ... OK
- checking for missing documentation entries ... OK
- checking for code/documentation mismatches ... OK
- checking Rd \usage sections ... OK
- checking Rd contents ... OK
- checking for unstated dependencies in examples ... OK
- checking examples ... [1s/2s] OK
- checking PDF version of manual ... [7s/10s] OK
- checking HTML version of manual ... [1s/1s] NOTE
Found the following HTML validation problems:
Agent.html:144:1 (Agent.Rd:134): Warning: <h5> anchor "Usage" already defined
Agent.html:150:1 (Agent.Rd:138): Warning: <h5> anchor "Arguments" already defined
Agent.html:170:1 (Agent.Rd:148): Warning: <h5> anchor "Examples" already defined
Agent.html:202:1 (Agent.Rd:175): Warning: <h5> anchor "Usage" already defined
Agent.html:208:1 (Agent.Rd:179): Warning: <h5> anchor "Arguments" already defined
LeadAgent.html:164:1 (LeadAgent.Rd:454): Warning: <h5> anchor "Usage" already defined
LeadAgent.html:170:1 (LeadAgent.Rd:458): Warning: <h5> anchor "Examples" already defined
LeadAgent.html:231:1 (LeadAgent.Rd:514): Warning: <h5> anchor "Usage" already defined
LeadAgent.html:237:1 (LeadAgent.Rd:518): Warning: <h5> anchor "Arguments" already defined
LeadAgent.html:250:1 (LeadAgent.Rd:525): Warning: <h5> anchor "Examples" already defined
LeadAgent.html:314:1 (LeadAgent.Rd:584): Warning: <h5> anchor "Usage" already defined
LeadAgent.html:320:1 (LeadAgent.Rd:588): Warning: <h5> anchor "Arguments" already defined
LeadAgent.html:333:1 (LeadAgent.Rd:595): Warning: <h5> anchor "Examples" already defined
LeadAgent.html:387:1 (LeadAgent.Rd:644): Warning: <h5> anchor "Usage" already defined
LeadAgent.html:393:1 (LeadAgent.Rd:648): Warning: <h5> anchor "Arguments" already defined
LeadAgent.html:423:1 (LeadAgent.Rd:664): Warning: <h5> anchor "Usage" already defined
LeadAgent.html:429:1 (LeadAgent.Rd:668): Warning: <h5> anchor "Arguments" already defined
LeadAgent.html:442:1 (LeadAgent.Rd:675): Warning: <h5> anchor "Returns" already defined
LeadAgent.html:449:1 (LeadAgent.Rd:678): Warning: <h5> anchor "Examples" already defined
LeadAgent.html:511:1 (LeadAgent.Rd:735): Warning: <h5> anchor "Usage" already defined
LeadAgent.html:517:1 (LeadAgent.Rd:739): Warning: <h5> anchor "Arguments" already defined
LeadAgent.html:530:1 (LeadAgent.Rd:746): Warning: <h5> anchor "Returns" already defined
LeadAgent.html:537:1 (LeadAgent.Rd:749): Warning: <h5> anchor "Examples" already defined
LeadAgent.html:598:1 (LeadAgent.Rd:805): Warning: <h5> anchor "Usage" already defined
LeadAgent.html:604:1 (LeadAgent.Rd:809): Warning: <h5> anchor "Arguments" already defined
LeadAgent.html:617:1 (LeadAgent.Rd:816): Warning: <h5> anchor "Returns" already defined
LeadAgent.html:624:1 (LeadAgent.Rd:819): Warning: <h5> anchor "Examples" already defined
LeadAgent.html:686:1 (LeadAgent.Rd:876): Warning: <h5> anchor "Usage" already defined
LeadAgent.html:692:1 (LeadAgent.Rd:880): Warning: <h5> anchor "Arguments" already defined
LeadAgent.html:705:1 (LeadAgent.Rd:887): Warning: <h5> anchor "Returns" already defined
LeadAgent.html:712:1 (LeadAgent.Rd:890): Warning: <h5> anchor "Examples" already defined
LeadAgent.html:783:1 (LeadAgent.Rd:956): Warning: <h5> anchor "Usage" already defined
LeadAgent.html:789:1 (LeadAgent.Rd:960): Warning: <h5> anchor "Arguments" already defined
- checking for non-standard things in the check directory ... OK
- DONE
Status: 1 NOTE