- using R Under development (unstable) (2025-11-16 r89026)
- using platform: x86_64-pc-linux-gnu
- R was compiled by
Debian clang version 21.1.5 (1)
Debian flang version 21.1.5 (1)
- running under: Debian GNU/Linux forky/sid
- using session charset: UTF-8
- checking for file ‘metafor/DESCRIPTION’ ... OK
- this is package ‘metafor’ version ‘4.8-0’
- package encoding: UTF-8
- checking CRAN incoming feasibility ... [5s/6s] OK
- checking package namespace information ... OK
- checking package dependencies ... OK
- checking if this is a source package ... OK
- checking if there is a namespace ... OK
- checking for executable files ... OK
- checking for hidden files and directories ... OK
- checking for portable file names ... OK
- checking for sufficient/correct file permissions ... OK
- checking whether package ‘metafor’ can be installed ... OK
See the install log for details.
- checking package directory ... OK
- checking for future file timestamps ... OK
- checking ‘build’ directory ... OK
- checking DESCRIPTION meta-information ... OK
- checking top-level files ... OK
- checking for left-over files ... OK
- checking index information ... OK
- checking package subdirectories ... OK
- checking code files for non-ASCII characters ... OK
- checking R files for syntax errors ... OK
- checking whether the package can be loaded ... [2s/3s] OK
- checking whether the package can be loaded with stated dependencies ... [2s/2s] OK
- checking whether the package can be unloaded cleanly ... [2s/3s] OK
- checking whether the namespace can be loaded with stated dependencies ... [2s/3s] OK
- checking whether the namespace can be unloaded cleanly ... [2s/3s] OK
- checking loading without being on the library search path ... [2s/2s] OK
- checking whether startup messages can be suppressed ... [2s/3s] OK
- checking use of S3 registration ... OK
- checking dependencies in R code ... OK
- checking S3 generic/method consistency ... OK
- checking replacement functions ... OK
- checking foreign function calls ... OK
- checking R code for possible problems ... [185s/234s] OK
- checking Rd files ... [4s/6s] OK
- checking Rd metadata ... OK
- checking Rd line widths ... OK
- checking Rd cross-references ... OK
- checking for missing documentation entries ... OK
- checking for code/documentation mismatches ... OK
- checking Rd \usage sections ... OK
- checking Rd contents ... OK
- checking for unstated dependencies in examples ... OK
- checking sizes of PDF files under ‘inst/doc’ ... OK
- checking installed files from ‘inst/doc’ ... OK
- checking files in ‘vignettes’ ... OK
- checking examples ... [73s/102s] OK
Examples with CPU (user + system) or elapsed time > 5s
user system elapsed
deltamethod 8.840 0.005 12.374
matreg 8.106 0.061 11.641
methods.confint.rma 7.645 0.011 11.039
plot.rma.uni.selmodel 7.102 0.023 9.124
tes 5.559 0.000 6.569
influence.rma.mv 4.488 0.051 6.519
- checking for unstated dependencies in ‘tests’ ... OK
- checking tests ... [141s/184s] OK
Running ‘testthat.R’ [141s/183s]
- checking for unstated dependencies in vignettes ... OK
- checking package vignettes ... OK
- checking re-building of vignette outputs ... [1s/2s] OK
- checking PDF version of manual ... [35s/42s] OK
- checking HTML version of manual ... [35s/48s] NOTE
Found the following HTML validation problems:
metafor.html:911:192 (aggregate.escalc.Rd:6): Warning: <script> anchor "MathJax-script" already defined
metafor.html:1120:341 (anova.rma.Rd:6): Warning: <script> anchor "MathJax-script" already defined
metafor.html:1493:77 (baujat.Rd:6): Warning: <script> anchor "MathJax-script" already defined
metafor.html:1792:356 (blup.Rd:6): Warning: <script> anchor "MathJax-script" already defined
metafor.html:2281:141 (confint.rma.Rd:13): Warning: <script> anchor "MathJax-script" already defined
metafor.html:2674:109 (conv.2x2.Rd:5): Warning: <script> anchor "MathJax-script" already defined
metafor.html:2889:113 (conv.delta.Rd:5): Warning: <script> anchor "MathJax-script" already defined
metafor.html:3460:136 (conv.wald.Rd:5): Warning: <script> anchor "MathJax-script" already defined
metafor.html:3722:138 (cumul.Rd:8): Warning: <script> anchor "MathJax-script" already defined
metafor.html:3938:77 (deltamethod.Rd:5): Warning: <script> anchor "MathJax-script" already defined
metafor.html:4173:163 (emmprep.Rd:5): Warning: <script> anchor "MathJax-script" already defined
metafor.html:4355:151 (escalc.Rd:5): Warning: <script> anchor "MathJax-script" already defined
metafor.html:5578:123 (fitstats.Rd:12): Warning: <script> anchor "MathJax-script" already defined
metafor.html:6067:61 (forest.default.Rd:5): Warning: <script> anchor "MathJax-script" already defined
metafor.html:6397:77 (forest.rma.Rd:5): Warning: <script> anchor "MathJax-script" already defined
metafor.html:6877:50 (formatters.Rd:9): Warning: <script> anchor "MathJax-script" already defined
metafor.html:7131:78 (fsn.Rd:5): Warning: <script> anchor "MathJax-script" already defined
metafor.html:7356:37 (funnel.Rd:7): Warning: <script> anchor "MathJax-script" already defined
metafor.html:7722:75 (gosh.Rd:6): Warning: <script> anchor "MathJax-script" already defined
metafor.html:7999:237 (influence.rma.mv.Rd:8): Warning: <script> anchor "MathJax-script" already defined
metafor.html:8146:375 (influence.rma.uni.Rd:13): Warning: <script> anchor "MathJax-script" already defined
metafor.html:8357:77 (labbe.Rd:6): Warning: <script> anchor "MathJax-script" already defined
metafor.html:8572:161 (leave1out.Rd:8): Warning: <script> anchor "MathJax-script" already defined
metafor.html:8753:132 (llplot.Rd:5): Warning: <script> anchor "MathJax-script" already defined
metafor.html:8920:84 (matreg.Rd:5): Warning: <script> anchor "MathJax-script" already defined
metafor.html:9613:88 (mfopt.Rd:7): Warning: <script> anchor "MathJax-script" already defined
metafor.html:9696:79 (misc-models.Rd:4): Warning: <script> anchor "MathJax-script" already defined
metafor.html:9868:101 (misc-options.Rd:6): Warning: <script> anchor "MathJax-script" already defined
metafor.html:10124:166 (misc-recs.Rd:6): Warning: <script> anchor "MathJax-script" already defined
metafor.html:10312:99 (pairmat.Rd:5): Warning: <script> anchor "MathJax-script" already defined
metafor.html:10451:115 (permutest.Rd:7): Warning: <script> anchor "MathJax-script" already defined
metafor.html:10696:64 (plot.cumul.rma.Rd:5): Warning: <script> anchor "MathJax-script" already defined
metafor.html:10983:67 (plot.infl.rma.uni.Rd:5): Warning: <script> anchor "MathJax-script" already defined
metafor.html:11400:76 (plot.rma.uni.selmodel.Rd:5): Warning: <script> anchor "MathJax-script" already defined
metafor.html:11663:163 (predict.rma.Rd:7): Warning: <script> anchor "MathJax-script" already defined
metafor.html:11926:100 (print.anova.rma.Rd:6): Warning: <script> anchor "MathJax-script" already defined
metafor.html:12171:139 (print.escalc.Rd:6): Warning: <script> anchor "MathJax-script" already defined
metafor.html:12457:66 (print.hc.rma.uni.Rd:5): Warning: <script> anchor "MathJax-script" already defined
metafor.html:12593:97 (print.matreg.Rd:7): Warning: <script> anchor "MathJax-script" already defined
metafor.html:12918:189 (print.rma.Rd:13): Warning: <script> anchor "MathJax-script" already defined
metafor.html:13078:185 (profile.rma.Rd:12): Warning: <script> anchor "MathJax-script" already defined
metafor.html:13405:136 (qqnorm.rma.Rd:11): Warning: <script> anchor "MathJax-script" already defined
metafor.html:13584:101 (radial.Rd:7): Warning: <script> anchor "MathJax-script" already defined
metafor.html:13799:239 (ranef.Rd:7): Warning: <script> anchor "MathJax-script" already defined
metafor.html:14059:132 (rcalc.Rd:5): Warning: <script> anchor "MathJax-script" already defined
metafor.html:14250:85 (regplot.Rd:7): Warning: <script> anchor "MathJax-script" already defined
metafor.html:14645:99 (regtest.Rd:5): Warning: <script> anchor "MathJax-script" already defined
metafor.html:15107:312 (residuals.rma.Rd:16): Warning: <script> anchor "MathJax-script" already defined
metafor.html:15309:329 (rma.glmm.Rd:5): Warning: <script> anchor "MathJax-script" already defined
metafor.html:15900:268 (rma.mh.Rd:5): Warning: <script> anchor "MathJax-script" already defined
metafor.html:16225:309 (rma.mv.Rd:5): Warning: <script> anchor "MathJax-script" already defined
metafor.html:16748:239 (rma.peto.Rd:5): Warning: <script> anchor "MathJax-script" already defined
metafor.html:16999:317 (rma.uni.Rd:6): Warning: <script> anchor "MathJax-script" already defined
metafor.html:17751:179 (robust.Rd:7): Warning: <script> anchor "MathJax-script" already defined
metafor.html:18065:38 (selmodel.Rd:6): Warning: <script> anchor "MathJax-script" already defined
metafor.html:18824:57 (tes.Rd:6): Warning: <script> anchor "MathJax-script" already defined
metafor.html:19064:88 (to.long.Rd:5): Warning: <script> anchor "MathJax-script" already defined
metafor.html:19300:89 (to.table.Rd:5): Warning: <script> anchor "MathJax-script" already defined
metafor.html:19650:95 (transf.Rd:51): Warning: <script> anchor "MathJax-script" already defined
metafor.html:19974:96 (trimfill.Rd:6): Warning: <script> anchor "MathJax-script" already defined
metafor.html:20236:241 (vcalc.Rd:5): Warning: <script> anchor "MathJax-script" already defined
metafor.html:20579:189 (vcov.rma.Rd:6): Warning: <script> anchor "MathJax-script" already defined
metafor.html:20733:113 (vif.Rd:7): Warning: <script> anchor "MathJax-script" already defined
- checking for non-standard things in the check directory ... OK
- DONE
Status: 1 NOTE