- using R Under development (unstable) (2025-11-16 r89026)
- using platform: x86_64-pc-linux-gnu
- R was compiled by
Debian clang version 21.1.5 (1)
Debian flang version 21.1.5 (1)
- running under: Debian GNU/Linux forky/sid
- using session charset: UTF-8
- checking for file ‘metadat/DESCRIPTION’ ... OK
- this is package ‘metadat’ version ‘1.4-0’
- package encoding: UTF-8
- checking CRAN incoming feasibility ... [2s/3s] OK
- checking package namespace information ... OK
- checking package dependencies ... OK
- checking if this is a source package ... OK
- checking if there is a namespace ... OK
- checking for executable files ... OK
- checking for hidden files and directories ... OK
- checking for portable file names ... OK
- checking for sufficient/correct file permissions ... OK
- checking whether package ‘metadat’ can be installed ... OK
See the install log for details.
- checking package directory ... OK
- checking for future file timestamps ... OK
- checking DESCRIPTION meta-information ... OK
- checking top-level files ... OK
- checking for left-over files ... OK
- checking index information ... OK
- checking package subdirectories ... OK
- checking code files for non-ASCII characters ... OK
- checking R files for syntax errors ... OK
- checking whether the package can be loaded ... [0s/1s] OK
- checking whether the package can be loaded with stated dependencies ... [0s/0s] OK
- checking whether the package can be unloaded cleanly ... [0s/0s] OK
- checking whether the namespace can be loaded with stated dependencies ... [0s/0s] OK
- checking whether the namespace can be unloaded cleanly ... [0s/0s] OK
- checking loading without being on the library search path ... [0s/0s] OK
- checking use of S3 registration ... OK
- checking dependencies in R code ... OK
- checking S3 generic/method consistency ... OK
- checking replacement functions ... OK
- checking foreign function calls ... OK
- checking R code for possible problems ... [4s/6s] OK
- checking Rd files ... [2s/2s] OK
- checking Rd metadata ... OK
- checking Rd line widths ... OK
- checking Rd cross-references ... OK
- checking for missing documentation entries ... OK
- checking for code/documentation mismatches ... OK
- checking Rd \usage sections ... OK
- checking Rd contents ... OK
- checking for unstated dependencies in examples ... OK
- checking contents of ‘data’ directory ... OK
- checking data for non-ASCII characters ... [0s/1s] OK
- checking LazyData ... OK
- checking data for ASCII and uncompressed saves ... OK
- checking examples ... [1s/1s] OK
- checking for unstated dependencies in ‘tests’ ... OK
- checking tests ... [3s/4s] OK
Running ‘testthat.R’ [2s/3s]
- checking PDF version of manual ... [16s/22s] OK
- checking HTML version of manual ... [15s/23s] NOTE
Found the following HTML validation problems:
metadat.html:1868:124 (dat.bcg.Rd:5): Warning: <script> anchor "MathJax-script" already defined
metadat.html:2155:139 (dat.berkey1998.Rd:5): Warning: <script> anchor "MathJax-script" already defined
metadat.html:2876:85 (dat.bourassa1996.Rd:5): Warning: <script> anchor "MathJax-script" already defined
metadat.html:3273:124 (dat.colditz1994.Rd:5): Warning: <script> anchor "MathJax-script" already defined
metadat.html:13104:99 (dat.vanhowe1999.Rd:5): Warning: <script> anchor "MathJax-script" already defined
metadat.html:13773:111 (dat.yusuf1985.Rd:5): Warning: <script> anchor "MathJax-script" already defined
- checking for non-standard things in the check directory ... OK
- DONE
Status: 1 NOTE