- using R Under development (unstable) (2025-10-19 r88945)
- using platform: x86_64-pc-linux-gnu
- R was compiled by
Debian clang version 19.1.7 (7)
Debian flang-new version 19.1.7 (7)
- running under: Debian GNU/Linux forky/sid
- using session charset: UTF-8
- checking for file ‘luz/DESCRIPTION’ ... OK
- this is package ‘luz’ version ‘0.5.0’
- package encoding: UTF-8
- checking CRAN incoming feasibility ... [2s/3s] OK
- checking package namespace information ... OK
- checking package dependencies ... OK
- checking if this is a source package ... OK
- checking if there is a namespace ... OK
- checking for executable files ... OK
- checking for hidden files and directories ... OK
- checking for portable file names ... OK
- checking for sufficient/correct file permissions ... OK
- checking serialization versions ... OK
- checking whether package ‘luz’ can be installed ... OK
See the install log for details.
- checking package directory ... OK
- checking for future file timestamps ... OK
- checking ‘build’ directory ... OK
- checking DESCRIPTION meta-information ... OK
- checking top-level files ... OK
- checking for left-over files ... OK
- checking index information ... OK
- checking package subdirectories ... OK
- checking code files for non-ASCII characters ... OK
- checking R files for syntax errors ... OK
- checking whether the package can be loaded ... [6s/7s] OK
- checking whether the package can be loaded with stated dependencies ... [5s/6s] OK
- checking whether the package can be unloaded cleanly ... [5s/7s] OK
- checking whether the namespace can be loaded with stated dependencies ... [5s/6s] OK
- checking whether the namespace can be unloaded cleanly ... [6s/7s] OK
- checking loading without being on the library search path ... [6s/7s] OK
- checking use of S3 registration ... OK
- checking dependencies in R code ... OK
- checking S3 generic/method consistency ... OK
- checking replacement functions ... OK
- checking foreign function calls ... OK
- checking R code for possible problems ... [29s/33s] OK
- checking Rd files ... [1s/1s] OK
- checking Rd metadata ... OK
- checking Rd line widths ... OK
- checking Rd cross-references ... OK
- checking for missing documentation entries ... OK
- checking for code/documentation mismatches ... OK
- checking Rd \usage sections ... OK
- checking Rd contents ... OK
- checking for unstated dependencies in examples ... OK
- checking installed files from ‘inst/doc’ ... OK
- checking files in ‘vignettes’ ... OK
- checking examples ... [19s/25s] OK
Examples with CPU (user + system) or elapsed time > 5s
user system elapsed
luz_callback_auto_resume 4.012 0.128 5.812
luz_callback_tfevents 3.995 0.083 5.467
lr_finder 3.904 0.146 6.384
- checking for unstated dependencies in ‘tests’ ... OK
- checking tests ... [6s/8s] OK
Running ‘testthat.R’ [6s/8s]
- checking for unstated dependencies in vignettes ... OK
- checking package vignettes ... OK
- checking re-building of vignette outputs ... [19s/24s] OK
- checking PDF version of manual ... [9s/11s] OK
- checking HTML version of manual ... [3s/5s] NOTE
Found the following HTML validation problems:
accelerator.html:60:1 (accelerator.Rd:20): Warning: missing </ul> before </div>
context.html:582:1 (context.Rd:365): Warning: missing </ul> before </div>
context.html:215:1 (context.Rd:136): Warning: <h5> anchor "Usage" already defined
context.html:221:1 (context.Rd:140): Warning: <h5> anchor "Arguments" already defined
context.html:257:1 (context.Rd:166): Warning: <h5> anchor "Usage" already defined
context.html:263:1 (context.Rd:170): Warning: <h5> anchor "Arguments" already defined
context.html:288:1 (context.Rd:185): Warning: <h5> anchor "Usage" already defined
context.html:294:1 (context.Rd:189): Warning: <h5> anchor "Arguments" already defined
context.html:323:1 (context.Rd:208): Warning: <h5> anchor "Usage" already defined
context.html:329:1 (context.Rd:212): Warning: <h5> anchor "Arguments" already defined
context.html:355:1 (context.Rd:228): Warning: <h5> anchor "Usage" already defined
context.html:361:1 (context.Rd:232): Warning: <h5> anchor "Arguments" already defined
context.html:389:1 (context.Rd:250): Warning: <h5> anchor "Usage" already defined
context.html:395:1 (context.Rd:254): Warning: <h5> anchor "Arguments" already defined
context.html:421:1 (context.Rd:270): Warning: <h5> anchor "Usage" already defined
context.html:437:1 (context.Rd:280): Warning: <h5> anchor "Usage" already defined
context.html:443:1 (context.Rd:284): Warning: <h5> anchor "Arguments" already defined
context.html:467:1 (context.Rd:298): Warning: <h5> anchor "Usage" already defined
context.html:484:1 (context.Rd:309): Warning: <h5> anchor "Usage" already defined
context.html:490:1 (context.Rd:313): Warning: <h5> anchor "Arguments" already defined
context.html:514:1 (context.Rd:327): Warning: <h5> anchor "Usage" already defined
context.html:530:1 (context.Rd:337): Warning: <h5> anchor "Usage" already defined
context.html:536:1 (context.Rd:341): Warning: <h5> anchor "Arguments" already defined
context.html:559:1 (context.Rd:354): Warning: <h5> anchor "Usage" already defined
context.html:565:1 (context.Rd:358): Warning: <h5> anchor "Arguments" already defined
luz_load_checkpoint.html:54:1 (luz_load_checkpoint.Rd:14): Warning: missing </ul> before </div>
luz_metric_set.html:56:1 (luz_metric_set.Rd:15): Warning: missing </ul> before </div>
- checking for non-standard things in the check directory ... OK
- DONE
Status: 1 NOTE