- using R Under development (unstable) (2025-10-28 r88973)
 
- using platform: x86_64-pc-linux-gnu
 
- R was compiled by
    Debian clang version 19.1.7 (7)
    Debian flang-new version 19.1.7 (7)
 
- running under: Debian GNU/Linux forky/sid
 
- using session charset: UTF-8
 
- checking for file ‘ltable/DESCRIPTION’ ... OK
 
- checking extension type ... Package
 
- this is package ‘ltable’ version ‘2.0.4’
 
- checking CRAN incoming feasibility ... [1s/1s] NOTE
Maintainer: ‘Ocheredko Oleksandr <Ocheredko@yahoo.com>’
No Authors@R field in DESCRIPTION.
Please add one, modifying
  Authors@R: person(given = "Ocheredko",
                    family = "Oleksandr",
                    role = c("aut", "cre"),
                    email = "ocheredko@yahoo.com")
as necessary.
 
- checking package namespace information ... OK
 
- checking package dependencies ... OK
 
- checking if this is a source package ... OK
 
- checking if there is a namespace ... OK
 
- checking for executable files ... OK
 
- checking for hidden files and directories ... OK
 
- checking for portable file names ... OK
 
- checking for sufficient/correct file permissions ... OK
 
- checking whether package ‘ltable’ can be installed ... OK
See the install log for details.
 
- checking package directory ... OK
 
- checking for future file timestamps ... OK
 
- checking DESCRIPTION meta-information ... OK
 
- checking top-level files ... OK
 
- checking for left-over files ... OK
 
- checking index information ... OK
 
- checking package subdirectories ... OK
 
- checking code files for non-ASCII characters ... OK
 
- checking R files for syntax errors ... OK
 
- checking whether the package can be loaded ... [0s/1s] OK
 
- checking whether the package can be loaded with stated dependencies ... [0s/0s] OK
 
- checking whether the package can be unloaded cleanly ... [0s/0s] OK
 
- checking whether the namespace can be loaded with stated dependencies ... [0s/0s] OK
 
- checking whether the namespace can be unloaded cleanly ... [0s/0s] OK
 
- checking loading without being on the library search path ... [0s/0s] OK
 
- checking use of S3 registration ... OK
 
- checking dependencies in R code ... OK
 
- checking S3 generic/method consistency ... OK
 
- checking replacement functions ... OK
 
- checking foreign function calls ... OK
 
- checking R code for possible problems ... [10s/14s] OK
 
- checking Rd files ... [0s/1s] OK
 
- checking Rd metadata ... OK
 
- checking Rd line widths ... OK
 
- checking Rd cross-references ... OK
 
- checking for missing documentation entries ... OK
 
- checking for code/documentation mismatches ... OK
 
- checking Rd \usage sections ... OK
 
- checking Rd contents ... OK
 
- checking for unstated dependencies in examples ... OK
 
- checking contents of ‘data’ directory ... OK
 
- checking data for non-ASCII characters ... [0s/0s] OK
 
- checking data for ASCII and uncompressed saves ... OK
 
- checking examples ... [79s/91s] OK
Examples with CPU (user + system) or elapsed time > 5s
                          user system elapsed
MCPower                 11.502  0.004  13.341
powerClass-class        11.048  0.000  12.518
print.powerClass-method 10.852  0.000  12.518
plot.powerClass-method  10.826  0.000  12.160
z..powerClass-method    10.361  0.114  11.808
MCLogLin                 8.804  0.008  10.412
renewal                  7.354  0.000   8.778
 
- checking PDF version of manual ... [6s/7s] OK
 
- checking HTML version of manual ... [1s/2s] OK
 
- checking for non-standard things in the check directory ... OK
 
- DONE
 
Status: 1 NOTE