- using R Under development (unstable) (2025-10-15 r88920)
- using platform: x86_64-pc-linux-gnu
- R was compiled by
Debian clang version 19.1.7 (7)
Debian flang-new version 19.1.7 (7)
- running under: Debian GNU/Linux forky/sid
- using session charset: UTF-8
- checking for file ‘lsirm12pl/DESCRIPTION’ ... OK
- checking extension type ... Package
- this is package ‘lsirm12pl’ version ‘1.3.8’
- package encoding: UTF-8
- checking CRAN incoming feasibility ... [1s/2s] OK
- checking package namespace information ... OK
- checking package dependencies ... OK
- checking if this is a source package ... OK
- checking if there is a namespace ... OK
- checking for executable files ... OK
- checking for hidden files and directories ... OK
- checking for portable file names ... OK
- checking for sufficient/correct file permissions ... OK
- checking serialization versions ... OK
- checking whether package ‘lsirm12pl’ can be installed ... OK
See the install log for details.
- used C++ compiler: ‘Debian clang version 19.1.7 (7)’
- checking package directory ... OK
- checking for future file timestamps ... OK
- checking DESCRIPTION meta-information ... OK
- checking top-level files ... OK
- checking for left-over files ... OK
- checking index information ... OK
- checking package subdirectories ... OK
- checking code files for non-ASCII characters ... OK
- checking R files for syntax errors ... OK
- checking whether the package can be loaded ... [6s/8s] OK
- checking whether the package can be loaded with stated dependencies ... [6s/7s] OK
- checking whether the package can be unloaded cleanly ... [6s/7s] OK
- checking whether the namespace can be loaded with stated dependencies ... [6s/8s] OK
- checking whether the namespace can be unloaded cleanly ... [6s/8s] OK
- checking loading without being on the library search path ... [6s/9s] OK
- checking use of S3 registration ... OK
- checking dependencies in R code ... OK
- checking S3 generic/method consistency ... OK
- checking replacement functions ... OK
- checking foreign function calls ... OK
- checking R code for possible problems ... [60s/74s] OK
- checking Rd files ... [1s/2s] OK
- checking Rd metadata ... OK
- checking Rd line widths ... OK
- checking Rd cross-references ... OK
- checking for missing documentation entries ... OK
- checking for code/documentation mismatches ... OK
- checking Rd \usage sections ... OK
- checking Rd contents ... OK
- checking for unstated dependencies in examples ... OK
- checking contents of ‘data’ directory ... OK
- checking data for non-ASCII characters ... [0s/0s] OK
- checking LazyData ... OK
- checking data for ASCII and uncompressed saves ... OK
- checking line endings in C/C++/Fortran sources/headers ... OK
- checking line endings in Makefiles ... OK
- checking compilation flags in Makevars ... OK
- checking for GNU extensions in Makefiles ... OK
- checking for portable use of $(BLAS_LIBS) and $(LAPACK_LIBS) ... OK
- checking use of PKG_*FLAGS in Makefiles ... OK
- checking use of SHLIB_OPENMP_*FLAGS in Makefiles ... OK
- checking pragmas in C/C++ headers and code ... OK
- checking compilation flags used ... OK
- checking compiled code ... OK
- checking examples ... [97s/131s] OK
Examples with CPU (user + system) or elapsed time > 5s
user system elapsed
lsirm2pl_normal_mar_ss 4.612 0.950 7.621
lsirm2pl_normal_mcar_ss 4.563 0.893 7.035
lsirm1pl_normal_mcar 4.450 0.928 7.569
lsirm1pl_normal_mar_ss 4.336 0.927 7.385
lsirm1pl_normal_fixed_gamma_mcar 4.198 0.948 7.462
lsirm1pl_normal_mar 4.135 0.966 7.523
lsirm1pl_normal_fixed_gamma 4.144 0.950 7.556
lsirm1pl_normal_mcar_ss 4.064 0.991 6.423
lsirm2pl_normal_fixed_gamma_mar 4.048 1.007 6.481
lsirm2pl_normal_fixed_gamma_mcar 4.144 0.905 7.323
lsirm2pl_normal_mar 4.160 0.872 6.983
lsirm1pl_normal_fixed_gamma_mar 4.140 0.884 6.026
lsirm2pl_normal_mcar 4.117 0.907 6.159
lsirm2pl_normal_fixed_gamma 3.848 0.901 6.432
lsirm2pl_normal_o 3.797 0.917 5.855
lsirm2pl_normal_ss 3.826 0.875 5.970
lsirm1pl_normal_o 3.638 0.998 6.317
lsirm1pl_normal_ss 3.695 0.904 5.845
- checking PDF version of manual ... [13s/16s] OK
- checking HTML version of manual ... [6s/10s] OK
- checking for non-standard things in the check directory ... OK
- DONE
Status: OK