- using R Under development (unstable) (2025-10-28 r88973)
 
- using platform: x86_64-pc-linux-gnu
 
- R was compiled by
    Debian clang version 19.1.7 (7)
    Debian flang-new version 19.1.7 (7)
 
- running under: Debian GNU/Linux forky/sid
 
- using session charset: UTF-8
 
- using options ‘--no-examples --no-tests --no-vignettes’
 
- checking for file ‘localsolver/DESCRIPTION’ ... OK
 
- checking extension type ... Package
 
- this is package ‘localsolver’ version ‘2.3’
 
- package encoding: UTF-8
 
- checking CRAN incoming feasibility ... [0s/0s] NOTE
Maintainer: ‘Walerian Sokolowski <walerian.sokolowski@wlogsolutions.com>’
The Description field contains
  LocalSolver (http://www.localsolver.com/) is an optimization engine
  developed by Innovation24 (http://www.innovation24.fr/). It is designed
  (http://www.wlogsolutions.com/en/) in collaboration with Decision
  (http://www.sgh.waw.pl/en/).
Please enclose URLs in angle brackets (<...>).
 
- checking package namespace information ... OK
 
- checking package dependencies ... OK
 
- checking if this is a source package ... OK
 
- checking if there is a namespace ... OK
 
- checking for executable files ... OK
 
- checking for hidden files and directories ... OK
 
- checking for portable file names ... OK
 
- checking for sufficient/correct file permissions ... OK
 
- checking serialization versions ... OK
 
- checking whether package ‘localsolver’ can be installed ... OK
See the install log for details.
 
- checking package directory ... OK
 
- checking for future file timestamps ... OK
 
- checking ‘build’ directory ... OK
 
- checking DESCRIPTION meta-information ... OK
 
- checking top-level files ... OK
 
- checking for left-over files ... OK
 
- checking index information ... OK
 
- checking package subdirectories ... OK
 
- checking code files for non-ASCII characters ... OK
 
- checking R files for syntax errors ... OK
 
- checking whether the package can be loaded ... [0s/0s] OK
 
- checking whether the package can be loaded with stated dependencies ... [0s/0s] OK
 
- checking whether the package can be unloaded cleanly ... [0s/0s] OK
 
- checking whether the namespace can be loaded with stated dependencies ... [0s/0s] OK
 
- checking whether the namespace can be unloaded cleanly ... [0s/0s] OK
 
- checking loading without being on the library search path ... [0s/0s] OK
 
- checking use of S3 registration ... OK
 
- checking dependencies in R code ... OK
 
- checking S3 generic/method consistency ... OK
 
- checking replacement functions ... OK
 
- checking foreign function calls ... OK
 
- checking R code for possible problems ... [4s/6s] OK
 
- checking Rd files ... [0s/1s] OK
 
- checking Rd metadata ... OK
 
- checking Rd line widths ... OK
 
- checking Rd cross-references ... OK
 
- checking for missing documentation entries ... OK
 
- checking for code/documentation mismatches ... OK
 
- checking Rd \usage sections ... OK
 
- checking Rd contents ... OK
 
- checking for unstated dependencies in examples ... OK
 
- checking contents of ‘data’ directory ... OK
 
- checking data for non-ASCII characters ... [0s/0s] OK
 
- checking data for ASCII and uncompressed saves ... OK
 
- checking installed files from ‘inst/doc’ ... OK
 
- checking files in ‘vignettes’ ... OK
 
- checking examples ... SKIPPED
 
- checking for unstated dependencies in ‘demo’ ... OK
 
- checking for unstated dependencies in vignettes ... OK
 
- checking package vignettes ... OK
 
- checking running R code from vignettes ... SKIPPED
 
- checking re-building of vignette outputs ... SKIPPED
 
- checking PDF version of manual ... [7s/10s] OK
 
- checking HTML version of manual ... [0s/1s] OK
 
- checking for non-standard things in the check directory ... OK
 
- DONE
 
Status: 1 NOTE