- using R Under development (unstable) (2025-10-28 r88973)
- using platform: x86_64-pc-linux-gnu
- R was compiled by
    Debian clang version 19.1.7 (7)
    Debian flang-new version 19.1.7 (7)
- running under: Debian GNU/Linux forky/sid
- using session charset: UTF-8
- checking for file ‘lexicon/DESCRIPTION’ ... OK
- this is package ‘lexicon’ version ‘1.2.1’
- package encoding: UTF-8
- checking CRAN incoming feasibility ... [1s/2s] NOTE
Maintainer: ‘Tyler Rinker <tyler.rinker@gmail.com>’
Package CITATION file contains call(s) to old-style citEntry().  Please
use bibentry() instead.
- checking package namespace information ... OK
- checking package dependencies ... OK
- checking if this is a source package ... OK
- checking if there is a namespace ... OK
- checking for executable files ... OK
- checking for hidden files and directories ... OK
- checking for portable file names ... OK
- checking for sufficient/correct file permissions ... OK
- checking serialization versions ... OK
- checking whether package ‘lexicon’ can be installed ... OK
See the install log for details.
- checking package directory ... OK
- checking for future file timestamps ... OK
- checking DESCRIPTION meta-information ... OK
- checking top-level files ... OK
- checking for left-over files ... OK
- checking index information ... OK
- checking package subdirectories ... OK
- checking code files for non-ASCII characters ... OK
- checking R files for syntax errors ... OK
- checking whether the package can be loaded ... [1s/1s] OK
- checking whether the package can be loaded with stated dependencies ... [0s/0s] OK
- checking whether the package can be unloaded cleanly ... [0s/1s] OK
- checking whether the namespace can be loaded with stated dependencies ... [0s/1s] OK
- checking whether the namespace can be unloaded cleanly ... [1s/1s] OK
- checking loading without being on the library search path ... [1s/1s] OK
- checking use of S3 registration ... OK
- checking dependencies in R code ... OK
- checking S3 generic/method consistency ... OK
- checking replacement functions ... OK
- checking foreign function calls ... OK
- checking R code for possible problems ... [5s/6s] OK
- checking Rd files ... [1s/1s] NOTE
checkRd: (-1) hash_sentiment_slangsd.Rd:28-37: Lost braces
    28 | article{DBLP:journals/corr/Wu-etal16,
       |        ^
checkRd: (-1) hash_sentiment_slangsd.Rd:29: Lost braces; missing escapes or markup?
    29 |   author    = {Liang Wu and Fred Morstatter and Huan Liu},
       |               ^
checkRd: (-1) hash_sentiment_slangsd.Rd:30-31: Lost braces
    30 |   title     = {SlangSD: Building and Using a Sentiment Dictionary of Slang 
       |               ^
checkRd: (-1) hash_sentiment_slangsd.Rd:32: Lost braces; missing escapes or markup?
    32 |   journal   = {CoRR},
       |               ^
checkRd: (-1) hash_sentiment_slangsd.Rd:33: Lost braces; missing escapes or markup?
    33 |   volume    = {abs/1608.05129},
       |               ^
checkRd: (-1) hash_sentiment_slangsd.Rd:34: Lost braces; missing escapes or markup?
    34 |   year      = {2016},
       |               ^
checkRd: (-1) hash_sentiment_slangsd.Rd:35: Lost braces; missing escapes or markup?
    35 |   url       = {http://arxiv.org/abs/1608.05129},
       |               ^
checkRd: (-1) hash_sentiment_slangsd.Rd:36: Lost braces; missing escapes or markup?
    36 |   timestamp = {Wed, 17 Aug 2016 23:32:57 GMT}
       |               ^
checkRd: (-1) sw_python.Rd:32: Lost braces; missing escapes or markup?
    32 | * Neither the name of the {organization} nor the names of its
       |                           ^
- checking Rd metadata ... OK
- checking Rd line widths ... OK
- checking Rd cross-references ... OK
- checking for missing documentation entries ... OK
- checking for code/documentation mismatches ... OK
- checking Rd \usage sections ... OK
- checking Rd contents ... OK
- checking for unstated dependencies in examples ... OK
- checking contents of ‘data’ directory ... OK
- checking data for non-ASCII characters ... [2s/2s] OK
- checking LazyData ... OK
- checking data for ASCII and uncompressed saves ... OK
- checking examples ... [1s/1s] OK
- checking PDF version of manual ... [7s/10s] OK
- checking HTML version of manual ... [2s/3s] OK
- checking for non-standard things in the check directory ... OK
- DONE
Status: 2 NOTEs