- using R Under development (unstable) (2023-11-29 r85646)
- using platform: x86_64-pc-linux-gnu
- R was compiled by
Debian clang version 17.0.5 (1)
Debian flang-new version 17.0.5 (1)
- running under: Debian GNU/Linux trixie/sid
- using session charset: UTF-8
- checking for file ‘lax/DESCRIPTION’ ... OK
- this is package ‘lax’ version ‘1.2.1’
- package encoding: UTF-8
- checking package namespace information ... OK
- checking package dependencies ... OK
- checking if this is a source package ... OK
- checking if there is a namespace ... OK
- checking for executable files ... OK
- checking for hidden files and directories ... OK
- checking for portable file names ... OK
- checking for sufficient/correct file permissions ... OK
- checking serialization versions ... OK
- checking whether package ‘lax’ can be installed ... OK
See the install log for details.
- checking package directory ... OK
- checking for future file timestamps ... OK
- checking ‘build’ directory ... OK
- checking DESCRIPTION meta-information ... OK
- checking top-level files ... OK
- checking for left-over files ... OK
- checking index information ... OK
- checking package subdirectories ... OK
- checking R files for non-ASCII characters ... OK
- checking R files for syntax errors ... OK
- checking whether the package can be loaded ... [0s/1s] OK
- checking whether the package can be loaded with stated dependencies ... [0s/0s] OK
- checking whether the package can be unloaded cleanly ... [0s/0s] OK
- checking whether the namespace can be loaded with stated dependencies ... [0s/1s] OK
- checking whether the namespace can be unloaded cleanly ... [0s/0s] OK
- checking loading without being on the library search path ... [0s/1s] OK
- checking use of S3 registration ... OK
- checking dependencies in R code ... OK
- checking S3 generic/method consistency ... OK
- checking replacement functions ... OK
- checking foreign function calls ... OK
- checking R code for possible problems ... [22s/26s] OK
- checking Rd files ... [1s/2s] NOTE
checkRd: (-1) alogLik.Rd:132-133: Lost braces in \itemize; meant \describe ?
checkRd: (-1) alogLik.Rd:134-135: Lost braces in \itemize; meant \describe ?
checkRd: (-1) alogLik.Rd:136-137: Lost braces in \itemize; meant \describe ?
checkRd: (-1) alogLik.Rd:141-143: Lost braces in \itemize; meant \describe ?
checkRd: (-1) alogLik.Rd:144-147: Lost braces in \itemize; meant \describe ?
checkRd: (-1) alogLik.Rd:74: Lost braces
74 | code{"original_fit"}, accessible using \code{attr(name, "original_fit")},
| ^
checkRd: (-1) ow.Rd:10-11: Lost braces in \itemize; meant \describe ?
checkRd: (-1) ow.Rd:12: Lost braces in \itemize; meant \describe ?
checkRd: (-1) ow.Rd:13: Lost braces in \itemize; meant \describe ?
checkRd: (-1) ow.Rd:14-15: Lost braces in \itemize; meant \describe ?
checkRd: (-1) return_level.Rd:74-79: Lost braces in \itemize; meant \describe ?
checkRd: (-1) return_level.Rd:80-85: Lost braces in \itemize; meant \describe ?
- checking Rd metadata ... OK
- checking Rd line widths ... OK
- checking Rd cross-references ... OK
- checking for missing documentation entries ... OK
- checking for code/documentation mismatches ... OK
- checking Rd \usage sections ... OK
- checking Rd contents ... OK
- checking for unstated dependencies in examples ... OK
- checking contents of ‘data’ directory ... OK
- checking data for non-ASCII characters ... [0s/1s] OK
- checking LazyData ... OK
- checking data for ASCII and uncompressed saves ... OK
- checking installed files from ‘inst/doc’ ... OK
- checking files in ‘vignettes’ ... OK
- checking examples ... [36s/44s] OK
Examples with CPU (user + system) or elapsed time > 5s
user system elapsed
extRemes 6.646 0.215 8.143
ismev_refits 6.588 0.111 7.302
return_level 6.164 0.080 8.000
ismev 4.674 0.123 5.495
eva 4.138 0.138 5.136
- checking for unstated dependencies in ‘tests’ ... OK
- checking tests ... [43s/49s] OK
Running ‘testthat.R’ [42s/48s]
- checking for unstated dependencies in vignettes ... OK
- checking package vignettes in ‘inst/doc’ ... OK
- checking re-building of vignette outputs ... [102s/122s] OK
- checking PDF version of manual ... [8s/12s] OK
- checking HTML version of manual ... [3s/4s] OK
- checking for non-standard things in the check directory ... OK
- DONE
Status: 1 NOTE