- using R Under development (unstable) (2023-03-22 r84023)
- using platform: x86_64-pc-linux-gnu (64-bit)
- R was compiled by
Debian clang version 15.0.6
GNU Fortran (Debian 12.2.0-14) 12.2.0
- running under: Debian GNU/Linux bookworm/sid
- using session charset: UTF-8
- checking for file ‘klaR/DESCRIPTION’ ... OK
- this is package ‘klaR’ version ‘1.7-2’
- checking package namespace information ... OK
- checking package dependencies ... OK
- checking if this is a source package ... OK
- checking if there is a namespace ... OK
- checking for executable files ... OK
- checking for hidden files and directories ... OK
- checking for portable file names ... OK
- checking for sufficient/correct file permissions ... OK
- checking serialization versions ... OK
- checking whether package ‘klaR’ can be installed ... OK
- checking package directory ... OK
- checking for future file timestamps ... OK
- checking DESCRIPTION meta-information ... OK
- checking top-level files ... OK
- checking for left-over files ... OK
- checking index information ... OK
- checking package subdirectories ... OK
- checking R files for non-ASCII characters ... OK
- checking R files for syntax errors ... OK
- checking whether the package can be loaded ... [2s/3s] OK
- checking whether the package can be loaded with stated dependencies ... [1s/2s] OK
- checking whether the package can be unloaded cleanly ... [1s/2s] OK
- checking whether the namespace can be loaded with stated dependencies ... [1s/2s] OK
- checking whether the namespace can be unloaded cleanly ... [2s/3s] OK
- checking loading without being on the library search path ... [2s/3s] OK
- checking use of S3 registration ... OK
- checking dependencies in R code ... OK
- checking S3 generic/method consistency ... OK
- checking replacement functions ... OK
- checking foreign function calls ... OK
- checking R code for possible problems ... [34s/36s] OK
- checking Rd files ... [2s/3s] OK
- checking Rd metadata ... OK
- checking Rd line widths ... OK
- checking Rd cross-references ... OK
- checking for missing documentation entries ... OK
- checking for code/documentation mismatches ... OK
- checking Rd \usage sections ... OK
- checking Rd contents ... OK
- checking for unstated dependencies in examples ... OK
- checking contents of ‘data’ directory ... OK
- checking data for non-ASCII characters ... [0s/0s] OK
- checking data for ASCII and uncompressed saves ... OK
- checking examples ... [23s/26s] OK
Examples with CPU (user + system) or elapsed time > 5s
user system elapsed
locpvs 6.592 0.168 7.46
- checking for unstated dependencies in ‘tests’ ... OK
- checking tests ... [19s/21s] OK
Running ‘EDAM.R’ [4s/4s]
Comparing ‘EDAM.Rout’ to ‘EDAM.Rout.save’ ... OK
Running ‘testsklaR.R’ [15s/17s]
Comparing ‘testsklaR.Rout’ to ‘testsklaR.Rout.save’ ...889,892c889,892
< CP91JW 0.04653646 -0.3038316 0.5239518
< EWAJW -0.81337793 0.2002112 -0.5679728
< LSTKJW 0.16550490 -0.1392067 -0.1808338
< ZINSK -0.03948713 -0.4341744 0.1676784
---
> CP91JW 0.04653646 0.3038316 -0.5239518
> EWAJW -0.81337793 -0.2002112 0.5679728
> LSTKJW 0.16550490 0.1392067 0.1808338
> ZINSK -0.03948713 0.4341744 -0.1676784
- checking PDF version of manual ... [9s/11s] OK
- checking HTML version of manual ... [5s/8s] OK
- checking for non-standard things in the check directory ... OK
- DONE
Status: OK