- using R Under development (unstable) (2025-10-19 r88945)
- using platform: x86_64-pc-linux-gnu
- R was compiled by
Debian clang version 19.1.7 (7)
Debian flang-new version 19.1.7 (7)
- running under: Debian GNU/Linux forky/sid
- using session charset: UTF-8
- checking for file ‘igraph/DESCRIPTION’ ... OK
- this is package ‘igraph’ version ‘2.2.0’
- package encoding: UTF-8
- checking CRAN incoming feasibility ... [8s/13s] OK
- checking package namespace information ... OK
- checking package dependencies ... OK
- checking if this is a source package ... OK
- checking if there is a namespace ... OK
- checking for executable files ... OK
- checking for hidden files and directories ... OK
- checking for portable file names ... OK
- checking for sufficient/correct file permissions ... OK
- checking whether package ‘igraph’ can be installed ... OK
See the install log for details.
- used C compiler: ‘Debian clang version 19.1.7 (7)’
- used C++ compiler: ‘Debian clang version 19.1.7 (7)’
- checking package directory ... OK
- checking for future file timestamps ... OK
- checking ‘build’ directory ... OK
- checking DESCRIPTION meta-information ... OK
- checking top-level files ... OK
- checking for left-over files ... OK
- checking index information ... OK
- checking package subdirectories ... OK
- checking code files for non-ASCII characters ... OK
- checking R files for syntax errors ... OK
- checking whether the package can be loaded ... [1s/1s] OK
- checking whether the package can be loaded with stated dependencies ... [1s/1s] OK
- checking whether the package can be unloaded cleanly ... [1s/1s] OK
- checking whether the namespace can be loaded with stated dependencies ... [0s/1s] OK
- checking whether the namespace can be unloaded cleanly ... [1s/1s] OK
- checking loading without being on the library search path ... [1s/1s] OK
- checking whether startup messages can be suppressed ... [1s/1s] OK
- checking use of S3 registration ... OK
- checking dependencies in R code ... OK
- checking S3 generic/method consistency ... OK
- checking replacement functions ... OK
- checking foreign function calls ... OK
- checking R code for possible problems ... [77s/95s] OK
- checking Rd files ... [7s/9s] OK
- checking Rd metadata ... OK
- checking Rd line widths ... OK
- checking Rd cross-references ... OK
- checking for missing documentation entries ... OK
- checking for code/documentation mismatches ... OK
- checking Rd \usage sections ... OK
- checking Rd contents ... OK
- checking for unstated dependencies in examples ... OK
- checking line endings in shell scripts ... OK
- checking line endings in C/C++/Fortran sources/headers ... OK
- checking line endings in Makefiles ... OK
- checking compilation flags in Makevars ... OK
- checking for GNU extensions in Makefiles ... OK
- checking for portable use of $(BLAS_LIBS) and $(LAPACK_LIBS) ... OK
- checking use of PKG_*FLAGS in Makefiles ... OK
- checking use of SHLIB_OPENMP_*FLAGS in Makefiles ... OK
- checking pragmas in C/C++ headers and code ... OK
- checking compilation flags used ... OK
- checking compiled code ... OK
- checking installed files from ‘inst/doc’ ... OK
- checking files in ‘vignettes’ ... OK
- checking examples ... [17s/26s] OK
- checking for unstated dependencies in ‘tests’ ... OK
- checking tests ... [361s/242s] OK
Running ‘testthat.R’ [360s/242s]
- checking for unstated dependencies in vignettes ... OK
- checking package vignettes ... OK
- checking re-building of vignette outputs ... [21s/31s] OK
- checking PDF version of manual ... [54s/69s] OK
- checking HTML version of manual ... [40s/69s] NOTE
Found the following HTML validation problems:
add.edges.html:66:1 (add.edges.Rd:21): Warning: missing </ul> before </div>
add.vertex.shape.html:74:1 (add.vertex.shape.Rd:29): Warning: missing </ul> before </div>
add.vertices.html:65:1 (add.vertices.Rd:20): Warning: missing </ul> before </div>
adjacent.triangles.html:56:1 (adjacent.triangles.Rd:15): Warning: missing </ul> before </div>
aging.ba.game.html:131:1 (aging.ba.game.Rd:66): Warning: missing </ul> before </div>
aging.barabasi.game.html:131:1 (aging.barabasi.game.Rd:66): Warning: missing </ul> before </div>
aging.prefatt.game.html:131:1 (aging.prefatt.game.Rd:66): Warning: missing </ul> before </div>
alpha.centrality.html:102:1 (alpha.centrality.Rd:49): Warning: missing </ul> before </div>
are.connected.html:57:1 (are.connected.Rd:14): Warning: missing </ul> before </div>
articulation.points.html:50:1 (articulation.points.Rd:11): Warning: missing </ul> before </div>
as.directed.html:56:1 (as.directed.Rd:15): Warning: missing </ul> before </div>
as.undirected.html:68:1 (as.undirected.Rd:25): Warning: missing </ul> before </div>
as_adj.html:95:1 (as_adj.Rd:47): Warning: missing </ul> before </div>
as_phylo.html:53:1 (as_phylo.Rd:12): Warning: missing </ul> before </div>
assortativity.degree.html:59:1 (assortativity.degree.Rd:18): Warning: missing </ul> before </div>
assortativity.nominal.html:72:1 (assortativity.nominal.Rd:27): Warning: missing </ul> before </div>
asymmetric.preference.game.html:74:1 (asymmetric.preference.game.Rd:27): Warning: missing </ul> before </div>
authority.score.html:74:1 (authority.score.Rd:29): Warning: missing </ul> before </div>
autocurve.edges.html:54:1 (autocurve.edges.Rd:13): Warning: missing </ul> before </div>
automorphisms.html:81:1 (automorphisms.Rd:38): Warning: missing </ul> before </div>
average.path.length.html:83:1 (average.path.length.Rd:36): Warning: missing </ul> before </div>
ba.game.html:122:1 (ba.game.Rd:65): Warning: missing </ul> before </div>
barabasi.game.html:122:1 (barabasi.game.Rd:65): Warning: missing </ul> before </div>
biconnected.components.html:50:1 (biconnected.components.Rd:11): Warning: missing </ul> before </div>
bipartite.mapping.html:49:1 (bipartite.mapping.Rd:10): Warning: missing </ul> before </div>
bipartite.projection.html:92:1 (bipartite.projection.Rd:43): Warning: missing </ul> before </div>
bipartite.projection.size.html:56:1 (bipartite.projection.size.Rd:15): Warning: missing </ul> before </div>
bipartite.random.game.html:91:1 (bipartite.random.game.Rd:40): Warning: missing </ul> before </div>
blockGraphs.html:55:1 (blockGraphs.Rd:16): Warning: missing </ul> before </div>
bonpow.html:89:1 (bonpow.Rd:38): Warning: missing </ul> before </div>
callaway.traits.game.html:78:1 (callaway.traits.game.Rd:29): Warning: missing </ul> before </div>
canonical.permutation.html:67:1 (canonical.permutation.Rd:24): Warning: missing </ul> before </div>
centralization.betweenness.html:59:1 (centralization.betweenness.Rd:16): Warning: missing </ul> before </div>
centralization.betweenness.tmax.html:61:1 (centralization.betweenness.tmax.Rd:18): Warning: missing </ul> before </div>
centralization.closeness.html:63:1 (centralization.closeness.Rd:20): Warning: missing </ul> before </div>
centralization.closeness.tmax.html:64:1 (centralization.closeness.tmax.Rd:21): Warning: missing </ul> before </div>
centralization.degree.html:69:1 (centralization.degree.Rd:24): Warning: missing </ul> before </div>
centralization.degree.tmax.html:68:1 (centralization.degree.tmax.Rd:23): Warning: missing </ul> before </div>
centralization.evcent.html:75:1 (centralization.evcent.Rd:28): Warning: missing </ul> before </div>
centralization.evcent.tmax.html:70:1 (centralization.evcent.tmax.Rd:25): Warning: missing </ul> before </div>
centralize.scores.html:61:1 (centralize.scores.Rd:18): Warning: missing </ul> before </div>
cited.type.game.html:80:1 (cited.type.game.Rd:31): Warning: missing </ul> before </div>
citing.cited.type.game.html:80:1 (citing.cited.type.game.Rd:31): Warning: missing </ul> before </div>
clique.number.html:49:1 (clique.number.Rd:10): Warning: missing </ul> before </div>
cluster.distribution.html:64:1 (cluster.distribution.Rd:19): Warning: missing </ul> before </div>
clusters.html:55:1 (clusters.Rd:14): Warning: missing </ul> before </div>
cohesive.blocks.html:61:1 (cohesive.blocks.Rd:20): Warning: missing </ul> before </div>
connect.neighborhood.html:64:1 (connect.neighborhood.Rd:21): Warning: missing </ul> before </div>
contract.vertices.html:64:1 (contract.vertices.Rd:21): Warning: missing </ul> before </div>
convex.hull.html:49:1 (convex.hull.Rd:10): Warning: missing </ul> before </div>
count.multiple.html:54:1 (count.multiple.Rd:13): Warning: missing </ul> before </div>
create.communities.html:77:1 (create.communities.Rd:30): Warning: missing </ul> before </div>
cutat.html:56:1 (cutat.Rd:15): Warning: missing </ul> before </div>
decompose.graph.html:74:1 (decompose.graph.Rd:29): Warning: missing </ul> before </div>
degree.distribution.html:58:1 (degree.distribution.Rd:15): Warning: missing </ul> before </div>
degree.sequence.game.html:65:1 (degree.sequence.game.Rd:22): Warning: missing </ul> before </div>
delete.edges.html:56:1 (delete.edges.Rd:15): Warning: missing </ul> before </div>
delete.vertices.html:53:1 (delete.vertices.Rd:12): Warning: missing </ul> before </div>
dendPlot.html:59:1 (dendPlot.Rd:16): Warning: missing </ul> before </div>
dominator.tree.html:62:1 (dominator.tree.Rd:19): Warning: missing </ul> before </div>
dyad.census.html:49:1 (dyad.census.Rd:10): Warning: missing </ul> before </div>
edge.betweenness.html:76:1 (edge.betweenness.Rd:29): Warning: missing </ul> before </div>
edge.betweenness.community.html:110:1 (edge.betweenness.community.Rd:57): Warning: missing </ul> before </div>
edge.connectivity.html:69:1 (edge.connectivity.Rd:24): Warning: missing </ul> before </div>
edge.disjoint.paths.html:69:1 (edge.disjoint.paths.Rd:24): Warning: missing </ul> before </div>
establishment.game.html:78:1 (establishment.game.Rd:29): Warning: missing </ul> before </div>
estimate_betweenness.html:76:1 (estimate_betweenness.Rd:30): Warning: missing </ul> before </div>
estimate_closeness.html:86:1 (estimate_closeness.Rd:38): Warning: missing </ul> before </div>
estimate_edge_betweenness.html:75:1 (estimate_edge_betweenness.Rd:29): Warning: missing </ul> before </div>
evcent.html:84:1 (evcent.Rd:37): Warning: missing </ul> before </div>
exportPajek.html:75:1 (exportPajek.Rd:32): Warning: missing </ul> before </div>
farthest.nodes.html:68:1 (farthest.nodes.Rd:23): Warning: missing </ul> before </div>
fastgreedy.community.html:81:1 (fastgreedy.community.Rd:34): Warning: missing </ul> before </div>
forest.fire.game.html:66:1 (forest.fire.game.Rd:19): Warning: missing </ul> before </div>
get.adjacency.html:96:1 (get.adjacency.Rd:47): Warning: missing </ul> before </div>
get.adjedgelist.html:66:1 (get.adjedgelist.Rd:23): Warning: missing </ul> before </div>
get.adjlist.html:72:1 (get.adjlist.Rd:27): Warning: missing </ul> before </div>
get.all.shortest.paths.html:85:1 (get.all.shortest.paths.Rd:38): Warning: missing </ul> before </div>
get.data.frame.html:54:1 (get.data.frame.Rd:13): Warning: missing </ul> before </div>
get.diameter.html:68:1 (get.diameter.Rd:23): Warning: missing </ul> before </div>
get.edge.html:48:1 (get.edge.Rd:10): Warning: missing </ul> before </div>
get.edge.attribute.html:59:1 (get.edge.attribute.Rd:16): Warning: missing </ul> before </div>
get.edge.ids.html:71:1 (get.edge.ids.Rd:24): Warning: missing </ul> before </div>
get.edgelist.html:55:1 (get.edgelist.Rd:14): Warning: missing </ul> before </div>
get.graph.attribute.html:54:1 (get.graph.attribute.Rd:13): Warning: missing </ul> before </div>
get.incidence.html:77:1 (get.incidence.Rd:30): Warning: missing </ul> before </div>
get.shortest.paths.html:129:1 (get.shortest.paths.Rd:74): Warning: missing </ul> before </div>
get.stochastic.html:63:1 (get.stochastic.Rd:20): Warning: missing </ul> before </div>
get.vertex.attribute.html:59:1 (get.vertex.attribute.Rd:16): Warning: missing </ul> before </div>
getIgraphOpt.html:55:1 (getIgraphOpt.Rd:14): Warning: missing </ul> before </div>
graph.html:104:1 (graph.Rd:53): Warning: missing </ul> before </div>
graph.adhesion.html:59:1 (graph.adhesion.Rd:18): Warning: missing </ul> before </div>
graph.adjacency.html:98:1 (graph.adjacency.Rd:49): Warning: missing </ul> before </div>
graph.adjlist.html:68:1 (graph.adjlist.Rd:25): Warning: missing </ul> before </div>
graph.atlas.html:49:1 (graph.atlas.Rd:10): Warning: missing </ul> before </div>
graph.automorphisms.html:81:1 (graph.automorphisms.Rd:38): Warning: missing </ul> before </div>
graph.bfs.html:135:1 (graph.bfs.Rd:68): Warning: missing </ul> before </div>
graph.bipartite.html:65:1 (graph.bipartite.Rd:22): Warning: missing </ul> before </div>
graph.cohesion.html:53:1 (graph.cohesion.Rd:12): Warning: missing </ul> before </div>
graph.complementer.html:53:1 (graph.complementer.Rd:12): Warning: missing </ul> before </div>
graph.compose.html:61:1 (graph.compose.Rd:18): Warning: missing </ul> before </div>
graph.coreness.html:56:1 (graph.coreness.Rd:15): Warning: missing </ul> before </div>
graph.data.frame.html:62:1 (graph.data.frame.Rd:19): Warning: missing </ul> before </div>
graph.de.bruijn.html:53:1 (graph.de.bruijn.Rd:12): Warning: missing </ul> before </div>
graph.density.html:56:1 (graph.density.Rd:15): Warning: missing </ul> before </div>
graph.dfs.html:124:1 (graph.dfs.Rd:61): Warning: missing </ul> before </div>
graph.difference.html:50:1 (graph.difference.Rd:11): Warning: missing </ul> before </div>
graph.disjoint.union.html:49:1 (graph.disjoint.union.Rd:10): Warning: missing </ul> before </div>
graph.diversity.html:59:1 (graph.diversity.Rd:16): Warning: missing </ul> before </div>
graph.edgelist.html:53:1 (graph.edgelist.Rd:12): Warning: missing </ul> before </div>
graph.eigen.html:70:1 (graph.eigen.Rd:25): Warning: missing </ul> before </div>
graph.empty.html:53:1 (graph.empty.Rd:12): Warning: missing </ul> before </div>
graph.extended.chordal.ring.html:58:1 (graph.extended.chordal.ring.Rd:15): Warning: missing </ul> before </div>
graph.famous.html:104:1 (graph.famous.Rd:53): Warning: missing </ul> before </div>
graph.formula.html:57:1 (graph.formula.Rd:16): Warning: missing </ul> before </div>
graph.full.html:57:1 (graph.full.Rd:14): Warning: missing </ul> before </div>
graph.full.bipartite.html:65:1 (graph.full.bipartite.Rd:20): Warning: missing </ul> before </div>
graph.full.citation.html:53:1 (graph.full.citation.Rd:12): Warning: missing </ul> before </div>
graph.graphdb.html:103:1 (graph.graphdb.Rd:48): Warning: missing </ul> before </div>
graph.incidence.html:97:1 (graph.incidence.Rd:48): Warning: missing </ul> before </div>
graph.intersection.html:50:1 (graph.intersection.Rd:11): Warning: missing </ul> before </div>
graph.isocreate.html:57:1 (graph.isocreate.Rd:14): Warning: missing </ul> before </div>
graph.kautz.html:53:1 (graph.kautz.Rd:12): Warning: missing </ul> before </div>
graph.knn.html:84:1 (graph.knn.Rd:37): Warning: missing </ul> before </div>
graph.laplacian.html:71:1 (graph.laplacian.Rd:26): Warning: missing </ul> before </div>
graph.lcf.html:58:1 (graph.lcf.Rd:15): Warning: missing </ul> before </div>
graph.maxflow.html:63:1 (graph.maxflow.Rd:18): Warning: missing </ul> before </div>
graph.mincut.html:74:1 (graph.mincut.Rd:27): Warning: missing </ul> before </div>
graph.motifs.html:61:1 (graph.motifs.Rd:18): Warning: missing </ul> before </div>
graph.motifs.est.html:78:1 (graph.motifs.est.Rd:31): Warning: missing </ul> before </div>
graph.motifs.no.html:60:1 (graph.motifs.no.Rd:17): Warning: missing </ul> before </div>
graph.neighborhood.html:78:1 (graph.neighborhood.Rd:31): Warning: missing </ul> before </div>
graph.ring.html:64:1 (graph.ring.Rd:19): Warning: missing </ul> before </div>
graph.star.html:61:1 (graph.star.Rd:18): Warning: missing </ul> before </div>
graph.strength.html:77:1 (graph.strength.Rd:30): Warning: missing </ul> before </div>
graph.tree.html:62:1 (graph.tree.Rd:19): Warning: missing </ul> before </div>
graph.union.html:57:1 (graph.union.Rd:16): Warning: missing </ul> before </div>
graphlets.candidate.basis.html:56:1 (graphlets.candidate.basis.Rd:15): Warning: missing </ul> before </div>
graphlets.project.html:75:1 (graphlets.project.Rd:28): Warning: missing </ul> before </div>
grg.game.html:63:1 (grg.game.Rd:18): Warning: missing </ul> before </div>
growing.random.game.html:62:1 (growing.random.game.Rd:17): Warning: missing </ul> before </div>
has.multiple.html:49:1 (has.multiple.Rd:10): Warning: missing </ul> before </div>
hrg.consensus.html:66:1 (hrg.consensus.Rd:21): Warning: missing </ul> before </div>
hrg.create.html:54:1 (hrg.create.Rd:13): Warning: missing </ul> before </div>
hrg.dendrogram.html:49:1 (hrg.dendrogram.Rd:10): Warning: missing </ul> before </div>
hrg.fit.html:66:1 (hrg.fit.Rd:21): Warning: missing </ul> before </div>
hrg.game.html:49:1 (hrg.game.Rd:10): Warning: missing </ul> before </div>
hrg.predict.html:78:1 (hrg.predict.Rd:31): Warning: missing </ul> before </div>
hub.score.html:69:1 (hub.score.Rd:24): Warning: missing </ul> before </div>
igraph.from.graphNEL.html:67:1 (igraph.from.graphNEL.Rd:22): Warning: missing </ul> before </div>
igraph.options.html:51:1 (igraph.options.Rd:12): Warning: missing </ul> before </div>
igraph.sample.html:57:1 (igraph.sample.Rd:14): Warning: missing </ul> before </div>
igraph.to.graphNEL.html:49:1 (igraph.to.graphNEL.Rd:10): Warning: missing </ul> before </div>
independence.number.html:49:1 (independence.number.Rd:10): Warning: missing </ul> before </div>
independent.vertex.sets.html:59:1 (independent.vertex.sets.Rd:16): Warning: missing </ul> before </div>
induced.subgraph.html:69:1 (induced.subgraph.Rd:26): Warning: missing </ul> before </div>
infomap.community.html:82:1 (infomap.community.Rd:35): Warning: missing </ul> before </div>
interconnected.islands.game.html:62:1 (interconnected.islands.game.Rd:17): Warning: missing </ul> before </div>
is.bipartite.html:49:1 (is.bipartite.Rd:10): Warning: missing </ul> before </div>
is.chordal.html:77:1 (is.chordal.Rd:30): Warning: missing </ul> before </div>
is.connected.html:55:1 (is.connected.Rd:14): Warning: missing </ul> before </div>
is.dag.html:50:1 (is.dag.Rd:11): Warning: missing </ul> before </div>
is.degree.sequence.html:55:1 (is.degree.sequence.Rd:14): Warning: missing </ul> before </div>
is.directed.html:49:1 (is.directed.Rd:10): Warning: missing </ul> before </div>
is.graphical.degree.sequence.html:68:1 (is.graphical.degree.sequence.Rd:25): Warning: missing </ul> before </div>
is.igraph.html:49:1 (is.igraph.Rd:10): Warning: missing </ul> before </div>
is.loop.html:54:1 (is.loop.Rd:13): Warning: missing </ul> before </div>
is.matching.html:61:1 (is.matching.Rd:18): Warning: missing </ul> before </div>
is.maximal.matching.html:61:1 (is.maximal.matching.Rd:18): Warning: missing </ul> before </div>
is.minimal.separator.html:55:1 (is.minimal.separator.Rd:14): Warning: missing </ul> before </div>
is.multiple.html:54:1 (is.multiple.Rd:13): Warning: missing </ul> before </div>
is.mutual.html:58:1 (is.mutual.Rd:15): Warning: missing </ul> before </div>
is.named.html:49:1 (is.named.Rd:10): Warning: missing </ul> before </div>
is.separator.html:55:1 (is.separator.Rd:14): Warning: missing </ul> before </div>
is.simple.html:49:1 (is.simple.Rd:10): Warning: missing </ul> before </div>
is.weighted.html:49:1 (is.weighted.Rd:10): Warning: missing </ul> before </div>
k.regular.game.html:63:1 (k.regular.game.Rd:18): Warning: missing </ul> before </div>
label.propagation.community.html:94:1 (label.propagation.community.Rd:45): Warning: missing </ul> before </div>
largest.cliques.html:49:1 (largest.cliques.Rd:10): Warning: missing </ul> before </div>
largest.independent.vertex.sets.html:49:1 (largest.independent.vertex.sets.Rd:10): Warning: missing </ul> before </div>
lastcit.game.html:73:1 (lastcit.game.Rd:26): Warning: missing </ul> before </div>
layout.auto.html:59:1 (layout.auto.Rd:16): Warning: missing </ul> before </div>
layout.bipartite.html:72:1 (layout.bipartite.Rd:25): Warning: missing </ul> before </div>
layout.circle.html:53:1 (layout.circle.Rd:12): Warning: missing </ul> before </div>
layout.davidson.harel.html:104:1 (layout.davidson.harel.Rd:47): Warning: missing </ul> before </div>
layout.drl.html:88:1 (layout.drl.Rd:39): Warning: missing </ul> before </div>
layout.fruchterman.reingold.html:53:1 (layout.fruchterman.reingold.Rd:12): Warning: missing </ul> before </div>
layout.gem.html:85:1 (layout.gem.Rd:36): Warning: missing </ul> before </div>
layout.graphopt.html:97:1 (layout.graphopt.Rd:44): Warning: missing </ul> before </div>
layout.grid.3d.html:61:1 (layout.grid.3d.Rd:19): Warning: missing </ul> before </div>
layout.grid.html:66:1 (layout.grid.Rd:21): Warning: missing </ul> before </div>
layout.kamada.kawai.html:53:1 (layout.kamada.kawai.Rd:12): Warning: missing </ul> before </div>
layout.lgl.html:53:1 (layout.lgl.Rd:12): Warning: missing </ul> before </div>
layout.mds.html:66:1 (layout.mds.Rd:21): Warning: missing </ul> before </div>
layout.merge.html:58:1 (layout.merge.Rd:15): Warning: missing </ul> before </div>
layout.norm.html:73:1 (layout.norm.Rd:28): Warning: missing </ul> before </div>
layout.random.html:53:1 (layout.random.Rd:12): Warning: missing </ul> before </div>
layout.reingold.tilford.html:53:1 (layout.reingold.tilford.Rd:12): Warning: missing </ul> before </div>
layout.sphere.html:53:1 (layout.sphere.Rd:12): Warning: missing </ul> before </div>
layout.star.html:59:1 (layout.star.Rd:16): Warning: missing </ul> before </div>
layout.sugiyama.html:95:1 (layout.sugiyama.Rd:44): Warning: missing </ul> before </div>
leading.eigenvector.community.html:97:1 (leading.eigenvector.community.Rd:44): Warning: missing </ul> before </div>
line.graph.html:49:1 (line.graph.Rd:10): Warning: missing </ul> before </div>
list.edge.attributes.html:49:1 (list.edge.attributes.Rd:10): Warning: missing </ul> before </div>
list.graph.attributes.html:49:1 (list.graph.attributes.Rd:10): Warning: missing </ul> before </div>
list.vertex.attributes.html:49:1 (list.vertex.attributes.Rd:10): Warning: missing </ul> before </div>
maximal.cliques.html:75:1 (maximal.cliques.Rd:28): Warning: missing </ul> before </div>
maximal.cliques.count.html:67:1 (maximal.cliques.count.Rd:22): Warning: missing </ul> before </div>
maximal.independent.vertex.sets.html:49:1 (maximal.independent.vertex.sets.Rd:10): Warning: missing </ul> before </div>
maximal_ivs.html:49:1 (maximal_ivs.Rd:10): Warning: missing </ul> before </div>
maximum.bipartite.matching.html:78:1 (maximum.bipartite.matching.Rd:33): Warning: missing </ul> before </div>
maximum.cardinality.search.html:50:1 (maximum.cardinality.search.Rd:11): Warning: missing </ul> before </div>
minimal.st.separators.html:50:1 (minimal.st.separators.Rd:11): Warning: missing </ul> before </div>
minimum.size.separators.html:50:1 (minimum.size.separators.Rd:11): Warning: missing </ul> before </div>
minimum.spanning.tree.html:69:1 (minimum.spanning.tree.Rd:24): Warning: missing </ul> before </div>
mod.matrix.html:64:1 (mod.matrix.Rd:19): Warning: missing </ul> before </div>
multilevel.community.html:67:1 (multilevel.community.Rd:24): Warning: missing </ul> before </div>
neighborhood.size.html:78:1 (neighborhood.size.Rd:31): Warning: missing </ul> before </div>
no.clusters.html:55:1 (no.clusters.Rd:14): Warning: missing </ul> before </div>
optimal.community.html:59:1 (optimal.community.Rd:18): Warning: missing </ul> before </div>
page.rank.html:108:1 (page.rank.Rd:55): Warning: missing </ul> before </div>
path.length.hist.html:54:1 (path.length.hist.Rd:13): Warning: missing </ul> before </div>
permute.vertices.html:55:1 (permute.vertices.Rd:14): Warning: missing </ul> before </div>
piecewise.layout.html:58:1 (piecewise.layout.Rd:15): Warning: missing </ul> before </div>
plotHierarchy.html:60:1 (plotHierarchy.Rd:19): Warning: missing </ul> before </div>
power.law.fit.html:93:1 (power.law.fit.Rd:44): Warning: missing </ul> before </div>
preference.game.html:87:1 (preference.game.Rd:36): Warning: missing </ul> before </div>
read.graph.html:68:1 (read.graph.Rd:25): Warning: missing </ul> before </div>
remove.edge.attribute.html:53:1 (remove.edge.attribute.Rd:12): Warning: missing </ul> before </div>
remove.graph.attribute.html:53:1 (remove.graph.attribute.Rd:12): Warning: missing </ul> before </div>
remove.vertex.attribute.html:53:1 (remove.vertex.attribute.Rd:12): Warning: missing </ul> before </div>
running.mean.html:54:1 (running.mean.Rd:13): Warning: missing </ul> before </div>
sbm.game.html:70:1 (sbm.game.Rd:23): Warning: missing </ul> before </div>
set.edge.attribute.html:64:1 (set.edge.attribute.Rd:19): Warning: missing </ul> before </div>
set.graph.attribute.html:57:1 (set.graph.attribute.Rd:14): Warning: missing </ul> before </div>
set.vertex.attribute.html:64:1 (set.vertex.attribute.Rd:19): Warning: missing </ul> before </div>
shortest.paths.html:98:1 (shortest.paths.Rd:49): Warning: missing </ul> before </div>
similarity.dice.html:68:1 (similarity.dice.Rd:24): Warning: missing </ul> before </div>
similarity.invlogweighted.html:62:1 (similarity.invlogweighted.Rd:20): Warning: missing </ul> before </div>
similarity.jaccard.html:68:1 (similarity.jaccard.Rd:24): Warning: missing </ul> before </div>
spinglass.community.html:146:1 (spinglass.community.Rd:85): Warning: missing </ul> before </div>
stCuts.html:57:1 (stCuts.Rd:14): Warning: missing </ul> before </div>
stMincuts.html:65:1 (stMincuts.Rd:20): Warning: missing </ul> before </div>
static.fitness.game.html:78:1 (static.fitness.game.Rd:31): Warning: missing </ul> before </div>
static.power.law.game.html:90:1 (static.power.law.game.Rd:39): Warning: missing </ul> before </div>
subgraph.centrality.html:55:1 (subgraph.centrality.Rd:14): Warning: missing </ul> before </div>
subgraph.edges.html:58:1 (subgraph.edges.Rd:15): Warning: missing </ul> before </div>
tkplot.canvas.html:49:1 (tkplot.canvas.Rd:10): Warning: missing </ul> before </div>
tkplot.center.html:49:1 (tkplot.center.Rd:10): Warning: missing </ul> before </div>
tkplot.close.html:53:1 (tkplot.close.Rd:12): Warning: missing </ul> before </div>
tkplot.export.postscript.html:49:1 (tkplot.export.postscript.Rd:10): Warning: missing </ul> before </div>
tkplot.fit.to.screen.html:57:1 (tkplot.fit.to.screen.Rd:14): Warning: missing </ul> before </div>
tkplot.getcoords.html:53:1 (tkplot.getcoords.Rd:12): Warning: missing </ul> before </div>
tkplot.reshape.html:62:1 (tkplot.reshape.Rd:17): Warning: missing </ul> before </div>
tkplot.rotate.html:57:1 (tkplot.rotate.Rd:14): Warning: missing </ul> before </div>
tkplot.setcoords.html:54:1 (tkplot.setcoords.Rd:13): Warning: missing </ul> before </div>
topological.sort.html:57:1 (topological.sort.Rd:16): Warning: missing </ul> before </div>
triad.census.html:50:1 (triad.census.Rd:11): Warning: missing </ul> before </div>
unfold.tree.html:61:1 (unfold.tree.Rd:18): Warning: missing </ul> before </div>
vertex.connectivity.html:65:1 (vertex.connectivity.Rd:22): Warning: missing </ul> before </div>
vertex.disjoint.paths.html:55:1 (vertex.disjoint.paths.Rd:14): Warning: missing </ul> before </div>
vertex.shapes.html:51:1 (vertex.shapes.Rd:12): Warning: missing </ul> before </div>
walktrap.community.html:88:1 (walktrap.community.Rd:39): Warning: missing </ul> before </div>
watts.strogatz.game.html:72:1 (watts.strogatz.game.Rd:23): Warning: missing </ul> before </div>
write.graph.html:71:1 (write.graph.Rd:26): Warning: missing </ul> before </div>
- checking for non-standard things in the check directory ... OK
- DONE
Status: 1 NOTE