- using R Under development (unstable) (2023-11-29 r85646)
- using platform: x86_64-pc-linux-gnu
- R was compiled by
Debian clang version 17.0.5 (1)
Debian flang-new version 17.0.5 (1)
- running under: Debian GNU/Linux trixie/sid
- using session charset: UTF-8
- checking for file ‘iemiscdata/DESCRIPTION’ ... OK
- this is package ‘iemiscdata’ version ‘1.0.0’
- package encoding: UTF-8
- checking package namespace information ... OK
- checking package dependencies ... OK
- checking if this is a source package ... OK
- checking if there is a namespace ... OK
- checking for executable files ... OK
- checking for hidden files and directories ... OK
- checking for portable file names ... OK
- checking for sufficient/correct file permissions ... OK
- checking whether package ‘iemiscdata’ can be installed ... OK
See the install log for details.
- checking package directory ... OK
- checking for future file timestamps ... OK
- checking ‘build’ directory ... OK
- checking DESCRIPTION meta-information ... OK
- checking top-level files ... OK
- checking for left-over files ... OK
- checking index information ... OK
- checking package subdirectories ... OK
- checking R files for non-ASCII characters ... OK
- checking R files for syntax errors ... OK
- checking whether the package can be loaded ... [0s/0s] OK
- checking whether the package can be loaded with stated dependencies ... [0s/0s] OK
- checking whether the package can be unloaded cleanly ... [0s/0s] OK
- checking whether the namespace can be loaded with stated dependencies ... [0s/0s] OK
- checking whether the namespace can be unloaded cleanly ... [0s/0s] OK
- checking loading without being on the library search path ... [0s/1s] OK
- checking use of S3 registration ... OK
- checking dependencies in R code ... OK
- checking S3 generic/method consistency ... OK
- checking replacement functions ... OK
- checking foreign function calls ... OK
- checking R code for possible problems ... [4s/4s] OK
- checking Rd files ... [2s/2s] NOTE
checkRd: (-1) Fp.Rd:10: Lost braces
10 | item{Percentage of pond and swamp areas}{Percent of pond and swamp areas}
| ^
checkRd: (-1) Fp.Rd:10: Lost braces
10 | item{Percentage of pond and swamp areas}{Percent of pond and swamp areas}
| ^
checkRd: (-1) Fp.Rd:11: Lost braces
11 | item{Fp}{Adjustment factor}
| ^
checkRd: (-1) Fp.Rd:11: Lost braces
11 | item{Fp}{Adjustment factor}
| ^
checkRd: (-1) Fukushima_2011_FieldMeasurements_5.Rd:10: Lost braces
10 | item{ID}{Identification}
| ^
checkRd: (-1) Fukushima_2011_FieldMeasurements_5.Rd:10: Lost braces
10 | item{ID}{Identification}
| ^
checkRd: (-1) Fukushima_2011_FieldMeasurements_5.Rd:11: Lost braces
11 | item{Measurement Date}{Date of measurement}
| ^
checkRd: (-1) Fukushima_2011_FieldMeasurements_5.Rd:11: Lost braces
11 | item{Measurement Date}{Date of measurement}
| ^
checkRd: (-1) Fukushima_2011_FieldMeasurements_5.Rd:12: Lost braces
12 | item{Latitude}{Latitude for the sample location}
| ^
checkRd: (-1) Fukushima_2011_FieldMeasurements_5.Rd:12: Lost braces
12 | item{Latitude}{Latitude for the sample location}
| ^
checkRd: (-1) Fukushima_2011_FieldMeasurements_5.Rd:13: Lost braces
13 | item{Longitude}{Longitude for the sample location}
| ^
checkRd: (-1) Fukushima_2011_FieldMeasurements_5.Rd:13: Lost braces
13 | item{Longitude}{Longitude for the sample location}
| ^
checkRd: (-1) Fukushima_2011_FieldMeasurements_5.Rd:14: Lost braces
14 | item{Fixed?}{Is the location fixed?}
| ^
checkRd: (-1) Fukushima_2011_FieldMeasurements_5.Rd:14: Lost braces
14 | item{Fixed?}{Is the location fixed?}
| ^
checkRd: (-1) Fukushima_2011_FieldMeasurements_5.Rd:15: Lost braces
15 | item{Distance(miles)}{Distance in miles}
| ^
checkRd: (-1) Fukushima_2011_FieldMeasurements_5.Rd:15: Lost braces
15 | item{Distance(miles)}{Distance in miles}
| ^
checkRd: (-1) Fukushima_2011_FieldMeasurements_5.Rd:16: Lost braces
16 | item{Bearing}{Bearing for the location}
| ^
checkRd: (-1) Fukushima_2011_FieldMeasurements_5.Rd:16: Lost braces
16 | item{Bearing}{Bearing for the location}
| ^
checkRd: (-1) Fukushima_2011_FieldMeasurements_5.Rd:17: Lost braces
17 | item{Direction}{Direction for the location}
| ^
checkRd: (-1) Fukushima_2011_FieldMeasurements_5.Rd:17: Lost braces
17 | item{Direction}{Direction for the location}
| ^
checkRd: (-1) Fukushima_2011_FieldMeasurements_5.Rd:18: Lost braces
18 | item{Type}{Type of radiation}
| ^
checkRd: (-1) Fukushima_2011_FieldMeasurements_5.Rd:18: Lost braces
18 | item{Type}{Type of radiation}
| ^
checkRd: (-1) Fukushima_2011_FieldMeasurements_5.Rd:19: Lost braces
19 | item{Derived?}{Derived radiation value}
| ^
checkRd: (-1) Fukushima_2011_FieldMeasurements_5.Rd:19: Lost braces
19 | item{Derived?}{Derived radiation value}
| ^
checkRd: (-1) Fukushima_2011_FieldMeasurements_5.Rd:20: Lost braces
20 | item{Value}{Value for the radiation}
| ^
checkRd: (-1) Fukushima_2011_FieldMeasurements_5.Rd:20: Lost braces
20 | item{Value}{Value for the radiation}
| ^
checkRd: (-1) Fukushima_2011_FieldMeasurements_5.Rd:21: Lost braces
21 | item{Unit}{Unit of measurement for radiation value}
| ^
checkRd: (-1) Fukushima_2011_FieldMeasurements_5.Rd:21: Lost braces
21 | item{Unit}{Unit of measurement for radiation value}
| ^
checkRd: (-1) Fukushima_2011_FieldMeasurements_5.Rd:22: Lost braces
22 | item{Source}{Source of data}
| ^
checkRd: (-1) Fukushima_2011_FieldMeasurements_5.Rd:22: Lost braces
22 | item{Source}{Source of data}
| ^
checkRd: (-1) Fukushima_2011_FieldMeasurements_5.Rd:23: Lost braces
23 | item{Description}{Description}
| ^
checkRd: (-1) Fukushima_2011_FieldMeasurements_5.Rd:23: Lost braces
23 | item{Description}{Description}
| ^
checkRd: (-1) Fukushima_2011_FieldMeasurements_5.Rd:24: Lost braces
24 | item{Meter}{Name of meter used}
| ^
checkRd: (-1) Fukushima_2011_FieldMeasurements_5.Rd:24: Lost braces
24 | item{Meter}{Name of meter used}
| ^
checkRd: (-1) Fukushima_2011_FieldMeasurements_5.Rd:25: Lost braces
25 | item{Probe}{Name of probe used}
| ^
checkRd: (-1) Fukushima_2011_FieldMeasurements_5.Rd:25: Lost braces
25 | item{Probe}{Name of probe used}
| ^
checkRd: (-1) Fukushima_2011_FieldSampleAirResults_2.Rd:10: Lost braces
10 | item{Analysis Id}{Identification for the analysis}
| ^
checkRd: (-1) Fukushima_2011_FieldSampleAirResults_2.Rd:10: Lost braces
10 | item{Analysis Id}{Identification for the analysis}
| ^
checkRd: (-1) Fukushima_2011_FieldSampleAirResults_2.Rd:11: Lost braces
11 | item{Sample Id}{Identification for the sample}
| ^
checkRd: (-1) Fukushima_2011_FieldSampleAirResults_2.Rd:11: Lost braces
11 | item{Sample Id}{Identification for the sample}
| ^
checkRd: (-1) Fukushima_2011_FieldSampleAirResults_2.Rd:12: Lost braces
12 | item{Sample#}{Sample number}
| ^
checkRd: (-1) Fukushima_2011_FieldSampleAirResults_2.Rd:12: Lost braces
12 | item{Sample#}{Sample number}
| ^
checkRd: (-1) Fukushima_2011_FieldSampleAirResults_2.Rd:13: Lost braces
13 | item{Type}{Source of sample}
| ^
checkRd: (-1) Fukushima_2011_FieldSampleAirResults_2.Rd:13: Lost braces
13 | item{Type}{Source of sample}
| ^
checkRd: (-1) Fukushima_2011_FieldSampleAirResults_2.Rd:14: Lost braces
14 | item{Fixed?}{Is the type fixed?}
| ^
checkRd: (-1) Fukushima_2011_FieldSampleAirResults_2.Rd:14: Lost braces
14 | item{Fixed?}{Is the type fixed?}
| ^
checkRd: (-1) Fukushima_2011_FieldSampleAirResults_2.Rd:15: Lost braces
15 | item{Latitude}{Latitude for the sample location}
| ^
checkRd: (-1) Fukushima_2011_FieldSampleAirResults_2.Rd:15: Lost braces
15 | item{Latitude}{Latitude for the sample location}
| ^
checkRd: (-1) Fukushima_2011_FieldSampleAirResults_2.Rd:16: Lost braces
16 | item{Longitude}{Longitude for the sample location}
| ^
checkRd: (-1) Fukushima_2011_FieldSampleAirResults_2.Rd:16: Lost braces
16 | item{Longitude}{Longitude for the sample location}
| ^
checkRd: (-1) Fukushima_2011_FieldSampleAirResults_2.Rd:17: Lost braces
17 | item{Distance(miles)}{Distance in miles}
| ^
checkRd: (-1) Fukushima_2011_FieldSampleAirResults_2.Rd:17: Lost braces
17 | item{Distance(miles)}{Distance in miles}
| ^
checkRd: (-1) Fukushima_2011_FieldSampleAirResults_2.Rd:18: Lost braces
18 | item{Bearing}{Bearing for the location}
| ^
checkRd: (-1) Fukushima_2011_FieldSampleAirResults_2.Rd:18: Lost braces
18 | item{Bearing}{Bearing for the location}
| ^
checkRd: (-1) Fukushima_2011_FieldSampleAirResults_2.Rd:19: Lost braces
19 | item{Direction}{Direction for the location}
| ^
checkRd: (-1) Fukushima_2011_FieldSampleAirResults_2.Rd:19: Lost braces
19 | item{Direction}{Direction for the location}
| ^
checkRd: (-1) Fukushima_2011_FieldSampleAirResults_2.Rd:20: Lost braces
20 | item{Collection Date}{Date of collection}
| ^
checkRd: (-1) Fukushima_2011_FieldSampleAirResults_2.Rd:20: Lost braces
20 | item{Collection Date}{Date of collection}
| ^
checkRd: (-1) Fukushima_2011_FieldSampleAirResults_2.Rd:21: Lost braces
21 | item{Source}{Source}
| ^
checkRd: (-1) Fukushima_2011_FieldSampleAirResults_2.Rd:21: Lost braces
21 | item{Source}{Source}
| ^
checkRd: (-1) Fukushima_2011_FieldSampleAirResults_2.Rd:22: Lost braces
22 | item{Description}{Description}
| ^
checkRd: (-1) Fukushima_2011_FieldSampleAirResults_2.Rd:22: Lost braces
22 | item{Description}{Description}
| ^
checkRd: (-1) Fukushima_2011_FieldSampleAirResults_2.Rd:23: Lost braces
23 | item{Filter Type}{Filter type}
| ^
checkRd: (-1) Fukushima_2011_FieldSampleAirResults_2.Rd:23: Lost braces
23 | item{Filter Type}{Filter type}
| ^
checkRd: (-1) Fukushima_2011_FieldSampleAirResults_2.Rd:24: Lost braces
24 | item{Volume}{Volume}
| ^
checkRd: (-1) Fukushima_2011_FieldSampleAirResults_2.Rd:24: Lost braces
24 | item{Volume}{Volume}
| ^
checkRd: (-1) Fukushima_2011_FieldSampleAirResults_2.Rd:25: Lost braces
25 | item{Volume Unit}{Unit of measurement for volume}
| ^
checkRd: (-1) Fukushima_2011_FieldSampleAirResults_2.Rd:25: Lost braces
25 | item{Volume Unit}{Unit of measurement for volume}
| ^
checkRd: (-1) Fukushima_2011_FieldSampleAirResults_2.Rd:26: Lost braces
26 | item{Uncertainty\%}{Percent of uncertainty}
| ^
checkRd: (-1) Fukushima_2011_FieldSampleAirResults_2.Rd:26: Lost braces
26 | item{Uncertainty\%}{Percent of uncertainty}
| ^
checkRd: (-1) Fukushima_2011_FieldSampleAirResults_2.Rd:27: Lost braces
27 | item{MDA}{MDA}
| ^
checkRd: (-1) Fukushima_2011_FieldSampleAirResults_2.Rd:27: Lost braces
27 | item{MDA}{MDA}
| ^
checkRd: (-1) Fukushima_2011_FieldSampleAirResults_2.Rd:28: Lost braces
28 | item{Method Code}{Method code}
| ^
checkRd: (-1) Fukushima_2011_FieldSampleAirResults_2.Rd:28: Lost braces
28 | item{Method Code}{Method code}
| ^
checkRd: (-1) Fukushima_2011_FieldSampleAirResults_2.Rd:29: Lost braces
29 | item{Moisture\%}{Moisture percent}
| ^
checkRd: (-1) Fukushima_2011_FieldSampleAirResults_2.Rd:29: Lost braces
29 | item{Moisture\%}{Moisture percent}
| ^
checkRd: (-1) Fukushima_2011_FieldSampleAirResults_2.Rd:30: Lost braces
30 | item{Nuclide}{Nuclide}
| ^
checkRd: (-1) Fukushima_2011_FieldSampleAirResults_2.Rd:30: Lost braces
30 | item{Nuclide}{Nuclide}
| ^
checkRd: (-1) Fukushima_2011_FieldSampleAirResults_2.Rd:31: Lost braces
31 | item{Result}{Result}
| ^
checkRd: (-1) Fukushima_2011_FieldSampleAirResults_2.Rd:31: Lost braces
31 | item{Result}{Result}
| ^
checkRd: (-1) Fukushima_2011_FieldSampleAirResults_2.Rd:32: Lost braces
32 | item{Unit}{Unit for the result}
| ^
checkRd: (-1) Fukushima_2011_FieldSampleAirResults_2.Rd:32: Lost braces
32 | item{Unit}{Unit for the result}
| ^
checkRd: (-1) Fukushima_2011_FieldSampleInstrumentResults.Rd:11: Lost braces
11 | item{Analysis Id}{Identification for the analysis}
| ^
checkRd: (-1) Fukushima_2011_FieldSampleInstrumentResults.Rd:11: Lost braces
11 | item{Analysis Id}{Identification for the analysis}
| ^
checkRd: (-1) Fukushima_2011_FieldSampleInstrumentResults.Rd:12: Lost braces
12 | item{Sample Id}{Identification for the sample}
| ^
checkRd: (-1) Fukushima_2011_FieldSampleInstrumentResults.Rd:12: Lost braces
12 | item{Sample Id}{Identification for the sample}
| ^
checkRd: (-1) Fukushima_2011_FieldSampleInstrumentResults.Rd:13: Lost braces
13 | item{Sample#}{Sample number}
| ^
checkRd: (-1) Fukushima_2011_FieldSampleInstrumentResults.Rd:13: Lost braces
13 | item{Sample#}{Sample number}
| ^
checkRd: (-1) Fukushima_2011_FieldSampleInstrumentResults.Rd:14: Lost braces
14 | item{Type}{Source of sample}
| ^
checkRd: (-1) Fukushima_2011_FieldSampleInstrumentResults.Rd:14: Lost braces
14 | item{Type}{Source of sample}
| ^
checkRd: (-1) Fukushima_2011_FieldSampleInstrumentResults.Rd:15: Lost braces
15 | item{Fixed?}{Is the type fixed?}
| ^
checkRd: (-1) Fukushima_2011_FieldSampleInstrumentResults.Rd:15: Lost braces
15 | item{Fixed?}{Is the type fixed?}
| ^
checkRd: (-1) Fukushima_2011_FieldSampleInstrumentResults.Rd:16: Lost braces
16 | item{Latitude}{Latitude for the sample location}
| ^
checkRd: (-1) Fukushima_2011_FieldSampleInstrumentResults.Rd:16: Lost braces
16 | item{Latitude}{Latitude for the sample location}
| ^
checkRd: (-1) Fukushima_2011_FieldSampleInstrumentResults.Rd:17: Lost braces
17 | item{Longitude}{Longitude for the sample location}
| ^
checkRd: (-1) Fukushima_2011_FieldSampleInstrumentResults.Rd:17: Lost braces
17 | item{Longitude}{Longitude for the sample location}
| ^
checkRd: (-1) Fukushima_2011_FieldSampleInstrumentResults.Rd:18: Lost braces
18 | item{Distance(miles)}{Distance in miles}
| ^
checkRd: (-1) Fukushima_2011_FieldSampleInstrumentResults.Rd:18: Lost braces
18 | item{Distance(miles)}{Distance in miles}
| ^
checkRd: (-1) Fukushima_2011_FieldSampleInstrumentResults.Rd:19: Lost braces
19 | item{Bearing}{Bearing for the location}
| ^
checkRd: (-1) Fukushima_2011_FieldSampleInstrumentResults.Rd:19: Lost braces
19 | item{Bearing}{Bearing for the location}
| ^
checkRd: (-1) Fukushima_2011_FieldSampleInstrumentResults.Rd:20: Lost braces
20 | item{Direction}{Direction for the location}
| ^
checkRd: (-1) Fukushima_2011_FieldSampleInstrumentResults.Rd:20: Lost braces
20 | item{Direction}{Direction for the location}
| ^
checkRd: (-1) Fukushima_2011_FieldSampleInstrumentResults.Rd:21: Lost braces
21 | item{Collection Date}{Date of collection}
| ^
checkRd: (-1) Fukushima_2011_FieldSampleInstrumentResults.Rd:21: Lost braces
21 | item{Collection Date}{Date of collection}
| ^
checkRd: (-1) Fukushima_2011_FieldSampleInstrumentResults.Rd:22: Lost braces
22 | item{Source}{Source}
| ^
checkRd: (-1) Fukushima_2011_FieldSampleInstrumentResults.Rd:22: Lost braces
22 | item{Source}{Source}
| ^
checkRd: (-1) Fukushima_2011_FieldSampleInstrumentResults.Rd:23: Lost braces
23 | item{Description}{Description}
| ^
checkRd: (-1) Fukushima_2011_FieldSampleInstrumentResults.Rd:23: Lost braces
23 | item{Description}{Description}
| ^
checkRd: (-1) Fukushima_2011_FieldSampleInstrumentResults.Rd:24: Lost braces
24 | item{Spectra File}{Spectra file}
| ^
checkRd: (-1) Fukushima_2011_FieldSampleInstrumentResults.Rd:24: Lost braces
24 | item{Spectra File}{Spectra file}
| ^
checkRd: (-1) Fukushima_2011_FieldSampleInstrumentResults.Rd:25: Lost braces
25 | item{Sampling Time}{Time of the sampling}
| ^
checkRd: (-1) Fukushima_2011_FieldSampleInstrumentResults.Rd:25: Lost braces
25 | item{Sampling Time}{Time of the sampling}
| ^
checkRd: (-1) Fukushima_2011_FieldSampleInstrumentResults.Rd:26: Lost braces
26 | item{Live Time}{Live time}
| ^
checkRd: (-1) Fukushima_2011_FieldSampleInstrumentResults.Rd:26: Lost braces
26 | item{Live Time}{Live time}
| ^
checkRd: (-1) Fukushima_2011_FieldSampleInstrumentResults.Rd:27: Lost braces
27 | item{Instrument Height}{Instrument height}
| ^
checkRd: (-1) Fukushima_2011_FieldSampleInstrumentResults.Rd:27: Lost braces
27 | item{Instrument Height}{Instrument height}
| ^
checkRd: (-1) Fukushima_2011_FieldSampleInstrumentResults.Rd:28: Lost braces
28 | item{Uncertainty\%}{Percent of uncertainty}
| ^
checkRd: (-1) Fukushima_2011_FieldSampleInstrumentResults.Rd:28: Lost braces
28 | item{Uncertainty\%}{Percent of uncertainty}
| ^
checkRd: (-1) Fukushima_2011_FieldSampleInstrumentResults.Rd:29: Lost braces
29 | item{MDA}{MDA}
| ^
checkRd: (-1) Fukushima_2011_FieldSampleInstrumentResults.Rd:29: Lost braces
29 | item{MDA}{MDA}
| ^
checkRd: (-1) Fukushima_2011_FieldSampleInstrumentResults.Rd:30: Lost braces
30 | item{Method Code}{Method code}
| ^
checkRd: (-1) Fukushima_2011_FieldSampleInstrumentResults.Rd:30: Lost braces
30 | item{Method Code}{Method code}
| ^
checkRd: (-1) Fukushima_2011_FieldSampleInstrumentResults.Rd:31: Lost braces
31 | item{Moisture\%}{Moisture percent}
| ^
checkRd: (-1) Fukushima_2011_FieldSampleInstrumentResults.Rd:31: Lost braces
31 | item{Moisture\%}{Moisture percent}
| ^
checkRd: (-1) Fukushima_2011_FieldSampleInstrumentResults.Rd:32: Lost braces
32 | item{Nuclide}{Nuclide}
| ^
checkRd: (-1) Fukushima_2011_FieldSampleInstrumentResults.Rd:32: Lost braces
32 | item{Nuclide}{Nuclide}
| ^
checkRd: (-1) Fukushima_2011_FieldSampleInstrumentResults.Rd:33: Lost braces
33 | item{Result}{Result}
| ^
checkRd: (-1) Fukushima_2011_FieldSampleInstrumentResults.Rd:33: Lost braces
33 | item{Result}{Result}
| ^
checkRd: (-1) Fukushima_2011_FieldSampleInstrumentResults.Rd:34: Lost braces
34 | item{Unit}{Unit for the result}
| ^
checkRd: (-1) Fukushima_2011_FieldSampleInstrumentResults.Rd:34: Lost braces
34 | item{Unit}{Unit for the result}
| ^
checkRd: (-1) Fukushima_2011_FieldSampleSoilResults_2.Rd:10: Lost braces
10 | item{Analysis Id}{Identification for the analysis}
| ^
checkRd: (-1) Fukushima_2011_FieldSampleSoilResults_2.Rd:10: Lost braces
10 | item{Analysis Id}{Identification for the analysis}
| ^
checkRd: (-1) Fukushima_2011_FieldSampleSoilResults_2.Rd:11: Lost braces
11 | item{Sample Id}{Identification for the sample}
| ^
checkRd: (-1) Fukushima_2011_FieldSampleSoilResults_2.Rd:11: Lost braces
11 | item{Sample Id}{Identification for the sample}
| ^
checkRd: (-1) Fukushima_2011_FieldSampleSoilResults_2.Rd:12: Lost braces
12 | item{Sample#}{Sample number}
| ^
checkRd: (-1) Fukushima_2011_FieldSampleSoilResults_2.Rd:12: Lost braces
12 | item{Sample#}{Sample number}
| ^
checkRd: (-1) Fukushima_2011_FieldSampleSoilResults_2.Rd:13: Lost braces
13 | item{Type}{Source of sample}
| ^
checkRd: (-1) Fukushima_2011_FieldSampleSoilResults_2.Rd:13: Lost braces
13 | item{Type}{Source of sample}
| ^
checkRd: (-1) Fukushima_2011_FieldSampleSoilResults_2.Rd:14: Lost braces
14 | item{Fixed?}{Is the type fixed?}
| ^
checkRd: (-1) Fukushima_2011_FieldSampleSoilResults_2.Rd:14: Lost braces
14 | item{Fixed?}{Is the type fixed?}
| ^
checkRd: (-1) Fukushima_2011_FieldSampleSoilResults_2.Rd:15: Lost braces
15 | item{Latitude}{Latitude for the sample location}
| ^
checkRd: (-1) Fukushima_2011_FieldSampleSoilResults_2.Rd:15: Lost braces
15 | item{Latitude}{Latitude for the sample location}
| ^
checkRd: (-1) Fukushima_2011_FieldSampleSoilResults_2.Rd:16: Lost braces
16 | item{Longitude}{Longitude for the sample location}
| ^
checkRd: (-1) Fukushima_2011_FieldSampleSoilResults_2.Rd:16: Lost braces
16 | item{Longitude}{Longitude for the sample location}
| ^
checkRd: (-1) Fukushima_2011_FieldSampleSoilResults_2.Rd:17: Lost braces
17 | item{Distance(miles)}{Distance in miles}
| ^
checkRd: (-1) Fukushima_2011_FieldSampleSoilResults_2.Rd:17: Lost braces
17 | item{Distance(miles)}{Distance in miles}
| ^
checkRd: (-1) Fukushima_2011_FieldSampleSoilResults_2.Rd:18: Lost braces
18 | item{Bearing}{Bearing for the location}
| ^
checkRd: (-1) Fukushima_2011_FieldSampleSoilResults_2.Rd:18: Lost braces
18 | item{Bearing}{Bearing for the location}
| ^
checkRd: (-1) Fukushima_2011_FieldSampleSoilResults_2.Rd:19: Lost braces
19 | item{Direction}{Direction for the location}
| ^
checkRd: (-1) Fukushima_2011_FieldSampleSoilResults_2.Rd:19: Lost braces
19 | item{Direction}{Direction for the location}
| ^
checkRd: (-1) Fukushima_2011_FieldSampleSoilResults_2.Rd:20: Lost braces
20 | item{Collection Date}{Date of collection}
| ^
checkRd: (-1) Fukushima_2011_FieldSampleSoilResults_2.Rd:20: Lost braces
20 | item{Collection Date}{Date of collection}
| ^
checkRd: (-1) Fukushima_2011_FieldSampleSoilResults_2.Rd:21: Lost braces
21 | item{Source}{Source}
| ^
checkRd: (-1) Fukushima_2011_FieldSampleSoilResults_2.Rd:21: Lost braces
21 | item{Source}{Source}
| ^
checkRd: (-1) Fukushima_2011_FieldSampleSoilResults_2.Rd:22: Lost braces
22 | item{Description}{Description}
| ^
checkRd: (-1) Fukushima_2011_FieldSampleSoilResults_2.Rd:22: Lost braces
22 | item{Description}{Description}
| ^
checkRd: (-1) Fukushima_2011_FieldSampleSoilResults_2.Rd:23: Lost braces
23 | item{Weight}{Filter type}
| ^
checkRd: (-1) Fukushima_2011_FieldSampleSoilResults_2.Rd:23: Lost braces
23 | item{Weight}{Filter type}
| ^
checkRd: (-1) Fukushima_2011_FieldSampleSoilResults_2.Rd:24: Lost braces
24 | item{Weight Unit}{Volume}
| ^
checkRd: (-1) Fukushima_2011_FieldSampleSoilResults_2.Rd:24: Lost braces
24 | item{Weight Unit}{Volume}
| ^
checkRd: (-1) Fukushima_2011_FieldSampleSoilResults_2.Rd:25: Lost braces
25 | item{Depth}{Unit of measurement for volume}
| ^
checkRd: (-1) Fukushima_2011_FieldSampleSoilResults_2.Rd:25: Lost braces
25 | item{Depth}{Unit of measurement for volume}
| ^
checkRd: (-1) Fukushima_2011_FieldSampleSoilResults_2.Rd:26: Lost braces
26 | item{Surface Area(cm2)}{Volume}
| ^
checkRd: (-1) Fukushima_2011_FieldSampleSoilResults_2.Rd:26: Lost braces
26 | item{Surface Area(cm2)}{Volume}
| ^
checkRd: (-1) Fukushima_2011_FieldSampleSoilResults_2.Rd:27: Lost braces
27 | item{Shape}{Unit of measurement for volume}
| ^
checkRd: (-1) Fukushima_2011_FieldSampleSoilResults_2.Rd:27: Lost braces
27 | item{Shape}{Unit of measurement for volume}
| ^
checkRd: (-1) Fukushima_2011_FieldSampleSoilResults_2.Rd:28: Lost braces
28 | item{Uncertainty\%}{Percent of uncertainty}
| ^
checkRd: (-1) Fukushima_2011_FieldSampleSoilResults_2.Rd:28: Lost braces
28 | item{Uncertainty\%}{Percent of uncertainty}
| ^
checkRd: (-1) Fukushima_2011_FieldSampleSoilResults_2.Rd:29: Lost braces
29 | item{MDA}{MDA}
| ^
checkRd: (-1) Fukushima_2011_FieldSampleSoilResults_2.Rd:29: Lost braces
29 | item{MDA}{MDA}
| ^
checkRd: (-1) Fukushima_2011_FieldSampleSoilResults_2.Rd:30: Lost braces
30 | item{Method Code}{Method code}
| ^
checkRd: (-1) Fukushima_2011_FieldSampleSoilResults_2.Rd:30: Lost braces
30 | item{Method Code}{Method code}
| ^
checkRd: (-1) Fukushima_2011_FieldSampleSoilResults_2.Rd:31: Lost braces
31 | item{Moisture\%}{Moisture percent}
| ^
checkRd: (-1) Fukushima_2011_FieldSampleSoilResults_2.Rd:31: Lost braces
31 | item{Moisture\%}{Moisture percent}
| ^
checkRd: (-1) Fukushima_2011_FieldSampleSoilResults_2.Rd:32: Lost braces
32 | item{Nuclide}{Nuclide}
| ^
checkRd: (-1) Fukushima_2011_FieldSampleSoilResults_2.Rd:32: Lost braces
32 | item{Nuclide}{Nuclide}
| ^
checkRd: (-1) Fukushima_2011_FieldSampleSoilResults_2.Rd:33: Lost braces
33 | item{Result}{Result}
| ^
checkRd: (-1) Fukushima_2011_FieldSampleSoilResults_2.Rd:33: Lost braces
33 | item{Result}{Result}
| ^
checkRd: (-1) Fukushima_2011_FieldSampleSoilResults_2.Rd:34: Lost braces
34 | item{Unit}{Unit for the result}
| ^
checkRd: (-1) Fukushima_2011_FieldSampleSoilResults_2.Rd:34: Lost braces
34 | item{Unit}{Unit for the result}
| ^
checkRd: (-1) Ia.Rd:10: Lost braces
10 | item{Curve number}{Runoff curve number}
| ^
checkRd: (-1) Ia.Rd:10: Lost braces
10 | item{Curve number}{Runoff curve number}
| ^
checkRd: (-1) Ia.Rd:11: Lost braces
11 | item{Ia (in)}{Initial abstraction in inches}
| ^
checkRd: (-1) Ia.Rd:11: Lost braces
11 | item{Ia (in)}{Initial abstraction in inches}
| ^
checkRd: (-1) c_agricultural.Rd:10: Lost braces
10 | item{Topography and Vegetation}{Site topography}
| ^
checkRd: (-1) c_agricultural.Rd:10: Lost braces
10 | item{Topography and Vegetation}{Site topography}
| ^
checkRd: (-1) c_agricultural.Rd:11: Lost braces
11 | item{Open Sandy Loam - Runoff Coefficient C}{C value for sandy loam soil}
| ^
checkRd: (-1) c_agricultural.Rd:11: Lost braces
11 | item{Open Sandy Loam - Runoff Coefficient C}{C value for sandy loam soil}
| ^
checkRd: (-1) c_agricultural.Rd:12: Lost braces
12 | item{Clay and Silt Loam - Runoff Coefficient C}{C value for clay and silt loam soil}
| ^
checkRd: (-1) c_agricultural.Rd:12: Lost braces
12 | item{Clay and Silt Loam - Runoff Coefficient C}{C value for clay and silt loam soil}
| ^
checkRd: (-1) c_agricultural.Rd:13: Lost braces
13 | item{Tight Clay – Runoff Coefficient C}{C value for tight clay soil}
| ^
checkRd: (-1) c_agricultural.Rd:13: Lost braces
13 | item{Tight Clay – Runoff Coefficient C}{C value for tight clay soil}
| ^
checkRd: (-1) c_urban.Rd:10: Lost braces
10 | item{Type of drainage area}{Drainage area type}
| ^
checkRd: (-1) c_urban.Rd:10: Lost braces
10 | item{Type of drainage area}{Drainage area type}
| ^
checkRd: (-1) c_urban.Rd:11: Lost braces
11 | item{Minimum Runoff Coefficient C}{Minimum C value}
| ^
checkRd: (-1) c_urban.Rd:11: Lost braces
11 | item{Minimum Runoff Coefficient C}{Minimum C value}
| ^
checkRd: (-1) c_urban.Rd:12: Lost braces
12 | item{Average Runoff Coefficient C}{Average C value}
| ^
checkRd: (-1) c_urban.Rd:12: Lost braces
12 | item{Average Runoff Coefficient C}{Average C value}
| ^
checkRd: (-1) c_urban.Rd:13: Lost braces
13 | item{Maximum Runoff Coefficient C}{Maximum C value}
| ^
checkRd: (-1) c_urban.Rd:13: Lost braces
13 | item{Maximum Runoff Coefficient C}{Maximum C value}
| ^
checkRd: (-1) c_urban.Rd:14: Lost braces
14 | item{Runoff coefficient C}{Range of C values}
| ^
checkRd: (-1) c_urban.Rd:14: Lost braces
14 | item{Runoff coefficient C}{Range of C values}
| ^
checkRd: (-1) cn_agricultural.Rd:10: Lost braces
10 | item{Cover type}{Type of agricultural ground cover}
| ^
checkRd: (-1) cn_agricultural.Rd:10: Lost braces
10 | item{Cover type}{Type of agricultural ground cover}
| ^
checkRd: (-1) cn_agricultural.Rd:11: Lost braces
11 | item{Treatment *2}{Agricultural land treatment}
| ^
checkRd: (-1) cn_agricultural.Rd:11: Lost braces
11 | item{Treatment *2}{Agricultural land treatment}
| ^
checkRd: (-1) cn_agricultural.Rd:12: Lost braces
12 | item{Hydrologic condition *3}{Hydrologic condition}
| ^
checkRd: (-1) cn_agricultural.Rd:12: Lost braces
12 | item{Hydrologic condition *3}{Hydrologic condition}
| ^
checkRd: (-1) cn_agricultural.Rd:13: Lost braces
13 | item{Curve numbers for hydrologic soil group A}{Curve numbers for soil group A}
| ^
checkRd: (-1) cn_agricultural.Rd:13: Lost braces
13 | item{Curve numbers for hydrologic soil group A}{Curve numbers for soil group A}
| ^
checkRd: (-1) cn_agricultural.Rd:14: Lost braces
14 | item{Curve numbers for hydrologic soil group B}{Curve numbers for soil group B}
| ^
checkRd: (-1) cn_agricultural.Rd:14: Lost braces
14 | item{Curve numbers for hydrologic soil group B}{Curve numbers for soil group B}
| ^
checkRd: (-1) cn_agricultural.Rd:15: Lost braces
15 | item{Curve numbers for hydrologic soil group C}{Curve numbers for soil group C}
| ^
checkRd: (-1) cn_agricultural.Rd:15: Lost braces
15 | item{Curve numbers for hydrologic soil group C}{Curve numbers for soil group C}
| ^
checkRd: (-1) cn_agricultural.Rd:16: Lost braces
16 | item{Curve numbers for hydrologic soil group D}{Curve numbers for soil group D}
| ^
checkRd: (-1) cn_agricultural.Rd:16: Lost braces
16 | item{Curve numbers for hydrologic soil group D}{Curve numbers for soil group D}
| ^
checkRd: (-1) cn_agricultural_notes.Rd:10: Lost braces
10 | item{Note Number (*)}{The note numbers}
| ^
checkRd: (-1) cn_agricultural_notes.Rd:10: Lost braces
10 | item{Note Number (*)}{The note numbers}
| ^
checkRd: (-1) cn_agricultural_notes.Rd:11: Lost braces
11 | item{Notes}{The notes}
| ^
checkRd: (-1) cn_agricultural_notes.Rd:11: Lost braces
11 | item{Notes}{The notes}
| ^
checkRd: (-1) cn_arid_semiarid.Rd:10: Lost braces
10 | item{Cover type}{Type of agricultural ground cover}
| ^
checkRd: (-1) cn_arid_semiarid.Rd:10: Lost braces
10 | item{Cover type}{Type of agricultural ground cover}
| ^
checkRd: (-1) cn_arid_semiarid.Rd:11: Lost braces
11 | item{Hydrologic condition *2}{Hydrologic condition}
| ^
checkRd: (-1) cn_arid_semiarid.Rd:11: Lost braces
11 | item{Hydrologic condition *2}{Hydrologic condition}
| ^
checkRd: (-1) cn_arid_semiarid.Rd:12: Lost braces
12 | item{Curve numbers for hydrologic soil group A *3}{Curve numbers for soil group A}
| ^
checkRd: (-1) cn_arid_semiarid.Rd:12: Lost braces
12 | item{Curve numbers for hydrologic soil group A *3}{Curve numbers for soil group A}
| ^
checkRd: (-1) cn_arid_semiarid.Rd:13: Lost braces
13 | item{Curve numbers for hydrologic soil group B}{Curve numbers for soil group B}
| ^
checkRd: (-1) cn_arid_semiarid.Rd:13: Lost braces
13 | item{Curve numbers for hydrologic soil group B}{Curve numbers for soil group B}
| ^
checkRd: (-1) cn_arid_semiarid.Rd:14: Lost braces
14 | item{Curve numbers for hydrologic soil group C}{Curve numbers for soil group C}
| ^
checkRd: (-1) cn_arid_semiarid.Rd:14: Lost braces
14 | item{Curve numbers for hydrologic soil group C}{Curve numbers for soil group C}
| ^
checkRd: (-1) cn_arid_semiarid.Rd:15: Lost braces
15 | item{Curve numbers for hydrologic soil group D}{Curve numbers for soil group D}
| ^
checkRd: (-1) cn_arid_semiarid.Rd:15: Lost braces
15 | item{Curve numbers for hydrologic soil group D}{Curve numbers for soil group D}
| ^
checkRd: (-1) cn_arid_semiarid_notes.Rd:10: Lost braces
10 | item{Note Number (*)}{The note numbers}
| ^
checkRd: (-1) cn_arid_semiarid_notes.Rd:10: Lost braces
10 | item{Note Number (*)}{The note numbers}
| ^
checkRd: (-1) cn_arid_semiarid_notes.Rd:11: Lost braces
11 | item{Notes}{The notes}
| ^
checkRd: (-1) cn_arid_semiarid_notes.Rd:11: Lost braces
11 | item{Notes}{The notes}
| ^
checkRd: (-1) cn_other_agricultural.Rd:10: Lost braces
10 | item{Cover type}{Type of agricultural ground cover}
| ^
checkRd: (-1) cn_other_agricultural.Rd:10: Lost braces
10 | item{Cover type}{Type of agricultural ground cover}
| ^
checkRd: (-1) cn_other_agricultural.Rd:11: Lost braces
11 | item{Hydrologic condition *3}{Hydrologic condition}
| ^
checkRd: (-1) cn_other_agricultural.Rd:11: Lost braces
11 | item{Hydrologic condition *3}{Hydrologic condition}
| ^
checkRd: (-1) cn_other_agricultural.Rd:12: Lost braces
12 | item{Curve numbers for hydrologic soil group A}{Curve numbers for soil group A}
| ^
checkRd: (-1) cn_other_agricultural.Rd:12: Lost braces
12 | item{Curve numbers for hydrologic soil group A}{Curve numbers for soil group A}
| ^
checkRd: (-1) cn_other_agricultural.Rd:13: Lost braces
13 | item{Notes}{Any notes for soil group A}
| ^
checkRd: (-1) cn_other_agricultural.Rd:13: Lost braces
13 | item{Notes}{Any notes for soil group A}
| ^
checkRd: (-1) cn_other_agricultural.Rd:14: Lost braces
14 | item{Curve numbers for hydrologic soil group B}{Curve numbers for soil group B}
| ^
checkRd: (-1) cn_other_agricultural.Rd:14: Lost braces
14 | item{Curve numbers for hydrologic soil group B}{Curve numbers for soil group B}
| ^
checkRd: (-1) cn_other_agricultural.Rd:15: Lost braces
15 | item{Curve numbers for hydrologic soil group C}{Curve numbers for soil group C}
| ^
checkRd: (-1) cn_other_agricultural.Rd:15: Lost braces
15 | item{Curve numbers for hydrologic soil group C}{Curve numbers for soil group C}
| ^
checkRd: (-1) cn_other_agricultural.Rd:16: Lost braces
16 | item{Curve numbers for hydrologic soil group D}{Curve numbers for soil group D}
| ^
checkRd: (-1) cn_other_agricultural.Rd:16: Lost braces
16 | item{Curve numbers for hydrologic soil group D}{Curve numbers for soil group D}
| ^
checkRd: (-1) cn_other_agricultural_notes.Rd:10: Lost braces
10 | item{Note Number (*)}{The note numbers}
| ^
checkRd: (-1) cn_other_agricultural_notes.Rd:10: Lost braces
10 | item{Note Number (*)}{The note numbers}
| ^
checkRd: (-1) cn_other_agricultural_notes.Rd:11: Lost braces
11 | item{Notes}{The notes}
| ^
checkRd: (-1) cn_other_agricultural_notes.Rd:11: Lost braces
11 | item{Notes}{The notes}
| ^
checkRd: (-1) cn_urban.Rd:10: Lost braces
10 | item{Cover type and hydrologic condition}{Urban cover type and the hydrologic condition}
| ^
checkRd: (-1) cn_urban.Rd:10: Lost braces
10 | item{Cover type and hydrologic condition}{Urban cover type and the hydrologic condition}
| ^
checkRd: (-1) cn_urban.Rd:11: Lost braces
11 | item{Average percent impervious area *2}{The average impervious area percent, if any}
| ^
checkRd: (-1) cn_urban.Rd:11: Lost braces
11 | item{Average percent impervious area *2}{The average impervious area percent, if any}
| ^
checkRd: (-1) cn_urban.Rd:12: Lost braces
12 | item{Curve numbers for hydrologic soil group A}{Curve numbers for soil group A}
| ^
checkRd: (-1) cn_urban.Rd:12: Lost braces
12 | item{Curve numbers for hydrologic soil group A}{Curve numbers for soil group A}
| ^
checkRd: (-1) cn_urban.Rd:13: Lost braces
13 | item{Curve numbers for hydrologic soil group B}{Curve numbers for soil group B}
| ^
checkRd: (-1) cn_urban.Rd:13: Lost braces
13 | item{Curve numbers for hydrologic soil group B}{Curve numbers for soil group B}
| ^
checkRd: (-1) cn_urban.Rd:14: Lost braces
14 | item{Curve numbers for hydrologic soil group C}{Curve numbers for soil group C}
| ^
checkRd: (-1) cn_urban.Rd:14: Lost braces
14 | item{Curve numbers for hydrologic soil group C}{Curve numbers for soil group C}
| ^
checkRd: (-1) cn_urban.Rd:15: Lost braces
15 | item{Curve numbers for hydrologic soil group D}{Curve numbers for soil group D}
| ^
checkRd: (-1) cn_urban.Rd:15: Lost braces
15 | item{Curve numbers for hydrologic soil group D}{Curve numbers for soil group D}
| ^
checkRd: (-1) cn_urban_notes.Rd:10: Lost braces
10 | item{Note Number (*)}{The note numbers}
| ^
checkRd: (-1) cn_urban_notes.Rd:10: Lost braces
10 | item{Note Number (*)}{The note numbers}
| ^
checkRd: (-1) cn_urban_notes.Rd:11: Lost braces
11 | item{Notes}{The notes}
| ^
checkRd: (-1) cn_urban_notes.Rd:11: Lost braces
11 | item{Notes}{The notes}
| ^
checkRd: (-1) duh_gamma.Rd:10: Lost braces
10 | item{m}{"gamma equation shape factor"}
| ^
checkRd: (-1) duh_gamma.Rd:10: Lost braces
10 | item{m}{"gamma equation shape factor"}
| ^
checkRd: (-1) duh_gamma.Rd:11: Lost braces
11 | item{PRF}{"peak rate factor (PRF)"}
| ^
checkRd: (-1) duh_gamma.Rd:11: Lost braces
11 | item{PRF}{"peak rate factor (PRF)"}
| ^
checkRd: (-1) duh_gamma.Rd:15: Lost braces
15 | United States Department of Agriculture (USDA) Natural Resources Conservation Service (NRCS), |emph{National Engineering Handbook}, "Part 630 Hydrology Chapter 16 Hydrographs", Pages 16-4, 16-9, 16-15, \url{https://directives.sc.egov.usda.gov/OpenNonWebContent.aspx?content=17755.wba}
| ^
checkRd: (-1) gases.Rd:6: Lost braces; missing escapes or markup?
6 | \title{Gases at Standard Temperature and Pressure (STP) {Wikipedia}}
| ^
checkRd: (-1) gases_plain.Rd:6: Lost braces; missing escapes or markup?
6 | \title{Gases at Standard Temperature and Pressure (STP) {Wikipedia} -- Plain}
| ^
checkRd: (-1) greenhouse_gases_cloudy_notes_wikipedia.Rd:10: Lost braces
10 | item{Note Number (*)}{The note numbers}
| ^
checkRd: (-1) greenhouse_gases_cloudy_notes_wikipedia.Rd:10: Lost braces
10 | item{Note Number (*)}{The note numbers}
| ^
checkRd: (-1) greenhouse_gases_cloudy_notes_wikipedia.Rd:11: Lost braces
11 | item{Notes}{The notes}
| ^
checkRd: (-1) greenhouse_gases_cloudy_notes_wikipedia.Rd:11: Lost braces
11 | item{Notes}{The notes}
| ^
checkRd: (-1) hsg.Rd:10: Lost braces
10 | item{Hydrologic Soil Group (HSG)}{Hydrologic soil group}
| ^
checkRd: (-1) hsg.Rd:10: Lost braces
10 | item{Hydrologic Soil Group (HSG)}{Hydrologic soil group}
| ^
checkRd: (-1) hsg.Rd:11: Lost braces
11 | item{Soil textures}{Texture of soil}
| ^
checkRd: (-1) hsg.Rd:11: Lost braces
11 | item{Soil textures}{Texture of soil}
| ^
checkRd: (-1) hsg_definitions.Rd:10: Lost braces
10 | item{Definitions}{Definition of the hydrologic soil groups}
| ^
checkRd: (-1) hsg_definitions.Rd:10: Lost braces
10 | item{Definitions}{Definition of the hydrologic soil groups}
| ^
checkRd: (-1) hsg_definitions.Rd:11: Lost braces
11 | item{Drainage}{Drainage information for the hydrologic soil groups, if any}
| ^
checkRd: (-1) hsg_definitions.Rd:11: Lost braces
11 | item{Drainage}{Drainage information for the hydrologic soil groups, if any}
| ^
checkRd: (-1) nsheetflow.Rd:10: Lost braces
10 | item{Surface description}{Description of the surface}
| ^
checkRd: (-1) nsheetflow.Rd:10: Lost braces
10 | item{Surface description}{Description of the surface}
| ^
checkRd: (-1) nsheetflow.Rd:11: Lost braces
11 | item{"n *1}{Manning's roughness coefficient}
| ^
checkRd: (-1) nsheetflow.Rd:11: Lost braces
11 | item{"n *1}{Manning's roughness coefficient}
| ^
checkRd: (-1) nsheetflow_notes.Rd:10: Lost braces
10 | item{Note Number (*)}{The note numbers}
| ^
checkRd: (-1) nsheetflow_notes.Rd:10: Lost braces
10 | item{Note Number (*)}{The note numbers}
| ^
checkRd: (-1) nsheetflow_notes.Rd:11: Lost braces
11 | item{Notes}{The notes}
| ^
checkRd: (-1) nsheetflow_notes.Rd:11: Lost braces
11 | item{Notes}{The notes}
| ^
checkRd: (-1) raddata_US_Fukushima_2011.Rd:10: Lost braces
10 | item{Analyte ID}{Identification for the analyte}
| ^
checkRd: (-1) raddata_US_Fukushima_2011.Rd:10: Lost braces
10 | item{Analyte ID}{Identification for the analyte}
| ^
checkRd: (-1) raddata_US_Fukushima_2011.Rd:11: Lost braces
11 | item{Analyte Name}{Analyte name}
| ^
checkRd: (-1) raddata_US_Fukushima_2011.Rd:11: Lost braces
11 | item{Analyte Name}{Analyte name}
| ^
checkRd: (-1) raddata_US_Fukushima_2011.Rd:12: Lost braces
12 | item{Result Amount}{Amount of the analyte}
| ^
checkRd: (-1) raddata_US_Fukushima_2011.Rd:12: Lost braces
12 | item{Result Amount}{Amount of the analyte}
| ^
checkRd: (-1) raddata_US_Fukushima_2011.Rd:13: Lost braces
13 | item{Result Unit}{Unit of measurement for the amount}
| ^
checkRd: (-1) raddata_US_Fukushima_2011.Rd:13: Lost braces
13 | item{Result Unit}{Unit of measurement for the amount}
| ^
checkRd: (-1) raddata_US_Fukushima_2011.Rd:14: Lost braces
14 | item{Collect End}{End date for the collection}
| ^
checkRd: (-1) raddata_US_Fukushima_2011.Rd:14: Lost braces
14 | item{Collect End}{End date for the collection}
| ^
checkRd: (-1) raddata_US_Fukushima_2011.Rd:15: Lost braces
15 | item{Result Date}{Date of the results}
| ^
checkRd: (-1) raddata_US_Fukushima_2011.Rd:15: Lost braces
15 | item{Result Date}{Date of the results}
| ^
checkRd: (-1) raddata_US_Fukushima_2011.Rd:16: Lost braces
16 | item{Mat Desc}{Description of the material}
| ^
checkRd: (-1) raddata_US_Fukushima_2011.Rd:16: Lost braces
16 | item{Mat Desc}{Description of the material}
| ^
checkRd: (-1) raddata_US_Fukushima_2011.Rd:17: Lost braces
17 | item{Samp Size}{Sample size}
| ^
checkRd: (-1) raddata_US_Fukushima_2011.Rd:17: Lost braces
17 | item{Samp Size}{Sample size}
| ^
checkRd: (-1) raddata_US_Fukushima_2011.Rd:18: Lost braces
18 | item{Samp Unit}{Unit of measurement for the sample}
| ^
checkRd: (-1) raddata_US_Fukushima_2011.Rd:18: Lost braces
18 | item{Samp Unit}{Unit of measurement for the sample}
| ^
checkRd: (-1) raddata_US_Fukushima_2011.Rd:19: Lost braces
19 | item{Location 1 (City)}{Location 1 city name}
| ^
checkRd: (-1) raddata_US_Fukushima_2011.Rd:19: Lost braces
19 | item{Location 1 (City)}{Location 1 city name}
| ^
checkRd: (-1) raddata_US_Fukushima_2011.Rd:20: Lost braces
20 | item{Location 1 (State)}{Location 1 State/Commonwealth name}
| ^
checkRd: (-1) raddata_US_Fukushima_2011.Rd:20: Lost braces
20 | item{Location 1 (State)}{Location 1 State/Commonwealth name}
| ^
checkRd: (-1) raddata_US_Fukushima_2011.Rd:21: Lost braces
21 | item{Location 1 (Latitude)}{Location 1 latitude}
| ^
checkRd: (-1) raddata_US_Fukushima_2011.Rd:21: Lost braces
21 | item{Location 1 (Latitude)}{Location 1 latitude}
| ^
checkRd: (-1) raddata_US_Fukushima_2011.Rd:22: Lost braces
22 | item{Location 1 (Longitude)}{Location 1 longitude}
| ^
checkRd: (-1) raddata_US_Fukushima_2011.Rd:22: Lost braces
22 | item{Location 1 (Longitude)}{Location 1 longitude}
| ^
checkRd: (-1) raddata_usa_territories_Fukushima_2011.Rd:10: Lost braces
10 | item{State Abbreviation}{Nation State or US State/Commonwealth abbreviation}
| ^
checkRd: (-1) raddata_usa_territories_Fukushima_2011.Rd:10: Lost braces
10 | item{State Abbreviation}{Nation State or US State/Commonwealth abbreviation}
| ^
checkRd: (-1) raddata_usa_territories_Fukushima_2011.Rd:11: Lost braces
11 | item{City Name}{Name of the city}
| ^
checkRd: (-1) raddata_usa_territories_Fukushima_2011.Rd:11: Lost braces
11 | item{City Name}{Name of the city}
| ^
checkRd: (-1) raddata_usa_territories_Fukushima_2011.Rd:12: Lost braces
12 | item{Analyte Name}{Name of the analyte}
| ^
checkRd: (-1) raddata_usa_territories_Fukushima_2011.Rd:12: Lost braces
12 | item{Analyte Name}{Name of the analyte}
| ^
checkRd: (-1) raddata_usa_territories_Fukushima_2011.Rd:13: Lost braces
13 | item{Analyte ID}{Identification for the analyte}
| ^
checkRd: (-1) raddata_usa_territories_Fukushima_2011.Rd:13: Lost braces
13 | item{Analyte ID}{Identification for the analyte}
| ^
checkRd: (-1) raddata_usa_territories_Fukushima_2011.Rd:14: Lost braces
14 | item{Result Amount}{Amount of the analyte}
| ^
checkRd: (-1) raddata_usa_territories_Fukushima_2011.Rd:14: Lost braces
14 | item{Result Amount}{Amount of the analyte}
| ^
checkRd: (-1) raddata_usa_territories_Fukushima_2011.Rd:15: Lost braces
15 | item{Result Unit}{Unit of measurement for the amount}
| ^
checkRd: (-1) raddata_usa_territories_Fukushima_2011.Rd:15: Lost braces
15 | item{Result Unit}{Unit of measurement for the amount}
| ^
checkRd: (-1) raddata_usa_territories_Fukushima_2011.Rd:16: Lost braces
16 | item{Media Description}{Description of the medium}
| ^
checkRd: (-1) raddata_usa_territories_Fukushima_2011.Rd:16: Lost braces
16 | item{Media Description}{Description of the medium}
| ^
checkRd: (-1) raddata_usa_territories_Fukushima_2011.Rd:17: Lost braces
17 | item{Collection Start Date}{Start date for the collection}
| ^
checkRd: (-1) raddata_usa_territories_Fukushima_2011.Rd:17: Lost braces
17 | item{Collection Start Date}{Start date for the collection}
| ^
checkRd: (-1) raddata_usa_territories_Fukushima_2011.Rd:18: Lost braces
18 | item{Collection Ending Date}{End date for the collection}
| ^
checkRd: (-1) raddata_usa_territories_Fukushima_2011.Rd:18: Lost braces
18 | item{Collection Ending Date}{End date for the collection}
| ^
checkRd: (-1) raddata_usa_territories_Fukushima_2011.Rd:19: Lost braces
19 | item{Result Date}{Date of the results}
| ^
checkRd: (-1) raddata_usa_territories_Fukushima_2011.Rd:19: Lost braces
19 | item{Result Date}{Date of the results}
| ^
checkRd: (-1) raddata_usa_territories_Fukushima_2011.Rd:20: Lost braces
20 | item{Surface Water Source}{Source of the surface water}
| ^
checkRd: (-1) raddata_usa_territories_Fukushima_2011.Rd:20: Lost braces
20 | item{Surface Water Source}{Source of the surface water}
| ^
checkRd: (-1) raddata_usa_territories_Fukushima_2011.Rd:21: Lost braces
21 | item{Half Life}{Half-life of the analyte}
| ^
checkRd: (-1) raddata_usa_territories_Fukushima_2011.Rd:21: Lost braces
21 | item{Half Life}{Half-life of the analyte}
| ^
checkRd: (-1) raddata_usa_territories_Fukushima_2011.Rd:22: Lost braces
22 | item{Half Life Time Unit}{Unit of measurement for the half-life}
| ^
checkRd: (-1) raddata_usa_territories_Fukushima_2011.Rd:22: Lost braces
22 | item{Half Life Time Unit}{Unit of measurement for the half-life}
| ^
checkRd: (-1) raddata_usa_territories_Fukushima_2011.Rd:23: Lost braces
23 | item{Location Number-2}{Location number}
| ^
checkRd: (-1) raddata_usa_territories_Fukushima_2011.Rd:23: Lost braces
23 | item{Location Number-2}{Location number}
| ^
checkRd: (-1) raddata_usa_territories_Fukushima_2011.Rd:24: Lost braces
24 | item{Project Number-2}{Project number-2}
| ^
checkRd: (-1) raddata_usa_territories_Fukushima_2011.Rd:24: Lost braces
24 | item{Project Number-2}{Project number-2}
| ^
checkRd: (-1) raddata_usa_territories_Fukushima_2011.Rd:25: Lost braces
25 | item{Combined Standard Uncertainty}{Combined standard uncertainty}
| ^
checkRd: (-1) raddata_usa_territories_Fukushima_2011.Rd:25: Lost braces
25 | item{Combined Standard Uncertainty}{Combined standard uncertainty}
| ^
checkRd: (-1) raddata_usa_territories_Fukushima_2011.Rd:26: Lost braces
26 | item{Minimum Detection Concentration}{Minimum detectable concentration}
| ^
checkRd: (-1) raddata_usa_territories_Fukushima_2011.Rd:26: Lost braces
26 | item{Minimum Detection Concentration}{Minimum detectable concentration}
| ^
checkRd: (-1) raddata_usa_territories_Fukushima_2011.Rd:27: Lost braces
27 | item{Analysis Number-2}{Analysis number}
| ^
checkRd: (-1) raddata_usa_territories_Fukushima_2011.Rd:27: Lost braces
27 | item{Analysis Number-2}{Analysis number}
| ^
checkRd: (-1) raddata_usa_territories_Fukushima_2011.Rd:28: Lost braces
28 | item{Analyte Type}{Type of analyte}
| ^
checkRd: (-1) raddata_usa_territories_Fukushima_2011.Rd:28: Lost braces
28 | item{Analyte Type}{Type of analyte}
| ^
checkRd: (-1) raddata_usa_territories_Fukushima_2011.Rd:29: Lost braces
29 | item{Ana Proc Name}{Analytical procedure name}
| ^
checkRd: (-1) raddata_usa_territories_Fukushima_2011.Rd:29: Lost braces
29 | item{Ana Proc Name}{Analytical procedure name}
| ^
checkRd: (-1) raddata_usa_territories_Fukushima_2011.Rd:30: Lost braces
30 | item{Matrix ID}{Matrix identification}
| ^
checkRd: (-1) raddata_usa_territories_Fukushima_2011.Rd:30: Lost braces
30 | item{Matrix ID}{Matrix identification}
| ^
checkRd: (-1) raddata_usa_territories_Fukushima_2011.Rd:31: Lost braces
31 | item{Project Number-3}{Project number-3}
| ^
checkRd: (-1) raddata_usa_territories_Fukushima_2011.Rd:31: Lost braces
31 | item{Project Number-3}{Project number-3}
| ^
checkRd: (-1) raddata_usa_territories_Fukushima_2011.Rd:32: Lost braces
32 | item{Location Number}{Location number}
| ^
checkRd: (-1) raddata_usa_territories_Fukushima_2011.Rd:32: Lost braces
32 | item{Location Number}{Location number}
| ^
checkRd: (-1) raddata_usa_territories_Fukushima_2011.Rd:33: Lost braces
33 | item{Sample ID}{Sample identification}
| ^
checkRd: (-1) raddata_usa_territories_Fukushima_2011.Rd:33: Lost braces
33 | item{Sample ID}{Sample identification}
| ^
checkRd: (-1) raddata_usa_territories_Fukushima_2011.Rd:34: Lost braces
34 | item{Sample Size}{Sample size}
| ^
checkRd: (-1) raddata_usa_territories_Fukushima_2011.Rd:34: Lost braces
34 | item{Sample Size}{Sample size}
| ^
checkRd: (-1) raddata_usa_territories_Fukushima_2011.Rd:35: Lost braces
35 | item{Sample Unit}{Unit of measurement for the sample}
| ^
checkRd: (-1) raddata_usa_territories_Fukushima_2011.Rd:35: Lost braces
35 | item{Sample Unit}{Unit of measurement for the sample}
| ^
checkRd: (-1) raddata_usa_territories_Fukushima_2011.Rd:36: Lost braces
36 | item{Analysis Number}{Analysis number}
| ^
checkRd: (-1) raddata_usa_territories_Fukushima_2011.Rd:36: Lost braces
36 | item{Analysis Number}{Analysis number}
| ^
checkRd: (-1) raddata_usa_territories_Fukushima_2011.Rd:37: Lost braces
37 | item{Analysis Size}{Analysis size}
| ^
checkRd: (-1) raddata_usa_territories_Fukushima_2011.Rd:37: Lost braces
37 | item{Analysis Size}{Analysis size}
| ^
checkRd: (-1) raddata_usa_territories_Fukushima_2011.Rd:38: Lost braces
38 | item{Analysis Unit}{Unit of measurement for the analysis}
| ^
checkRd: (-1) raddata_usa_territories_Fukushima_2011.Rd:38: Lost braces
38 | item{Analysis Unit}{Unit of measurement for the analysis}
| ^
checkRd: (-1) raddata_usa_territories_Fukushima_2011.Rd:39: Lost braces
39 | item{Analysis Size 2}{Analysis size-2}
| ^
checkRd: (-1) raddata_usa_territories_Fukushima_2011.Rd:39: Lost braces
39 | item{Analysis Size 2}{Analysis size-2}
| ^
checkRd: (-1) raddata_usa_territories_Fukushima_2011.Rd:40: Lost braces
40 | item{Analysis Unit 2}{Unit of measurement for the analysis-2}
| ^
checkRd: (-1) raddata_usa_territories_Fukushima_2011.Rd:40: Lost braces
40 | item{Analysis Unit 2}{Unit of measurement for the analysis-2}
| ^
checkRd: (-1) raddata_usa_territories_Fukushima_2011.Rd:41: Lost braces
41 | item{Analysis Proc Number}{Analysis procedure number}
| ^
checkRd: (-1) raddata_usa_territories_Fukushima_2011.Rd:41: Lost braces
41 | item{Analysis Proc Number}{Analysis procedure number}
| ^
checkRd: (-1) raddata_usa_territories_Fukushima_2011.Rd:42: Lost braces
42 | item{Proc Type ID}{Identification of the procedure type}
| ^
checkRd: (-1) raddata_usa_territories_Fukushima_2011.Rd:42: Lost braces
42 | item{Proc Type ID}{Identification of the procedure type}
| ^
checkRd: (-1) raddata_usa_territories_Fukushima_2011.Rd:43: Lost braces
43 | item{Run Number}{Run number}
| ^
checkRd: (-1) raddata_usa_territories_Fukushima_2011.Rd:43: Lost braces
43 | item{Run Number}{Run number}
| ^
checkRd: (-1) raddata_usa_territories_Fukushima_2011.Rd:44: Lost braces
44 | item{Detection Number}{Detection number}
| ^
checkRd: (-1) raddata_usa_territories_Fukushima_2011.Rd:44: Lost braces
44 | item{Detection Number}{Detection number}
| ^
checkRd: (-1) raddata_usa_territories_Fukushima_2011.Rd:45: Lost braces
45 | item{Run Start}{Start of the run}
| ^
checkRd: (-1) raddata_usa_territories_Fukushima_2011.Rd:45: Lost braces
45 | item{Run Start}{Start of the run}
| ^
checkRd: (-1) raddata_usa_territories_Fukushima_2011.Rd:46: Lost braces
46 | item{Duration}{Duration of the run}
| ^
checkRd: (-1) raddata_usa_territories_Fukushima_2011.Rd:46: Lost braces
46 | item{Duration}{Duration of the run}
| ^
checkRd: (-1) raddata_usa_territories_Fukushima_2011.Rd:47: Lost braces
47 | item{Project Number}{Project number}
| ^
checkRd: (-1) raddata_usa_territories_Fukushima_2011.Rd:47: Lost braces
47 | item{Project Number}{Project number}
| ^
checkRd: (-1) raddata_usa_territories_Fukushima_2011.Rd:48: Lost braces
48 | item{Study Number}{Study number}
| ^
checkRd: (-1) raddata_usa_territories_Fukushima_2011.Rd:48: Lost braces
48 | item{Study Number}{Study number}
| ^
checkRd: (-1) raddata_usa_territories_Fukushima_2011.Rd:49: Lost braces
49 | item{Project ID}{Identification of the project}
| ^
checkRd: (-1) raddata_usa_territories_Fukushima_2011.Rd:49: Lost braces
49 | item{Project ID}{Identification of the project}
| ^
checkRd: (-1) raddata_usa_territories_Fukushima_2011.Rd:50: Lost braces
50 | item{Study Name}{Name of the study}
| ^
checkRd: (-1) raddata_usa_territories_Fukushima_2011.Rd:50: Lost braces
50 | item{Study Name}{Name of the study}
| ^
checkRd: (-1) rainfall_distribution_equation_coefficients.Rd:11: Lost braces
11 | item{Rainfall distribution}{Rainfall distribution type}
| ^
checkRd: (-1) rainfall_distribution_equation_coefficients.Rd:11: Lost braces
11 | item{Rainfall distribution}{Rainfall distribution type}
| ^
checkRd: (-1) rainfall_distribution_equation_coefficients.Rd:12: Lost braces
12 | item{C0}{Coefficient value}
| ^
checkRd: (-1) rainfall_distribution_equation_coefficients.Rd:12: Lost braces
12 | item{C0}{Coefficient value}
| ^
checkRd: (-1) rainfall_distribution_equation_coefficients.Rd:13: Lost braces
13 | item{C1}{Coefficient value}
| ^
checkRd: (-1) rainfall_distribution_equation_coefficients.Rd:13: Lost braces
13 | item{C1}{Coefficient value}
| ^
checkRd: (-1) rainfall_distribution_equation_coefficients.Rd:14: Lost braces
14 | item{C2}{Coefficient value}
| ^
checkRd: (-1) rainfall_distribution_equation_coefficients.Rd:14: Lost braces
14 | item{C2}{Coefficient value}
| ^
checkRd: (-1) rainfall_distribution_equation_coefficients.Rd:15: Lost braces
15 | item{C3}{Coefficient value}
| ^
checkRd: (-1) rainfall_distribution_equation_coefficients.Rd:15: Lost braces
15 | item{C3}{Coefficient value}
| ^
checkRd: (-1) rainfall_type_equation_coefficients.Rd:10: Lost braces
10 | item{Rainfall type}{Rainfall distribution type}
| ^
checkRd: (-1) rainfall_type_equation_coefficients.Rd:10: Lost braces
10 | item{Rainfall type}{Rainfall distribution type}
| ^
checkRd: (-1) rainfall_type_equation_coefficients.Rd:11: Lost braces
11 | item{Ia/P}{"Initial abstraction" over Rainfall ratio}
| ^
checkRd: (-1) rainfall_type_equation_coefficients.Rd:11: Lost braces
11 | item{Ia/P}{"Initial abstraction" over Rainfall ratio}
| ^
checkRd: (-1) rainfall_type_equation_coefficients.Rd:12: Lost braces
12 | item{C0}{Coefficient value}
| ^
checkRd: (-1) rainfall_type_equation_coefficients.Rd:12: Lost braces
12 | item{C0}{Coefficient value}
| ^
checkRd: (-1) rainfall_type_equation_coefficients.Rd:13: Lost braces
13 | item{C1}{Coefficient value}
| ^
checkRd: (-1) rainfall_type_equation_coefficients.Rd:13: Lost braces
13 | item{C1}{Coefficient value}
| ^
checkRd: (-1) rainfall_type_equation_coefficients.Rd:14: Lost braces
14 | item{C2}{Coefficient value}
| ^
checkRd: (-1) rainfall_type_equation_coefficients.Rd:14: Lost braces
14 | item{C2}{Coefficient value}
| ^
checkRd: (-1) riprap_table_ft.Rd:10: Lost braces
10 | item{Machined riprap Class}{TDOT class of machined riprap}
| ^
checkRd: (-1) riprap_table_ft.Rd:10: Lost braces
10 | item{Machined riprap Class}{TDOT class of machined riprap}
| ^
checkRd: (-1) riprap_table_ft.Rd:11: Lost braces
11 | item{Minimum Diameter Size [ft]}{Minimum diameter size of riprap}
| ^
checkRd: (-1) riprap_table_ft.Rd:11: Lost braces
11 | item{Minimum Diameter Size [ft]}{Minimum diameter size of riprap}
| ^
checkRd: (-1) riprap_table_ft.Rd:12: Lost braces
12 | item{Average Diameter Size [ft]}{Average diameter size of riprap}
| ^
checkRd: (-1) riprap_table_ft.Rd:12: Lost braces
12 | item{Average Diameter Size [ft]}{Average diameter size of riprap}
| ^
checkRd: (-1) riprap_table_ft.Rd:13: Lost braces
13 | item{Maximum Diameter Size [ft]}{Maximum diameter size of riprap}
| ^
checkRd: (-1) riprap_table_ft.Rd:13: Lost braces
13 | item{Maximum Diameter Size [ft]}{Maximum diameter size of riprap}
| ^
checkRd: (-1) riprap_table_in.Rd:10: Lost braces
10 | item{Machined riprap Class}{Description of the surface}
| ^
checkRd: (-1) riprap_table_in.Rd:10: Lost braces
10 | item{Machined riprap Class}{Description of the surface}
| ^
checkRd: (-1) riprap_table_in.Rd:11: Lost braces
11 | item{Minimum Diameter Size [in]}{Minimum diameter size of riprap}
| ^
checkRd: (-1) riprap_table_in.Rd:11: Lost braces
11 | item{Minimum Diameter Size [in]}{Minimum diameter size of riprap}
| ^
checkRd: (-1) riprap_table_in.Rd:12: Lost braces
12 | item{Average Diameter Size [in]}{Minimum diameter size of riprap}
| ^
checkRd: (-1) riprap_table_in.Rd:12: Lost braces
12 | item{Average Diameter Size [in]}{Minimum diameter size of riprap}
| ^
checkRd: (-1) riprap_table_in.Rd:13: Lost braces
13 | item{Maximum Diameter Size [in]}{Minimum diameter size of riprap}
| ^
checkRd: (-1) riprap_table_in.Rd:13: Lost braces
13 | item{Maximum Diameter Size [in]}{Minimum diameter size of riprap}
| ^
checkRd: (-1) riprap_table_mm.Rd:10: Lost braces
10 | item{Machined riprap Class}{Description of the surface}
| ^
checkRd: (-1) riprap_table_mm.Rd:10: Lost braces
10 | item{Machined riprap Class}{Description of the surface}
| ^
checkRd: (-1) riprap_table_mm.Rd:11: Lost braces
11 | item{Minimum Diameter Size [mm]}{Minimum diameter size of riprap}
| ^
checkRd: (-1) riprap_table_mm.Rd:11: Lost braces
11 | item{Minimum Diameter Size [mm]}{Minimum diameter size of riprap}
| ^
checkRd: (-1) riprap_table_mm.Rd:12: Lost braces
12 | item{Average Diameter Size [mm]}{Minimum diameter size of riprap}
| ^
checkRd: (-1) riprap_table_mm.Rd:12: Lost braces
12 | item{Average Diameter Size [mm]}{Minimum diameter size of riprap}
| ^
checkRd: (-1) riprap_table_mm.Rd:13: Lost braces
13 | item{Maximum Diameter Size [mm]}{Minimum diameter size of riprap}
| ^
checkRd: (-1) riprap_table_mm.Rd:13: Lost braces
13 | item{Maximum Diameter Size [mm]}{Minimum diameter size of riprap}
| ^
checkRd: (-1) riprap_table_yd.Rd:10: Lost braces
10 | item{Machined riprap Class}{Description of the surface}
| ^
checkRd: (-1) riprap_table_yd.Rd:10: Lost braces
10 | item{Machined riprap Class}{Description of the surface}
| ^
checkRd: (-1) riprap_table_yd.Rd:11: Lost braces
11 | item{Minimum Diameter Size [yd]}{Minimum diameter size of riprap}
| ^
checkRd: (-1) riprap_table_yd.Rd:11: Lost braces
11 | item{Minimum Diameter Size [yd]}{Minimum diameter size of riprap}
| ^
checkRd: (-1) riprap_table_yd.Rd:12: Lost braces
12 | item{Average Diameter Size [yd]}{Minimum diameter size of riprap}
| ^
checkRd: (-1) riprap_table_yd.Rd:12: Lost braces
12 | item{Average Diameter Size [yd]}{Minimum diameter size of riprap}
| ^
checkRd: (-1) riprap_table_yd.Rd:13: Lost braces
13 | item{Maximum Diameter Size [yd]}{Minimum diameter size of riprap}
| ^
checkRd: (-1) riprap_table_yd.Rd:13: Lost braces
13 | item{Maximum Diameter Size [yd]}{Minimum diameter size of riprap}
| ^
checkRd: (-1) runoff_depth.Rd:10: Lost braces
10 | item{Rainfall (in)}{Amount of rainfall in inches}
| ^
checkRd: (-1) runoff_depth.Rd:10: Lost braces
10 | item{Rainfall (in)}{Amount of rainfall in inches}
| ^
checkRd: (-1) runoff_depth.Rd:11: Lost braces
11 | item{Runoff depth (in) for curve number of 40}{Runoff depth in inches for a curve number of 40}
| ^
checkRd: (-1) runoff_depth.Rd:11: Lost braces
11 | item{Runoff depth (in) for curve number of 40}{Runoff depth in inches for a curve number of 40}
| ^
checkRd: (-1) runoff_depth.Rd:12: Lost braces
12 | item{Runoff depth (in) for curve number of 45}{Runoff depth in inches for a curve number of 45}
| ^
checkRd: (-1) runoff_depth.Rd:12: Lost braces
12 | item{Runoff depth (in) for curve number of 45}{Runoff depth in inches for a curve number of 45}
| ^
checkRd: (-1) runoff_depth.Rd:13: Lost braces
13 | item{Runoff depth (in) for curve number of 50}{Runoff depth in inches for a curve number of 50}
| ^
checkRd: (-1) runoff_depth.Rd:13: Lost braces
13 | item{Runoff depth (in) for curve number of 50}{Runoff depth in inches for a curve number of 50}
| ^
checkRd: (-1) runoff_depth.Rd:14: Lost braces
14 | item{Runoff depth (in) for curve number of 55}{Runoff depth in inches for a curve number of 55}
| ^
checkRd: (-1) runoff_depth.Rd:14: Lost braces
14 | item{Runoff depth (in) for curve number of 55}{Runoff depth in inches for a curve number of 55}
| ^
checkRd: (-1) runoff_depth.Rd:15: Lost braces
15 | item{Runoff depth (in) for curve number of 60}{Runoff depth in inches for a curve number of 60}
| ^
checkRd: (-1) runoff_depth.Rd:15: Lost braces
15 | item{Runoff depth (in) for curve number of 60}{Runoff depth in inches for a curve number of 60}
| ^
checkRd: (-1) runoff_depth.Rd:16: Lost braces
16 | item{Runoff depth (in) for curve number of 65}{Runoff depth in inches for a curve number of 65}
| ^
checkRd: (-1) runoff_depth.Rd:16: Lost braces
16 | item{Runoff depth (in) for curve number of 65}{Runoff depth in inches for a curve number of 65}
| ^
checkRd: (-1) runoff_depth.Rd:17: Lost braces
17 | item{Runoff depth (in) for curve number of 70}{Runoff depth in inches for a curve number of 70}
| ^
checkRd: (-1) runoff_depth.Rd:17: Lost braces
17 | item{Runoff depth (in) for curve number of 70}{Runoff depth in inches for a curve number of 70}
| ^
checkRd: (-1) runoff_depth.Rd:18: Lost braces
18 | item{Runoff depth (in) for curve number of 75}{Runoff depth in inches for a curve number of 75}
| ^
checkRd: (-1) runoff_depth.Rd:18: Lost braces
18 | item{Runoff depth (in) for curve number of 75}{Runoff depth in inches for a curve number of 75}
| ^
checkRd: (-1) runoff_depth.Rd:19: Lost braces
19 | item{Runoff depth (in) for curve number of 80}{Runoff depth in inches for a curve number of 80}
| ^
checkRd: (-1) runoff_depth.Rd:19: Lost braces
19 | item{Runoff depth (in) for curve number of 80}{Runoff depth in inches for a curve number of 80}
| ^
checkRd: (-1) runoff_depth.Rd:20: Lost braces
20 | item{Runoff depth (in) for curve number of 85}{Runoff depth in inches for a curve number of 85}
| ^
checkRd: (-1) runoff_depth.Rd:20: Lost braces
20 | item{Runoff depth (in) for curve number of 85}{Runoff depth in inches for a curve number of 85}
| ^
checkRd: (-1) runoff_depth.Rd:21: Lost braces
21 | item{Runoff depth (in) for curve number of 90}{Runoff depth in inches for a curve number of 90}
| ^
checkRd: (-1) runoff_depth.Rd:21: Lost braces
21 | item{Runoff depth (in) for curve number of 90}{Runoff depth in inches for a curve number of 90}
| ^
checkRd: (-1) runoff_depth.Rd:22: Lost braces
22 | item{Runoff depth (in) for curve number of 95}{Runoff depth in inches for a curve number of 95}
| ^
checkRd: (-1) runoff_depth.Rd:22: Lost braces
22 | item{Runoff depth (in) for curve number of 95}{Runoff depth in inches for a curve number of 95}
| ^
checkRd: (-1) runoff_depth.Rd:23: Lost braces
23 | item{Runoff depth (in) for curve number of 98}{Runoff depth in inches for a curve number of 98}
| ^
checkRd: (-1) runoff_depth.Rd:23: Lost braces
23 | item{Runoff depth (in) for curve number of 98}{Runoff depth in inches for a curve number of 98}
| ^
checkRd: (-1) runoff_depth_notes.Rd:10: Lost braces
10 | item{Note Number (*)}{The note numbers}
| ^
checkRd: (-1) runoff_depth_notes.Rd:10: Lost braces
10 | item{Note Number (*)}{The note numbers}
| ^
checkRd: (-1) runoff_depth_notes.Rd:11: Lost braces
11 | item{Notes}{The notes}
| ^
checkRd: (-1) runoff_depth_notes.Rd:11: Lost braces
11 | item{Notes}{The notes}
| ^
checkRd: (-1) uh_ratios.Rd:10: Lost braces
10 | item{Time ratios (t/Tp)}{"ratio of the time of DUH coordinate to time to peak of the DUH"}
| ^
checkRd: (-1) uh_ratios.Rd:10: Lost braces
10 | item{Time ratios (t/Tp)}{"ratio of the time of DUH coordinate to time to peak of the DUH"}
| ^
checkRd: (-1) uh_ratios.Rd:11: Lost braces
11 | item{Discharge ratios (q/qp)}{"ratio of discharge at a certain time to the peak discharge of the unit hydrograph (UH)"}
| ^
checkRd: (-1) uh_ratios.Rd:11: Lost braces
11 | item{Discharge ratios (q/qp)}{"ratio of discharge at a certain time to the peak discharge of the unit hydrograph (UH)"}
| ^
checkRd: (-1) uh_ratios.Rd:15: Lost braces
15 | United States Department of Agriculture (USDA) Natural Resources Conservation Service (NRCS), |emph{National Engineering Handbook}, "Part 630 Hydrology Chapter 16 Hydrographs", Pages 16-4, 16-9, 16-15, \url{https://directives.sc.egov.usda.gov/OpenNonWebContent.aspx?content=17755.wba}
| ^
checkRd: (-1) uh_ratios_masscurve.Rd:10: Lost braces
10 | item{Time ratios (t/Tp)}{"ratio of the time of DUH coordinate to time to peak of the DUH"}
| ^
checkRd: (-1) uh_ratios_masscurve.Rd:10: Lost braces
10 | item{Time ratios (t/Tp)}{"ratio of the time of DUH coordinate to time to peak of the DUH"}
| ^
checkRd: (-1) uh_ratios_masscurve.Rd:11: Lost braces
11 | item{Discharge ratios (q/qp)}{"ratio of discharge at a certain time to the peak discharge of the unit hydrograph (UH)"}
| ^
checkRd: (-1) uh_ratios_masscurve.Rd:11: Lost braces
11 | item{Discharge ratios (q/qp)}{"ratio of discharge at a certain time to the peak discharge of the unit hydrograph (UH)"}
| ^
checkRd: (-1) uh_ratios_masscurve.Rd:12: Lost braces
12 | item{Mass curve ratios (Qa/Q)}{ratio of "accumulated volume at time" to the "total volume"}
| ^
checkRd: (-1) uh_ratios_masscurve.Rd:12: Lost braces
12 | item{Mass curve ratios (Qa/Q)}{ratio of "accumulated volume at time" to the "total volume"}
| ^
checkRd: (-1) uh_ratios_masscurve.Rd:16: Lost braces
16 | United States Department of Agriculture (USDA) Natural Resources Conservation Service (NRCS), |emph{National Engineering Handbook}, "Part 630 Hydrology Chapter 16 Hydrographs", Pages 16-4, 16-9, 16-15, \url{https://directives.sc.egov.usda.gov/OpenNonWebContent.aspx?content=17755.wba}
| ^
- checking Rd metadata ... OK
- checking Rd line widths ... OK
- checking Rd cross-references ... OK
- checking for missing documentation entries ... OK
- checking for code/documentation mismatches ... OK
- checking Rd \usage sections ... OK
- checking Rd contents ... OK
- checking for unstated dependencies in examples ... OK
- checking contents of ‘data’ directory ... OK
- checking data for non-ASCII characters ... [1s/1s] OK
- checking LazyData ... OK
- checking data for ASCII and uncompressed saves ... OK
- checking sizes of PDF files under ‘inst/doc’ ... OK
- checking installed files from ‘inst/doc’ ... OK
- checking files in ‘vignettes’ ... OK
- checking examples ... NONE
- checking for unstated dependencies in ‘tests’ ... OK
- checking tests ... [1s/1s] OK
Running ‘spelling.R’ [0s/0s]
- checking for unstated dependencies in vignettes ... OK
- checking package vignettes in ‘inst/doc’ ... OK
- checking re-building of vignette outputs ... [147s/164s] OK
- checking PDF version of manual ... [8s/12s] OK
- checking HTML version of manual ... [4s/7s] OK
- checking for non-standard things in the check directory ... OK
- DONE
Status: 1 NOTE