- using R Under development (unstable) (2025-10-25 r88970)
- using platform: x86_64-pc-linux-gnu
- R was compiled by
Debian clang version 19.1.7 (7)
Debian flang-new version 19.1.7 (7)
- running under: Debian GNU/Linux forky/sid
- using session charset: UTF-8
- checking for file ‘hnp/DESCRIPTION’ ... OK
- checking extension type ... Package
- this is package ‘hnp’ version ‘1.2-7’
- checking CRAN incoming feasibility ... [1s/1s] OK
- checking package namespace information ... OK
- checking package dependencies ... INFO
Package suggested but not available for checking: ‘glmmADMB’
- checking if this is a source package ... OK
- checking if there is a namespace ... OK
- checking for executable files ... OK
- checking for hidden files and directories ... OK
- checking for portable file names ... OK
- checking for sufficient/correct file permissions ... OK
- checking serialization versions ... OK
- checking whether package ‘hnp’ can be installed ... OK
See the install log for details.
- checking package directory ... OK
- checking for future file timestamps ... OK
- checking DESCRIPTION meta-information ... OK
- checking top-level files ... OK
- checking for left-over files ... OK
- checking index information ... OK
- checking package subdirectories ... OK
- checking code files for non-ASCII characters ... OK
- checking R files for syntax errors ... OK
- checking whether the package can be loaded ... [0s/0s] OK
- checking whether the package can be loaded with stated dependencies ... [0s/0s] OK
- checking whether the package can be unloaded cleanly ... [0s/0s] OK
- checking whether the namespace can be loaded with stated dependencies ... [0s/0s] OK
- checking whether the namespace can be unloaded cleanly ... [0s/0s] OK
- checking loading without being on the library search path ... [0s/0s] OK
- checking use of S3 registration ... OK
- checking dependencies in R code ... OK
- checking S3 generic/method consistency ... OK
- checking replacement functions ... OK
- checking foreign function calls ... OK
- checking R code for possible problems ... [10s/12s] OK
- checking Rd files ... [0s/1s] NOTE
checkRd: (-1) hnp.Rd:43-92: Only 2 columns allowed in this table (row 1 has 1)
checkRd: (-1) hnp.Rd:43-92: Only 2 columns allowed in this table (row 2 has 1)
checkRd: (-1) hnp.Rd:43-92: Only 2 columns allowed in this table (row 4 has 1)
checkRd: (-1) hnp.Rd:43-92: Only 2 columns allowed in this table (row 6 has 1)
checkRd: (-1) hnp.Rd:43-92: Only 2 columns allowed in this table (row 8 has 1)
checkRd: (-1) hnp.Rd:43-92: Only 2 columns allowed in this table (row 9 has 1)
checkRd: (-1) hnp.Rd:43-92: Only 2 columns allowed in this table (row 10 has 1)
checkRd: (-1) hnp.Rd:43-92: Only 2 columns allowed in this table (row 12 has 1)
checkRd: (-1) hnp.Rd:43-92: Only 2 columns allowed in this table (row 14 has 1)
checkRd: (-1) hnp.Rd:43-92: Only 2 columns allowed in this table (row 19 has 1)
checkRd: (-1) hnp.Rd:43-92: Only 2 columns allowed in this table (row 24 has 1)
checkRd: (-1) hnp.Rd:43-92: Only 2 columns allowed in this table (row 28 has 1)
checkRd: (-1) hnp.Rd:43-92: Only 2 columns allowed in this table (row 30 has 1)
checkRd: (-1) hnp.Rd:43-92: Only 2 columns allowed in this table (row 31 has 1)
checkRd: (-1) hnp.Rd:43-92: Only 2 columns allowed in this table (row 32 has 1)
checkRd: (-1) hnp.Rd:43-92: Only 2 columns allowed in this table (row 34 has 1)
checkRd: (-1) hnp.Rd:43-92: Only 2 columns allowed in this table (row 36 has 1)
checkRd: (-1) hnp.Rd:43-92: Only 2 columns allowed in this table (row 40 has 1)
checkRd: (-1) hnp.Rd:43-92: Only 2 columns allowed in this table (row 42 has 1)
checkRd: (-1) hnp.Rd:43-92: Only 2 columns allowed in this table (row 44 has 1)
checkRd: (-1) hnp.Rd:43-92: Only 2 columns allowed in this table (row 46 has 1)
checkRd: (-1) hnp.Rd:43-92: Only 2 columns allowed in this table (row 48 has 1)
checkRd: (-1) hnp.Rd:43-92: Only 2 columns allowed in this table (row 49 has 1)
checkRd: (-1) hnp.Rd:43-92: Only 2 columns allowed in this table (row 50 has 1)
checkRd: (-1) hnp.Rd:43-92: Only 2 columns allowed in this table (row 52 has 1)
checkRd: (-1) hnp.Rd:43-92: Only 2 columns allowed in this table (row 54 has 1)
checkRd: (-1) wolbachia.Rd:15-21: Only 3 columns allowed in this table (row 1 has 2)
checkRd: (-1) wolbachia.Rd:15-21: Only 3 columns allowed in this table (row 2 has 2)
checkRd: (-1) wolbachia.Rd:15-21: Only 3 columns allowed in this table (row 3 has 2)
checkRd: (-1) wolbachia.Rd:15-21: Only 3 columns allowed in this table (row 4 has 2)
checkRd: (-1) wolbachia.Rd:15-21: Only 3 columns allowed in this table (row 5 has 2)
- checking Rd metadata ... OK
- checking Rd line widths ... OK
- checking Rd cross-references ... OK
- checking for missing documentation entries ... OK
- checking for code/documentation mismatches ... OK
- checking Rd \usage sections ... OK
- checking Rd contents ... OK
- checking for unstated dependencies in examples ... OK
- checking contents of ‘data’ directory ... OK
- checking data for non-ASCII characters ... [0s/0s] OK
- checking data for ASCII and uncompressed saves ... OK
- checking examples ... [11s/14s] OK
- checking PDF version of manual ... [6s/8s] OK
- checking HTML version of manual ... [1s/2s] OK
- checking for non-standard things in the check directory ... OK
- DONE
Status: 1 NOTE