* using log directory ‘/home/hornik/tmp/R.check/r-devel-clang/Work/PKGS/hdcuremodels.Rcheck’ * using R Under development (unstable) (2025-07-13 r88407) * using platform: x86_64-pc-linux-gnu * R was compiled by Debian clang version 19.1.7 (3+b1) Debian flang-new version 19.1.7 (3+b1) * running under: Debian GNU/Linux 13 (trixie) * using session charset: UTF-8 * checking for file ‘hdcuremodels/DESCRIPTION’ ... OK * this is package ‘hdcuremodels’ version ‘0.0.1’ * package encoding: UTF-8 * checking CRAN incoming feasibility ... [1s/1s] OK * checking package namespace information ... OK * checking package dependencies ... OK * checking if this is a source package ... OK * checking if there is a namespace ... OK * checking for executable files ... OK * checking for hidden files and directories ... OK * checking for portable file names ... OK * checking for sufficient/correct file permissions ... OK * checking whether package ‘hdcuremodels’ can be installed ... OK See 'https://www.r-project.org/nosvn/R.check/r-devel-linux-x86_64-debian-clang/hdcuremodels-00install.html' for details. * checking package directory ... OK * checking for future file timestamps ... OK * checking ‘build’ directory ... OK * checking DESCRIPTION meta-information ... OK * checking top-level files ... OK * checking for left-over files ... OK * checking index information ... OK * checking package subdirectories ... OK * checking code files for non-ASCII characters ... OK * checking R files for syntax errors ... OK * checking whether the package can be loaded ... [4s/6s] OK * checking whether the package can be loaded with stated dependencies ... [3s/5s] OK * checking whether the package can be unloaded cleanly ... [3s/5s] OK * checking whether the namespace can be loaded with stated dependencies ... [3s/4s] OK * checking whether the namespace can be unloaded cleanly ... [4s/6s] OK * checking loading without being on the library search path ... [4s/6s] OK * checking use of S3 registration ... OK * checking dependencies in R code ... OK * checking S3 generic/method consistency ... OK * checking replacement functions ... OK * checking foreign function calls ... OK * checking R code for possible problems ... [35s/45s] OK * checking Rd files ... [1s/1s] OK * checking Rd metadata ... OK * checking Rd line widths ... OK * checking Rd cross-references ... NOTE Found the following Rd file(s) with Rd \link{} targets missing package anchors: cure_estimate.Rd: survfit nonzerocure_test.Rd: survfit sufficient_fu_test.Rd: survfit Please provide package anchors for all Rd \link{} targets not in the package itself and the base packages. * checking for missing documentation entries ... OK * checking for code/documentation mismatches ... OK * checking Rd \usage sections ... OK * checking Rd contents ... OK * checking for unstated dependencies in examples ... OK * checking contents of ‘data’ directory ... OK * checking data for non-ASCII characters ... [0s/1s] OK * checking LazyData ... OK * checking data for ASCII and uncompressed saves ... OK * checking installed files from ‘inst/doc’ ... OK * checking files in ‘vignettes’ ... OK * checking examples ... [92s/114s] OK Examples with CPU (user + system) or elapsed time > 5s user system elapsed cv_curegmifs 13.248 0.088 16.068 cv_cureem 12.487 0.047 14.854 AUC 7.341 0.086 8.605 concordance_mcm 7.354 0.051 10.452 summary.mixturecure 7.243 0.008 7.958 curegmifs 7.211 0.019 9.586 print.mixturecure 7.211 0.012 9.086 predict.mixturecure 7.192 0.007 9.091 coef.mixturecure 7.041 0.035 9.215 plot.mixturecure 6.987 0.008 8.291 * checking for unstated dependencies in vignettes ... OK * checking package vignettes ... OK * checking re-building of vignette outputs ... [30s/41s] OK * checking PDF version of manual ... [6s/7s] OK * checking HTML version of manual ... [2s/3s] OK * checking for non-standard things in the check directory ... OK * DONE Status: 1 NOTE