- using R Under development (unstable) (2025-10-19 r88945)
- using platform: x86_64-pc-linux-gnu
- R was compiled by
Debian clang version 19.1.7 (7)
Debian flang-new version 19.1.7 (7)
- running under: Debian GNU/Linux forky/sid
- using session charset: UTF-8
- checking for file ‘hakaiApi/DESCRIPTION’ ... OK
- this is package ‘hakaiApi’ version ‘1.0.5’
- package encoding: UTF-8
- checking CRAN incoming feasibility ... [1s/2s] OK
- checking package namespace information ... OK
- checking package dependencies ... OK
- checking if this is a source package ... OK
- checking if there is a namespace ... OK
- checking for executable files ... OK
- checking for hidden files and directories ... OK
- checking for portable file names ... OK
- checking for sufficient/correct file permissions ... OK
- checking whether package ‘hakaiApi’ can be installed ... OK
See the install log for details.
- checking package directory ... OK
- checking for future file timestamps ... OK
- checking ‘build’ directory ... OK
- checking DESCRIPTION meta-information ... OK
- checking top-level files ... OK
- checking for left-over files ... OK
- checking index information ... OK
- checking package subdirectories ... OK
- checking code files for non-ASCII characters ... OK
- checking R files for syntax errors ... OK
- checking whether the package can be loaded ... [1s/1s] OK
- checking whether the package can be loaded with stated dependencies ... [1s/1s] OK
- checking whether the package can be unloaded cleanly ... [1s/1s] OK
- checking whether the namespace can be loaded with stated dependencies ... [1s/1s] OK
- checking whether the namespace can be unloaded cleanly ... [1s/2s] OK
- checking loading without being on the library search path ... [1s/1s] OK
- checking use of S3 registration ... OK
- checking dependencies in R code ... OK
- checking S3 generic/method consistency ... OK
- checking replacement functions ... OK
- checking foreign function calls ... OK
- checking R code for possible problems ... [6s/10s] OK
- checking Rd files ... [0s/1s] OK
- checking Rd metadata ... OK
- checking Rd line widths ... OK
- checking Rd cross-references ... OK
- checking for missing documentation entries ... OK
- checking for code/documentation mismatches ... OK
- checking Rd \usage sections ... OK
- checking Rd contents ... OK
- checking for unstated dependencies in examples ... OK
- checking installed files from ‘inst/doc’ ... OK
- checking files in ‘vignettes’ ... OK
- checking examples ... [2s/3s] OK
- checking for unstated dependencies in ‘tests’ ... OK
- checking tests ... [2s/3s] OK
Running ‘testthat.R’ [2s/3s]
- checking for unstated dependencies in vignettes ... OK
- checking package vignettes ... OK
- checking re-building of vignette outputs ... [2s/3s] OK
- checking PDF version of manual ... [5s/7s] OK
- checking HTML version of manual ... [0s/0s] NOTE
Found the following HTML validation problems:
Client.html:160:1 (Client.Rd:157): Warning: <h5> anchor "Usage" already defined
Client.html:166:1 (Client.Rd:161): Warning: <h5> anchor "Arguments" already defined
Client.html:181:1 (Client.Rd:170): Warning: <h5> anchor "Returns" already defined
Client.html:188:1 (Client.Rd:173): Warning: <h5> anchor "Examples" already defined
Client.html:208:1 (Client.Rd:188): Warning: <h5> anchor "Usage" already defined
Client.html:214:1 (Client.Rd:192): Warning: <h5> anchor "Arguments" already defined
Client.html:229:1 (Client.Rd:201): Warning: <h5> anchor "Returns" already defined
Client.html:246:1 (Client.Rd:210): Warning: <h5> anchor "Usage" already defined
Client.html:252:1 (Client.Rd:214): Warning: <h5> anchor "Arguments" already defined
Client.html:267:1 (Client.Rd:223): Warning: <h5> anchor "Returns" already defined
Client.html:284:1 (Client.Rd:232): Warning: <h5> anchor "Usage" already defined
Client.html:290:1 (Client.Rd:236): Warning: <h5> anchor "Arguments" already defined
Client.html:305:1 (Client.Rd:245): Warning: <h5> anchor "Returns" already defined
Client.html:322:1 (Client.Rd:254): Warning: <h5> anchor "Usage" already defined
Client.html:328:1 (Client.Rd:258): Warning: <h5> anchor "Examples" already defined
Client.html:349:1 (Client.Rd:274): Warning: <h5> anchor "Usage" already defined
Client.html:355:1 (Client.Rd:278): Warning: <h5> anchor "Arguments" already defined
- checking for non-standard things in the check directory ... OK
- DONE
Status: 1 NOTE