* using log directory ‘/home/hornik/tmp/R.check/r-devel-clang/Work/PKGS/gtsummary.Rcheck’ * using R Under development (unstable) (2025-07-13 r88407) * using platform: x86_64-pc-linux-gnu * R was compiled by Debian clang version 19.1.7 (3+b1) Debian flang-new version 19.1.7 (3+b1) * running under: Debian GNU/Linux 13 (trixie) * using session charset: UTF-8 * checking for file ‘gtsummary/DESCRIPTION’ ... OK * this is package ‘gtsummary’ version ‘2.3.0’ * package encoding: UTF-8 * checking CRAN incoming feasibility ... [4s/5s] OK * checking package namespace information ... OK * checking package dependencies ... OK * checking if this is a source package ... OK * checking if there is a namespace ... OK * checking for executable files ... OK * checking for hidden files and directories ... OK * checking for portable file names ... OK * checking for sufficient/correct file permissions ... OK * checking whether package ‘gtsummary’ can be installed ... OK See 'https://www.r-project.org/nosvn/R.check/r-devel-linux-x86_64-debian-clang/gtsummary-00install.html' for details. * checking package directory ... OK * checking for future file timestamps ... OK * checking ‘build’ directory ... OK * checking DESCRIPTION meta-information ... OK * checking top-level files ... OK * checking for left-over files ... OK * checking index information ... OK * checking package subdirectories ... OK * checking code files for non-ASCII characters ... OK * checking R files for syntax errors ... OK * checking whether the package can be loaded ... [1s/2s] OK * checking whether the package can be loaded with stated dependencies ... [1s/1s] OK * checking whether the package can be unloaded cleanly ... [1s/1s] OK * checking whether the namespace can be loaded with stated dependencies ... [1s/1s] OK * checking whether the namespace can be unloaded cleanly ... [1s/2s] OK * checking loading without being on the library search path ... [1s/2s] OK * checking whether startup messages can be suppressed ... [1s/1s] OK * checking use of S3 registration ... OK * checking dependencies in R code ... OK * checking S3 generic/method consistency ... OK * checking replacement functions ... OK * checking foreign function calls ... OK * checking R code for possible problems ... [41s/55s] OK * checking Rd files ... [2s/2s] OK * checking Rd metadata ... OK * checking Rd line widths ... OK * checking Rd cross-references ... OK * checking for missing documentation entries ... OK * checking for code/documentation mismatches ... OK * checking Rd \usage sections ... OK * checking Rd contents ... OK * checking for unstated dependencies in examples ... OK * checking contents of ‘data’ directory ... OK * checking data for non-ASCII characters ... [0s/1s] OK * checking LazyData ... OK * checking data for ASCII and uncompressed saves ... OK * checking R/sysdata.rda ... OK * checking installed files from ‘inst/doc’ ... OK * checking files in ‘vignettes’ ... OK * checking examples ... [207s/268s] OK Examples with CPU (user + system) or elapsed time > 5s user system elapsed tbl_custom_summary 9.295 0.044 11.944 add_overall 8.988 0.088 12.226 tbl_svysummary 7.935 0.008 10.612 add_p.tbl_cross 7.766 0.047 10.082 tbl_ard_summary 7.509 0.000 9.624 gather_ard 6.907 0.048 7.986 tbl_cross 6.894 0.003 8.440 sort_filter_p 6.684 0.007 8.381 tbl_strata_nested_stack 6.565 0.012 7.495 bold_p 5.823 0.035 7.263 add_stat 5.807 0.015 7.464 combine_terms 5.790 0.000 6.452 modify_column_merge 5.782 0.004 7.489 inline_text.tbl_uvregression 5.634 0.000 8.168 add_stat_label 5.331 0.043 7.558 tbl_survfit 4.731 0.016 6.084 tbl_ard_continuous 3.979 0.000 6.192 add_nevent.tbl_survfit 3.461 0.161 5.476 * checking for unstated dependencies in ‘tests’ ... OK * checking tests ... [48s/40s] OK Running ‘spelling.R’ [0s/0s] Running ‘testthat.R’ [47s/39s] * checking for unstated dependencies in vignettes ... OK * checking package vignettes ... OK * checking re-building of vignette outputs ... [10s/13s] OK * checking PDF version of manual ... [16s/20s] OK * checking HTML version of manual ... [8s/15s] OK * checking for non-standard things in the check directory ... OK * DONE Status: OK