- using R Under development (unstable) (2025-06-27 r88363)
- using platform: x86_64-pc-linux-gnu
- R was compiled by
Debian clang version 19.1.7 (3+b1)
Debian flang-new version 19.1.7 (3+b1)
- running under: Debian GNU/Linux 13 (trixie)
- using session charset: UTF-8
- checking for file ‘gtsummary/DESCRIPTION’ ... OK
- this is package ‘gtsummary’ version ‘2.2.0’
- package encoding: UTF-8
- checking CRAN incoming feasibility ... [3s/4s] OK
- checking package namespace information ... OK
- checking package dependencies ... OK
- checking if this is a source package ... OK
- checking if there is a namespace ... OK
- checking for executable files ... OK
- checking for hidden files and directories ... OK
- checking for portable file names ... OK
- checking for sufficient/correct file permissions ... OK
- checking whether package ‘gtsummary’ can be installed ... OK
See the install log for details.
- checking package directory ... OK
- checking for future file timestamps ... OK
- checking ‘build’ directory ... OK
- checking DESCRIPTION meta-information ... OK
- checking top-level files ... OK
- checking for left-over files ... OK
- checking index information ... OK
- checking package subdirectories ... OK
- checking code files for non-ASCII characters ... OK
- checking R files for syntax errors ... OK
- checking whether the package can be loaded ... [1s/2s] OK
- checking whether the package can be loaded with stated dependencies ... [1s/1s] OK
- checking whether the package can be unloaded cleanly ... [1s/1s] OK
- checking whether the namespace can be loaded with stated dependencies ... [1s/1s] OK
- checking whether the namespace can be unloaded cleanly ... [1s/1s] OK
- checking loading without being on the library search path ... [1s/1s] OK
- checking whether startup messages can be suppressed ... [1s/1s] OK
- checking use of S3 registration ... OK
- checking dependencies in R code ... OK
- checking S3 generic/method consistency ... OK
- checking replacement functions ... OK
- checking foreign function calls ... OK
- checking R code for possible problems ... [42s/57s] OK
- checking Rd files ... [2s/2s] OK
- checking Rd metadata ... OK
- checking Rd line widths ... OK
- checking Rd cross-references ... OK
- checking for missing documentation entries ... OK
- checking for code/documentation mismatches ... OK
- checking Rd \usage sections ... OK
- checking Rd contents ... OK
- checking for unstated dependencies in examples ... OK
- checking contents of ‘data’ directory ... OK
- checking data for non-ASCII characters ... [0s/0s] OK
- checking LazyData ... OK
- checking data for ASCII and uncompressed saves ... OK
- checking R/sysdata.rda ... OK
- checking installed files from ‘inst/doc’ ... OK
- checking files in ‘vignettes’ ... OK
- checking examples ... [220s/331s] OK
Examples with CPU (user + system) or elapsed time > 5s
user system elapsed
tbl_custom_summary 9.677 0.008 14.874
add_overall 9.170 0.291 14.943
tbl_ard_summary 8.122 0.035 11.354
tbl_svysummary 7.937 0.031 12.857
add_p.tbl_cross 7.747 0.086 12.262
tbl_cross 7.459 0.011 10.694
gather_ard 7.250 0.000 10.911
tbl_strata_nested_stack 7.007 0.091 11.478
bold_p 6.763 0.028 10.662
sort_filter_p 6.728 0.009 10.216
combine_terms 6.505 0.000 9.898
modify_column_merge 5.916 0.122 8.841
inline_text.tbl_uvregression 5.920 0.004 8.124
add_stat 5.785 0.000 8.523
add_stat_label 5.337 0.051 8.202
tbl_survfit 5.025 0.008 7.597
inline_text.tbl_cross 4.708 0.004 6.613
tbl_ard_continuous 4.175 0.004 6.589
modify_table_body 4.118 0.004 6.169
inline_text.tbl_regression 3.935 0.000 5.985
as_flex_table 3.698 0.023 5.738
add_overall_ard 3.538 0.005 6.290
plot 3.491 0.016 5.023
separate_p_footnotes 3.468 0.023 5.324
modify_column_hide 3.466 0.000 5.106
- checking for unstated dependencies in ‘tests’ ... OK
- checking tests ... [45s/39s] OK
Running ‘spelling.R’ [0s/0s]
Running ‘testthat.R’ [44s/39s]
- checking for unstated dependencies in vignettes ... OK
- checking package vignettes ... OK
- checking re-building of vignette outputs ... [10s/12s] OK
- checking PDF version of manual ... [12s/17s] OK
- checking HTML version of manual ... [8s/11s] OK
- checking for non-standard things in the check directory ... OK
- DONE
Status: OK