- using R Under development (unstable) (2025-06-27 r88363)
- using platform: x86_64-pc-linux-gnu
- R was compiled by
Debian clang version 19.1.7 (3+b1)
Debian flang-new version 19.1.7 (3+b1)
- running under: Debian GNU/Linux 13 (trixie)
- using session charset: UTF-8
- checking for file ‘grwat/DESCRIPTION’ ... OK
- checking extension type ... Package
- this is package ‘grwat’ version ‘0.0.4’
- package encoding: UTF-8
- checking CRAN incoming feasibility ... [1s/2s] OK
- checking package namespace information ... OK
- checking package dependencies ... OK
- checking if this is a source package ... OK
- checking if there is a namespace ... OK
- checking for executable files ... OK
- checking for hidden files and directories ... OK
- checking for portable file names ... OK
- checking for sufficient/correct file permissions ... OK
- checking serialization versions ... OK
- checking whether package ‘grwat’ can be installed ... OK
See the install log for details.
- used C++ compiler: ‘Debian clang version 19.1.7 (3+b1)’
- checking C++ specification ... OK
- checking package directory ... OK
- checking for future file timestamps ... OK
- checking ‘build’ directory ... OK
- checking DESCRIPTION meta-information ... OK
- checking top-level files ... OK
- checking for left-over files ... OK
- checking index information ... OK
- checking package subdirectories ... OK
- checking code files for non-ASCII characters ... OK
- checking R files for syntax errors ... OK
- checking whether the package can be loaded ... [1s/1s] OK
- checking whether the package can be loaded with stated dependencies ... [0s/1s] OK
- checking whether the package can be unloaded cleanly ... [1s/1s] OK
- checking whether the namespace can be loaded with stated dependencies ... [0s/1s] OK
- checking whether the namespace can be unloaded cleanly ... [1s/1s] OK
- checking loading without being on the library search path ... [1s/1s] OK
- checking whether startup messages can be suppressed ... [1s/1s] OK
- checking use of S3 registration ... OK
- checking dependencies in R code ... OK
- checking S3 generic/method consistency ... OK
- checking replacement functions ... OK
- checking foreign function calls ... OK
- checking R code for possible problems ... [10s/11s] OK
- checking Rd files ... [0s/0s] OK
- checking Rd metadata ... OK
- checking Rd line widths ... OK
- checking Rd cross-references ... OK
- checking for missing documentation entries ... OK
- checking for code/documentation mismatches ... OK
- checking Rd \usage sections ... OK
- checking Rd contents ... OK
- checking for unstated dependencies in examples ... OK
- checking contents of ‘data’ directory ... OK
- checking data for non-ASCII characters ... [0s/1s] OK
- checking LazyData ... OK
- checking data for ASCII and uncompressed saves ... OK
- checking R/sysdata.rda ... OK
- checking line endings in C/C++/Fortran sources/headers ... OK
- checking line endings in Makefiles ... OK
- checking compilation flags in Makevars ... OK
- checking for GNU extensions in Makefiles ... OK
- checking for portable use of $(BLAS_LIBS) and $(LAPACK_LIBS) ... OK
- checking use of PKG_*FLAGS in Makefiles ... OK
- checking use of SHLIB_OPENMP_*FLAGS in Makefiles ... OK
- checking pragmas in C/C++ headers and code ... OK
- checking compilation flags used ... OK
- checking compiled code ... OK
- checking installed files from ‘inst/doc’ ... OK
- checking files in ‘vignettes’ ... OK
- checking examples ... [88s/121s] OK
Examples with CPU (user + system) or elapsed time > 5s
user system elapsed
gr_summarize 11.140 0.060 16.324
gr_baseflow 8.873 0.182 12.906
gr_plot_vars 8.443 0.117 11.561
gr_plot_periods 7.068 0.024 9.714
gr_plot_sep 6.768 0.014 9.202
gr_separate 6.533 0.040 9.019
gr_plot_minmonth 6.520 0.042 9.152
gr_kable_tests 5.268 0.016 6.773
gr_plot_tests 5.154 0.004 6.317
gr_test_vars 4.954 0.012 7.153
gr_plot_hori 4.375 0.039 6.105
gr_set_param 4.344 0.003 6.047
- checking for unstated dependencies in ‘tests’ ... OK
- checking tests ... [122s/189s] OK
Running ‘testthat.R’ [122s/189s]
- checking for unstated dependencies in vignettes ... OK
- checking package vignettes ... OK
- checking re-building of vignette outputs ... [100s/146s] OK
- checking PDF version of manual ... [5s/7s] OK
- checking HTML version of manual ... [1s/2s] OK
- checking for non-standard things in the check directory ... OK
- DONE
Status: OK