- using R Under development (unstable) (2025-10-15 r88920)
- using platform: x86_64-pc-linux-gnu
- R was compiled by
Debian clang version 19.1.7 (7)
Debian flang-new version 19.1.7 (7)
- running under: Debian GNU/Linux forky/sid
- using session charset: UTF-8
- checking for file ‘ggpp/DESCRIPTION’ ... OK
- checking extension type ... Package
- this is package ‘ggpp’ version ‘0.5.9’
- package encoding: UTF-8
- checking CRAN incoming feasibility ... [2s/3s] OK
- checking package namespace information ... OK
- checking package dependencies ... OK
- checking if this is a source package ... OK
- checking if there is a namespace ... OK
- checking for executable files ... OK
- checking for hidden files and directories ... OK
- checking for portable file names ... OK
- checking for sufficient/correct file permissions ... OK
- checking whether package ‘ggpp’ can be installed ... OK
See the install log for details.
- checking package directory ... OK
- checking for future file timestamps ... OK
- checking ‘build’ directory ... OK
- checking DESCRIPTION meta-information ... OK
- checking top-level files ... OK
- checking for left-over files ... OK
- checking index information ... OK
- checking package subdirectories ... OK
- checking code files for non-ASCII characters ... OK
- checking R files for syntax errors ... OK
- checking whether the package can be loaded ... [2s/2s] OK
- checking whether the package can be loaded with stated dependencies ... [2s/2s] OK
- checking whether the package can be unloaded cleanly ... [2s/2s] OK
- checking whether the namespace can be loaded with stated dependencies ... [2s/2s] OK
- checking whether the namespace can be unloaded cleanly ... [2s/2s] OK
- checking loading without being on the library search path ... [2s/2s] OK
- checking use of S3 registration ... OK
- checking dependencies in R code ... OK
- checking S3 generic/method consistency ... OK
- checking replacement functions ... OK
- checking foreign function calls ... OK
- checking R code for possible problems ... [18s/22s] OK
- checking Rd files ... [1s/1s] OK
- checking Rd metadata ... OK
- checking Rd line widths ... OK
- checking Rd cross-references ... OK
- checking for missing documentation entries ... OK
- checking for code/documentation mismatches ... OK
- checking Rd \usage sections ... OK
- checking Rd contents ... OK
- checking for unstated dependencies in examples ... OK
- checking contents of ‘data’ directory ... OK
- checking data for non-ASCII characters ... [0s/1s] OK
- checking LazyData ... OK
- checking data for ASCII and uncompressed saves ... OK
- checking installed files from ‘inst/doc’ ... OK
- checking files in ‘vignettes’ ... OK
- checking examples ... [102s/125s] OK
Examples with CPU (user + system) or elapsed time > 5s
user system elapsed
geom_text_s 7.966 0.009 8.843
stat_panel_counts 6.917 0.000 8.599
ttheme_gtdefault 6.102 0.043 7.335
annotate 5.132 0.094 8.348
geom_table 4.955 0.018 5.292
position_dodgenudge_to 4.813 0.001 6.167
position_nudge_center 4.576 0.001 6.039
stat_dens2d_filter 4.469 0.004 5.814
stat_apply 4.262 0.003 5.180
- checking for unstated dependencies in ‘tests’ ... OK
- checking tests ... [46s/53s] OK
Running ‘testthat.R’ [46s/53s]
- checking for unstated dependencies in vignettes ... OK
- checking package vignettes ... OK
- checking re-building of vignette outputs ... [133s/187s] OK
- checking PDF version of manual ... [12s/16s] OK
- checking HTML version of manual ... [5s/7s] OK
- checking for non-standard things in the check directory ... OK
- DONE
Status: OK