- using R Under development (unstable) (2025-10-19 r88945)
- using platform: x86_64-pc-linux-gnu
- R was compiled by
Debian clang version 19.1.7 (7)
Debian flang-new version 19.1.7 (7)
- running under: Debian GNU/Linux forky/sid
- using session charset: UTF-8
- checking for file ‘ggplot2/DESCRIPTION’ ... OK
- this is package ‘ggplot2’ version ‘4.0.0’
- package encoding: UTF-8
- checking CRAN incoming feasibility ... [5s/7s] OK
- checking package namespace information ... OK
- checking package dependencies ... OK
- checking if this is a source package ... OK
- checking if there is a namespace ... OK
- checking for executable files ... OK
- checking for hidden files and directories ... OK
- checking for portable file names ... OK
- checking for sufficient/correct file permissions ... OK
- checking whether package ‘ggplot2’ can be installed ... OK
See the install log for details.
- checking package directory ... OK
- checking for future file timestamps ... OK
- checking ‘build’ directory ... OK
- checking DESCRIPTION meta-information ... OK
- checking top-level files ... OK
- checking for left-over files ... OK
- checking index information ... OK
- checking package subdirectories ... OK
- checking code files for non-ASCII characters ... OK
- checking R files for syntax errors ... OK
- checking whether the package can be loaded ... [2s/2s] OK
- checking whether the package can be loaded with stated dependencies ... [1s/2s] OK
- checking whether the package can be unloaded cleanly ... [1s/2s] OK
- checking whether the namespace can be loaded with stated dependencies ... [2s/2s] OK
- checking whether the namespace can be unloaded cleanly ... [2s/2s] OK
- checking loading without being on the library search path ... [1s/2s] OK
- checking whether startup messages can be suppressed ... [2s/2s] OK
- checking use of S3 registration ... OK
- checking dependencies in R code ... OK
- checking S3 generic/method consistency ... OK
- checking replacement functions ... OK
- checking foreign function calls ... OK
- checking R code for possible problems ... [54s/65s] OK
- checking Rd files ... [4s/4s] OK
- checking Rd metadata ... OK
- checking Rd line widths ... OK
- checking Rd cross-references ... OK
- checking for missing documentation entries ... OK
- checking for code/documentation mismatches ... OK
- checking Rd \usage sections ... OK
- checking Rd contents ... OK
- checking for unstated dependencies in examples ... OK
- checking contents of ‘data’ directory ... OK
- checking data for non-ASCII characters ... [1s/1s] OK
- checking LazyData ... OK
- checking data for ASCII and uncompressed saves ... OK
- checking installed files from ‘inst/doc’ ... OK
- checking files in ‘vignettes’ ... OK
- checking examples ... [226s/277s] OK
Examples with CPU (user + system) or elapsed time > 5s
user system elapsed
geom_boxplot 5.446 0.024 7.102
facet_grid 5.261 0.040 5.847
position_stack 5.277 0.024 6.319
guide_colourbar 4.852 0.055 5.422
aes_linetype_size_shape 4.749 0.036 5.209
coord_cartesian 4.403 0.127 5.765
geom_histogram 4.433 0.016 5.778
aes_eval 4.371 0.053 5.958
scale_viridis 4.350 0.027 6.175
vars 3.072 0.129 5.270
- checking for unstated dependencies in ‘tests’ ... OK
- checking tests ... [139s/182s] OK
Running ‘testthat.R’ [139s/182s]
- checking for unstated dependencies in vignettes ... OK
- checking package vignettes ... OK
- checking re-building of vignette outputs ... [57s/80s] OK
- checking PDF version of manual ... [35s/41s] OK
- checking HTML version of manual ... [22s/31s] NOTE
Found the following HTML validation problems:
add_theme.html:55:1 (add_theme.Rd:15): Warning: missing </ul> before </div>
aes_auto.html:50:1 (aes_auto.Rd:12): Warning: missing </ul> before </div>
as.list.ggproto.html:68:1 (as.list.ggproto.Rd:23): Warning: missing </ul> before </div>
class_ggplot.html:112:1 (class_ggplot.Rd:51): Warning: missing </ul> before </div>
class_ggplot_built.html:62:1 (class_ggplot_built.Rd:16): Warning: missing </ul> before </div>
class_mapping.html:56:1 (class_mapping.Rd:14): Warning: missing </ul> before </div>
class_theme.html:61:1 (class_theme.Rd:17): Warning: missing </ul> before </div>
coord_munch.html:65:1 (coord_munch.Rd:20): Warning: missing </ul> before </div>
datetime_scale.html:271:1 (datetime_scale.Rd:152): Warning: missing </ul> before </div>
element_grob.html:52:1 (element_grob.Rd:13): Warning: missing </ul> before </div>
element_render.html:59:1 (element_render.Rd:16): Warning: missing </ul> before </div>
fortify.sp.html:80:1 (fortify.sp.Rd:35): Warning: missing </ul> before </div>
gg_dep.html:51:1 (gg_dep.Rd:13): Warning: missing </ul> before </div>
ggplotGrob.html:46:1 (ggplotGrob.Rd:10): Warning: missing </ul> before </div>
guide_none.html:54:1 (guide_none.Rd:16): Warning: missing </ul> before </div>
is_rel.html:46:1 (is_rel.Rd:10): Warning: missing </ul> before </div>
is_tests.html:89:1 (is_tests.Rd:73): Warning: missing </ul> before </div>
layer_sf.html:173:1 (layer_sf.Rd:97): Warning: missing </ul> before </div>
old_guide.html:61:1 (old_guide.Rd:25): Warning: missing </ul> before </div>
remove_missing.html:66:1 (remove_missing.Rd:18): Warning: missing </ul> before </div>
stat_manual.html:198:1 (stat_manual.Rd:193): Warning: <h3> anchor "Aesthetics" already defined
transform_position.html:51:1 (transform_position.Rd:13): Warning: missing </ul> before </div>
waiver.html:52:1 (waiver.Rd:13): Warning: missing </ul> before </div>
- checking for non-standard things in the check directory ... OK
- DONE
Status: 1 NOTE