- using R Under development (unstable) (2025-11-16 r89026)
- using platform: x86_64-pc-linux-gnu
- R was compiled by
Debian clang version 21.1.5 (1)
Debian flang version 21.1.5 (1)
- running under: Debian GNU/Linux forky/sid
- using session charset: UTF-8
- checking for file ‘germinationmetrics/DESCRIPTION’ ... OK
- this is package ‘germinationmetrics’ version ‘0.1.8’
- package encoding: UTF-8
- checking CRAN incoming feasibility ... [2s/3s] OK
- checking package namespace information ... OK
- checking package dependencies ... OK
- checking if this is a source package ... OK
- checking if there is a namespace ... OK
- checking for executable files ... OK
- checking for hidden files and directories ... OK
- checking for portable file names ... OK
- checking for sufficient/correct file permissions ... OK
- checking whether package ‘germinationmetrics’ can be installed ... OK
See the install log for details.
- checking package directory ... OK
- checking for future file timestamps ... OK
- checking ‘build’ directory ... OK
- checking DESCRIPTION meta-information ... NOTE
Author field differs from that derived from Authors@R
Author: ‘J. Aravind [aut, cre] (<https://orcid.org/0000-0002-4791-442X>), S. Vimala Devi [aut], J. Radhamani [aut], Sherry Rachel Jacob [aut], Kalyani Srinivasan [aut], ICAR-NBGPR [cph] (www.nbpgr.ernet.in)’
Authors@R: ‘J. Aravind [aut, cre] (ORCID: <https://orcid.org/0000-0002-4791-442X>), S. Vimala Devi [aut], J. Radhamani [aut], Sherry Rachel Jacob [aut], Kalyani Srinivasan [aut], ICAR-NBGPR [cph] (url: www.nbpgr.ernet.in)’
- checking top-level files ... OK
- checking for left-over files ... OK
- checking index information ... OK
- checking package subdirectories ... OK
- checking code files for non-ASCII characters ... OK
- checking R files for syntax errors ... OK
- checking whether the package can be loaded ... [4s/6s] OK
- checking whether the package can be loaded with stated dependencies ... [3s/4s] OK
- checking whether the package can be unloaded cleanly ... [3s/4s] OK
- checking whether the namespace can be loaded with stated dependencies ... [3s/5s] OK
- checking whether the namespace can be unloaded cleanly ... [4s/5s] OK
- checking loading without being on the library search path ... [4s/6s] OK
- checking whether startup messages can be suppressed ... [4s/5s] OK
- checking use of S3 registration ... OK
- checking dependencies in R code ... OK
- checking S3 generic/method consistency ... OK
- checking replacement functions ... OK
- checking foreign function calls ... OK
- checking R code for possible problems ... [23s/29s] OK
- checking Rd files ... [7s/10s] OK
- checking Rd metadata ... OK
- checking Rd line widths ... OK
- checking Rd cross-references ... OK
- checking for missing documentation entries ... OK
- checking for code/documentation mismatches ... OK
- checking Rd \usage sections ... OK
- checking Rd contents ... OK
- checking for unstated dependencies in examples ... OK
- checking contents of ‘data’ directory ... OK
- checking data for non-ASCII characters ... [0s/1s] OK
- checking LazyData ... OK
- checking data for ASCII and uncompressed saves ... OK
- checking sizes of PDF files under ‘inst/doc’ ... OK
- checking installed files from ‘inst/doc’ ... OK
- checking files in ‘vignettes’ ... OK
- checking examples ... [4s/5s] OK
- checking for unstated dependencies in ‘tests’ ... OK
- checking tests ... [7s/9s] OK
Running ‘testthat.R’ [7s/9s]
- checking for unstated dependencies in vignettes ... OK
- checking package vignettes ... OK
- checking re-building of vignette outputs ... [48s/63s] OK
- checking PDF version of manual ... [8s/11s] OK
- checking HTML version of manual ... [6s/7s] NOTE
Found the following HTML validation problems:
germinationmetrics.html:272:1 (EmergenceRateIndex.Rd:53): Warning: <script> anchor "MathJax-script" already defined
germinationmetrics.html:513:2 (FirstGermTime.Rd:54): Warning: <script> anchor "MathJax-script" already defined
germinationmetrics.html:716:63 (FourPHFfit.Rd:84): Warning: <script> anchor "MathJax-script" already defined
germinationmetrics.html:1154:30 (GermIndex.Rd:39): Warning: <script> anchor "MathJax-script" already defined
germinationmetrics.html:1344:14 (GermPercent.Rd:38): Warning: <script> anchor "MathJax-script" already defined
germinationmetrics.html:1430:2 (GermSpeed.Rd:72): Warning: <script> anchor "MathJax-script" already defined
germinationmetrics.html:1678:2 (GermSynchrony.Rd:36): Warning: <script> anchor "MathJax-script" already defined
germinationmetrics.html:1797:1 (GermValue.Rd:51): Warning: <script> anchor "MathJax-script" already defined
germinationmetrics.html:1997:2 (MeanGermPercent.Rd:43): Warning: <script> anchor "MathJax-script" already defined
germinationmetrics.html:2139:2 (MeanGermRate.Rd:70): Warning: <script> anchor "MathJax-script" already defined
germinationmetrics.html:2351:1 (MeanGermTime.Rd:53): Warning: <script> anchor "MathJax-script" already defined
germinationmetrics.html:2531:24 (TimsonsIndex.Rd:54): Warning: <script> anchor "MathJax-script" already defined
germinationmetrics.html:2785:34 (WeightGermPercent.Rd:28): Warning: <script> anchor "MathJax-script" already defined
germinationmetrics.html:2996:59 (germination.indices.Rd:245): Warning: <script> anchor "MathJax-script" already defined
germinationmetrics.html:3523:22 (plot.FourPHFfit.Rd:65): Warning: <script> anchor "MathJax-script" already defined
germinationmetrics.html:3676:11 (plot.FourPHFfit.bulk.Rd:63): Warning: <script> anchor "MathJax-script" already defined
germinationmetrics.html:3818:61 (t50.Rd:28): Warning: <script> anchor "MathJax-script" already defined
- checking for non-standard things in the check directory ... OK
- DONE
Status: 2 NOTEs