- using R Under development (unstable) (2025-10-19 r88945)
- using platform: x86_64-pc-linux-gnu
- R was compiled by
Debian clang version 19.1.7 (7)
Debian flang-new version 19.1.7 (7)
- running under: Debian GNU/Linux forky/sid
- using session charset: UTF-8
- checking for file ‘georob/DESCRIPTION’ ... OK
- checking extension type ... Package
- this is package ‘georob’ version ‘0.3-23’
- checking CRAN incoming feasibility ... [1s/2s] OK
- checking package namespace information ... OK
- checking package dependencies ... OK
- checking if this is a source package ... OK
- checking if there is a namespace ... OK
- checking for executable files ... OK
- checking for hidden files and directories ... OK
- checking for portable file names ... OK
- checking for sufficient/correct file permissions ... OK
- checking serialization versions ... OK
- checking whether package ‘georob’ can be installed ... OK
See the install log for details.
- checking package directory ... OK
- checking for future file timestamps ... OK
- checking ‘build’ directory ... OK
- checking DESCRIPTION meta-information ... OK
- checking top-level files ... NOTE
Found the following validation problem for the NEWS.Rd HTML conversion:
NEWS.html:906:1 (inst/NEWS.Rd:649): Warning: missing </ul> before </div>
NEWS.html:58:1 (inst/NEWS.Rd:33): Warning: <h4> anchor "NEW-FEATURES" already defined
NEWS.html:76:1 (inst/NEWS.Rd:47): Warning: <h4> anchor "BUG-FIXES" already defined
NEWS.html:93:1 (inst/NEWS.Rd:60): Warning: <h4> anchor "BUG-FIXES" already defined
NEWS.html:109:1 (inst/NEWS.Rd:72): Warning: <h4> anchor "NEW-FEATURES" already defined
NEWS.html:128:1 (inst/NEWS.Rd:86): Warning: <h4> anchor "BUG-FIXES" already defined
NEWS.html:142:1 (inst/NEWS.Rd:96): Warning: <h4> anchor "NEW-FEATURES" already defined
NEWS.html:159:1 (inst/NEWS.Rd:108): Warning: <h4> anchor "BUG-FIXES" already defined
NEWS.html:181:1 (inst/NEWS.Rd:124): Warning: <h4> anchor "NEW-FEATURES" already defined
NEWS.html:217:1 (inst/NEWS.Rd:151): Warning: <h4> anchor "BUG-FIXES" already defined
NEWS.html:241:1 (inst/NEWS.Rd:169): Warning: <h4> anchor "NEW-FEATURES" already defined
NEWS.html:255:1 (inst/NEWS.Rd:179): Warning: <h4> anchor "BUG-FIXES" already defined
NEWS.html:276:1 (inst/NEWS.Rd:195): Warning: <h4> anchor "NEW-FEATURES" already defined
NEWS.html:287:1 (inst/NEWS.Rd:202): Warning: <h4> anchor "BUG-FIXES" already defined
NEWS.html:315:1 (inst/NEWS.Rd:223): Warning: <h4> anchor "BUG-FIXES" already defined
NEWS.html:331:1 (inst/NEWS.Rd:235): Warning: <h4> anchor "NEW-FEATURES" already defined
NEWS.html:344:1 (inst/NEWS.Rd:244): Warning: <h4> anchor "BUG-FIXES" already defined
NEWS.html:360:1 (inst/NEWS.Rd:256): Warning: <h4> anchor "NEW-FEATURES" already defined
NEWS.html:371:1 (inst/NEWS.Rd:263): Warning: <h4> anchor "BUG-FIXES" already defined
NEWS.html:398:1 (inst/NEWS.Rd:283): Warning: <h4> anchor "BUG-FIXES" already defined
NEWS.html:431:1 (inst/NEWS.Rd:307): Warning: <h4> anchor "BUG-FIXES" already defined
NEWS.html:451:1 (inst/NEWS.Rd:322): Warning: <h4> anchor "NEW-FEATURES" already defined
NEWS.html:469:1 (inst/NEWS.Rd:335): Warning: <h4> anchor "BUG-FIXES" already defined
NEWS.html:486:1 (inst/NEWS.Rd:348): Warning: <h4> anchor "NEW-FEATURES" already defined
NEWS.html:498:1 (inst/NEWS.Rd:356): Warning: <h4> anchor "BUG-FIXES" already defined
NEWS.html:514:1 (inst/NEWS.Rd:368): Warning: <h4> anchor "BUG-FIXES" already defined
NEWS.html:534:1 (inst/NEWS.Rd:383): Warning: <h4> anchor "NEW-FEATURES" already defined
NEWS.html:558:1 (inst/NEWS.Rd:400): Warning: <h4> anchor "BUG-FIXES" already defined
NEWS.html:574:1 (inst/NEWS.Rd:412): Warning: <h4> anchor "NEW-FEATURES" already defined
NEWS.html:593:1 (inst/NEWS.Rd:426): Warning: <h4> anchor "NEW-FEATURES" already defined
NEWS.html:605:1 (inst/NEWS.Rd:434): Warning: <h4> anchor "BUG-FIXES" already defined
NEWS.html:622:1 (inst/NEWS.Rd:447): Warning: <h4> anchor "BUG-FIXES" already defined
NEWS.html:638:1 (inst/NEWS.Rd:459): Warning: <h4> anchor "NEW-FEATURES" already defined
NEWS.html:650:1 (inst/NEWS.Rd:467): Warning: <h4> anchor "BUG-FIXES" already defined
NEWS.html:676:1 (inst/NEWS.Rd:487): Warning: <h4> anchor "BUG-FIXES" already defined
NEWS.html:691:1 (inst/NEWS.Rd:497): Warning: <h4> anchor "NEW-FEATURES" already defined
NEWS.html:709:1 (inst/NEWS.Rd:509): Warning: <h4> anchor "BUG-FIXES" already defined
NEWS.html:729:1 (inst/NEWS.Rd:524): Warning: <h4> anchor "NEW-FEATURES" already defined
NEWS.html:766:1 (inst/NEWS.Rd:552): Warning: <h4> anchor "BUG-FIXES" already defined
NEWS.html:785:1 (inst/NEWS.Rd:566): Warning: <h4> anchor "NEW-FEATURES" already defined
NEWS.html:800:1 (inst/NEWS.Rd:576): Warning: <h4> anchor "BUG-FIXES" already defined
NEWS.html:815:1 (inst/NEWS.Rd:587): Warning: <h4> anchor "NEW-FEATURES" already defined
NEWS.html:845:1 (inst/NEWS.Rd:608): Warning: <h4> anchor "BUG-FIXES" already defined
NEWS.html:861:1 (inst/NEWS.Rd:620): Warning: <h4> anchor "NEW-FEATURES" already defined
NEWS.html:891:1 (inst/NEWS.Rd:641): Warning: <h4> anchor "BUG-FIXES" already defined
- checking for left-over files ... OK
- checking index information ... OK
- checking package subdirectories ... OK
- checking code files for non-ASCII characters ... OK
- checking R files for syntax errors ... OK
- checking whether the package can be loaded ... [4s/5s] OK
- checking whether the package can be loaded with stated dependencies ... [4s/5s] OK
- checking whether the package can be unloaded cleanly ... [4s/4s] OK
- checking whether the namespace can be loaded with stated dependencies ... [4s/5s] OK
- checking whether the namespace can be unloaded cleanly ... [4s/6s] OK
- checking loading without being on the library search path ... [4s/6s] OK
- checking use of S3 registration ... OK
- checking dependencies in R code ... OK
- checking S3 generic/method consistency ... OK
- checking replacement functions ... OK
- checking foreign function calls ... OK
- checking R code for possible problems ... [55s/72s] OK
- checking Rd files ... [2s/2s] OK
- checking Rd metadata ... OK
- checking Rd line widths ... OK
- checking Rd cross-references ... OK
- checking for missing documentation entries ... OK
- checking for code/documentation mismatches ... OK
- checking Rd \usage sections ... OK
- checking Rd contents ... OK
- checking for unstated dependencies in examples ... OK
- checking contents of ‘data’ directory ... OK
- checking data for non-ASCII characters ... [0s/1s] OK
- checking data for ASCII and uncompressed saves ... OK
- checking sizes of PDF files under ‘inst/doc’ ... OK
- checking installed files from ‘inst/doc’ ... OK
- checking files in ‘vignettes’ ... OK
- checking examples ... [23s/35s] OK
- checking for unstated dependencies in vignettes ... OK
- checking package vignettes ... OK
- checking re-building of vignette outputs ... [43s/61s] OK
- checking PDF version of manual ... [12s/17s] OK
- checking HTML version of manual ... [7s/11s] OK
- checking for non-standard things in the check directory ... OK
- DONE
Status: 1 NOTE