- using R Under development (unstable) (2023-11-26 r85638)
- using platform: x86_64-pc-linux-gnu
- R was compiled by
Debian clang version 17.0.5 (1)
Debian flang-new version 17.0.5 (1)
- running under: Debian GNU/Linux trixie/sid
- using session charset: UTF-8
- checking for file ‘fnets/DESCRIPTION’ ... OK
- checking extension type ... Package
- this is package ‘fnets’ version ‘0.1.5’
- package encoding: UTF-8
- checking package namespace information ... OK
- checking package dependencies ... OK
- checking if this is a source package ... OK
- checking if there is a namespace ... OK
- checking for executable files ... OK
- checking for hidden files and directories ... OK
- checking for portable file names ... OK
- checking for sufficient/correct file permissions ... OK
- checking whether package ‘fnets’ can be installed ... OK
See the install log for details.
- checking package directory ... OK
- checking for future file timestamps ... OK
- checking DESCRIPTION meta-information ... OK
- checking top-level files ... OK
- checking for left-over files ... OK
- checking index information ... OK
- checking package subdirectories ... OK
- checking R files for non-ASCII characters ... OK
- checking R files for syntax errors ... OK
- checking whether the package can be loaded ... [2s/3s] OK
- checking whether the package can be loaded with stated dependencies ... [2s/2s] OK
- checking whether the package can be unloaded cleanly ... [2s/2s] OK
- checking whether the namespace can be loaded with stated dependencies ... [2s/2s] OK
- checking whether the namespace can be unloaded cleanly ... [2s/3s] OK
- checking loading without being on the library search path ... [2s/2s] OK
- checking use of S3 registration ... OK
- checking dependencies in R code ... OK
- checking S3 generic/method consistency ... OK
- checking replacement functions ... OK
- checking foreign function calls ... OK
- checking R code for possible problems ... [21s/23s] OK
- checking Rd files ... [1s/1s] NOTE
checkRd: (-1) common.predict.Rd:21: Lost braces in \itemize; meant \describe ?
checkRd: (-1) common.predict.Rd:22: Lost braces in \itemize; meant \describe ?
checkRd: (-1) dyn.pca.Rd:23: Lost braces in \itemize; meant \describe ?
checkRd: (-1) dyn.pca.Rd:24: Lost braces in \itemize; meant \describe ?
checkRd: (-1) factor.number.Rd:22: Lost braces in \itemize; meant \describe ?
checkRd: (-1) factor.number.Rd:23: Lost braces in \itemize; meant \describe ?
checkRd: (-1) fnets.Rd:35: Lost braces in \itemize; meant \describe ?
checkRd: (-1) fnets.Rd:36: Lost braces in \itemize; meant \describe ?
checkRd: (-1) fnets.Rd:46: Lost braces in \itemize; meant \describe ?
checkRd: (-1) fnets.Rd:47: Lost braces in \itemize; meant \describe ?
checkRd: (-1) fnets.Rd:48: Lost braces in \itemize; meant \describe ?
checkRd: (-1) fnets.Rd:49: Lost braces in \itemize; meant \describe ?
checkRd: (-1) fnets.Rd:56: Lost braces in \itemize; meant \describe ?
checkRd: (-1) fnets.Rd:57: Lost braces in \itemize; meant \describe ?
checkRd: (-1) fnets.Rd:62: Lost braces in \itemize; meant \describe ?
checkRd: (-1) fnets.Rd:63: Lost braces in \itemize; meant \describe ?
checkRd: (-1) fnets.Rd:77: Lost braces in \itemize; meant \describe ?
checkRd: (-1) fnets.Rd:78: Lost braces in \itemize; meant \describe ?
checkRd: (-1) fnets.Rd:80: Lost braces in \itemize; meant \describe ?
checkRd: (-1) fnets.Rd:81: Lost braces in \itemize; meant \describe ?
checkRd: (-1) fnets.Rd:82: Lost braces in \itemize; meant \describe ?
checkRd: (-1) fnets.Rd:95: Lost braces in \itemize; \value handles \item{}{} directly
checkRd: (-1) fnets.Rd:96: Lost braces in \itemize; \value handles \item{}{} directly
checkRd: (-1) fnets.Rd:97: Lost braces in \itemize; \value handles \item{}{} directly
checkRd: (-1) fnets.Rd:98: Lost braces in \itemize; \value handles \item{}{} directly
checkRd: (-1) fnets.factor.model.Rd:27: Lost braces in \itemize; meant \describe ?
checkRd: (-1) fnets.factor.model.Rd:28: Lost braces in \itemize; meant \describe ?
checkRd: (-1) fnets.factor.model.Rd:40: Lost braces in \itemize; meant \describe ?
checkRd: (-1) fnets.factor.model.Rd:41: Lost braces in \itemize; meant \describe ?
checkRd: (-1) fnets.factor.model.Rd:42: Lost braces in \itemize; meant \describe ?
checkRd: (-1) fnets.factor.model.Rd:43: Lost braces in \itemize; meant \describe ?
checkRd: (-1) fnets.var.Rd:28: Lost braces in \itemize; meant \describe ?
checkRd: (-1) fnets.var.Rd:29: Lost braces in \itemize; meant \describe ?
checkRd: (-1) fnets.var.Rd:41: Lost braces in \itemize; meant \describe ?
checkRd: (-1) fnets.var.Rd:42: Lost braces in \itemize; meant \describe ?
checkRd: (-1) fnets.var.Rd:44: Lost braces in \itemize; meant \describe ?
checkRd: (-1) fnets.var.Rd:45: Lost braces in \itemize; meant \describe ?
checkRd: (-1) fnets.var.Rd:46: Lost braces in \itemize; meant \describe ?
checkRd: (-1) network.fnets.Rd:21: Lost braces in \itemize; meant \describe ?
checkRd: (-1) network.fnets.Rd:22: Lost braces in \itemize; meant \describe ?
checkRd: (-1) network.fnets.Rd:23: Lost braces in \itemize; meant \describe ?
checkRd: (-1) par.lrpc.Rd:26: Lost braces in \itemize; meant \describe ?
checkRd: (-1) par.lrpc.Rd:27: Lost braces in \itemize; meant \describe ?
checkRd: (-1) plot.fnets.Rd:49: Lost braces; missing escapes or markup?
49 | When \code{display = "network"} or {"heatmap"}, it produces a plot visualising three networks underlying factor-adjusted VAR processes:
| ^
checkRd: (-1) plot.fnets.Rd:23: Lost braces in \itemize; meant \describe ?
checkRd: (-1) plot.fnets.Rd:24: Lost braces in \itemize; meant \describe ?
checkRd: (-1) plot.fnets.Rd:25: Lost braces in \itemize; meant \describe ?
checkRd: (-1) plot.fnets.Rd:30: Lost braces in \itemize; meant \describe ?
checkRd: (-1) plot.fnets.Rd:31: Lost braces in \itemize; meant \describe ?
checkRd: (-1) plot.fnets.Rd:32-33: Lost braces in \itemize; meant \describe ?
checkRd: (-1) predict.fm.Rd:19: Lost braces in \itemize; meant \describe ?
checkRd: (-1) predict.fm.Rd:20: Lost braces in \itemize; meant \describe ?
checkRd: (-1) predict.fnets.Rd:29: Lost braces in \itemize; meant \describe ?
checkRd: (-1) predict.fnets.Rd:30: Lost braces in \itemize; meant \describe ?
- checking Rd metadata ... OK
- checking Rd line widths ... OK
- checking Rd cross-references ... OK
- checking for missing documentation entries ... OK
- checking for code/documentation mismatches ... OK
- checking Rd \usage sections ... NOTE
Documented arguments not in \usage in Rd file 'hl.factor.number.Rd':
‘w’
Functions with \usage entries need to have the appropriate \alias
entries, and all their arguments documented.
The \usage entries must correspond to syntactically valid R code.
See chapter ‘Writing R documentation files’ in the ‘Writing R
Extensions’ manual.
- checking Rd contents ... OK
- checking for unstated dependencies in examples ... OK
- checking contents of ‘data’ directory ... OK
- checking data for non-ASCII characters ... [0s/1s] OK
- checking LazyData ... OK
- checking data for ASCII and uncompressed saves ... OK
- checking examples ... [16s/18s] OK
- checking for unstated dependencies in ‘tests’ ... OK
- checking tests ... [18s/109s] OK
Running ‘testthat.R’ [18s/109s]
- checking PDF version of manual ... [7s/9s] OK
- checking HTML version of manual ... [2s/4s] OK
- checking for non-standard things in the check directory ... OK
- DONE
Status: 2 NOTEs