- using R Under development (unstable) (2025-10-19 r88945)
- using platform: x86_64-pc-linux-gnu
- R was compiled by
Debian clang version 19.1.7 (7)
Debian flang-new version 19.1.7 (7)
- running under: Debian GNU/Linux forky/sid
- using session charset: UTF-8
- checking for file ‘flipr/DESCRIPTION’ ... OK
- this is package ‘flipr’ version ‘0.3.3’
- package encoding: UTF-8
- checking CRAN incoming feasibility ... [1s/1s] OK
- checking package namespace information ... OK
- checking package dependencies ... OK
- checking if this is a source package ... OK
- checking if there is a namespace ... OK
- checking for executable files ... OK
- checking for hidden files and directories ... OK
- checking for portable file names ... OK
- checking for sufficient/correct file permissions ... OK
- checking serialization versions ... OK
- checking whether package ‘flipr’ can be installed ... OK
See the install log for details.
- used C++ compiler: ‘Debian clang version 19.1.7 (7)’
- checking package directory ... OK
- checking for future file timestamps ... OK
- checking ‘build’ directory ... OK
- checking DESCRIPTION meta-information ... OK
- checking top-level files ... OK
- checking for left-over files ... OK
- checking index information ... OK
- checking package subdirectories ... OK
- checking code files for non-ASCII characters ... OK
- checking R files for syntax errors ... OK
- checking whether the package can be loaded ... [2s/3s] OK
- checking whether the package can be loaded with stated dependencies ... [2s/2s] OK
- checking whether the package can be unloaded cleanly ... [2s/2s] OK
- checking whether the namespace can be loaded with stated dependencies ... [2s/2s] OK
- checking whether the namespace can be unloaded cleanly ... [2s/3s] OK
- checking loading without being on the library search path ... [2s/3s] OK
- checking use of S3 registration ... OK
- checking dependencies in R code ... OK
- checking S3 generic/method consistency ... OK
- checking replacement functions ... OK
- checking foreign function calls ... OK
- checking R code for possible problems ... [12s/17s] OK
- checking Rd files ... [0s/1s] OK
- checking Rd metadata ... OK
- checking Rd line widths ... OK
- checking Rd cross-references ... OK
- checking for missing documentation entries ... OK
- checking for code/documentation mismatches ... OK
- checking Rd \usage sections ... OK
- checking Rd contents ... OK
- checking for unstated dependencies in examples ... OK
- checking R/sysdata.rda ... OK
- checking line endings in C/C++/Fortran sources/headers ... OK
- checking pragmas in C/C++ headers and code ... OK
- checking compilation flags used ... OK
- checking compiled code ... OK
- checking installed files from ‘inst/doc’ ... OK
- checking files in ‘vignettes’ ... OK
- checking examples ... [8s/11s] OK
- checking for unstated dependencies in ‘tests’ ... OK
- checking tests ... [9s/12s] OK
Running ‘testthat.R’ [9s/12s]
- checking for unstated dependencies in vignettes ... OK
- checking package vignettes ... OK
- checking re-building of vignette outputs ... [62s/81s] OK
- checking PDF version of manual ... [6s/9s] OK
- checking HTML version of manual ... [2s/2s] NOTE
Found the following HTML validation problems:
PlausibilityFunction.html:202:1 (PlausibilityFunction.Rd:368): Warning: <h5> anchor "Usage" already defined
PlausibilityFunction.html:208:1 (PlausibilityFunction.Rd:372): Warning: <h5> anchor "Arguments" already defined
PlausibilityFunction.html:253:1 (PlausibilityFunction.Rd:406): Warning: <h5> anchor "Usage" already defined
PlausibilityFunction.html:259:1 (PlausibilityFunction.Rd:410): Warning: <h5> anchor "Arguments" already defined
PlausibilityFunction.html:273:1 (PlausibilityFunction.Rd:418): Warning: <h5> anchor "Examples" already defined
PlausibilityFunction.html:305:1 (PlausibilityFunction.Rd:445): Warning: <h5> anchor "Usage" already defined
PlausibilityFunction.html:311:1 (PlausibilityFunction.Rd:449): Warning: <h5> anchor "Arguments" already defined
PlausibilityFunction.html:324:1 (PlausibilityFunction.Rd:456): Warning: <h5> anchor "Examples" already defined
PlausibilityFunction.html:356:1 (PlausibilityFunction.Rd:483): Warning: <h5> anchor "Usage" already defined
PlausibilityFunction.html:362:1 (PlausibilityFunction.Rd:487): Warning: <h5> anchor "Arguments" already defined
PlausibilityFunction.html:377:1 (PlausibilityFunction.Rd:496): Warning: <h5> anchor "Examples" already defined
PlausibilityFunction.html:409:1 (PlausibilityFunction.Rd:523): Warning: <h5> anchor "Usage" already defined
PlausibilityFunction.html:415:1 (PlausibilityFunction.Rd:527): Warning: <h5> anchor "Arguments" already defined
PlausibilityFunction.html:429:1 (PlausibilityFunction.Rd:535): Warning: <h5> anchor "Examples" already defined
PlausibilityFunction.html:465:1 (PlausibilityFunction.Rd:566): Warning: <h5> anchor "Usage" already defined
PlausibilityFunction.html:476:1 (PlausibilityFunction.Rd:575): Warning: <h5> anchor "Arguments" already defined
PlausibilityFunction.html:502:1 (PlausibilityFunction.Rd:595): Warning: <h5> anchor "Examples" already defined
PlausibilityFunction.html:533:1 (PlausibilityFunction.Rd:621): Warning: <h5> anchor "Usage" already defined
PlausibilityFunction.html:539:1 (PlausibilityFunction.Rd:625): Warning: <h5> anchor "Arguments" already defined
PlausibilityFunction.html:553:1 (PlausibilityFunction.Rd:633): Warning: <h5> anchor "Examples" already defined
PlausibilityFunction.html:587:1 (PlausibilityFunction.Rd:662): Warning: <h5> anchor "Usage" already defined
PlausibilityFunction.html:600:1 (PlausibilityFunction.Rd:673): Warning: <h5> anchor "Arguments" already defined
PlausibilityFunction.html:634:1 (PlausibilityFunction.Rd:701): Warning: <h5> anchor "Examples" already defined
PlausibilityFunction.html:670:1 (PlausibilityFunction.Rd:732): Warning: <h5> anchor "Usage" already defined
PlausibilityFunction.html:676:1 (PlausibilityFunction.Rd:736): Warning: <h5> anchor "Arguments" already defined
PlausibilityFunction.html:695:1 (PlausibilityFunction.Rd:749): Warning: <h5> anchor "Examples" already defined
PlausibilityFunction.html:735:1 (PlausibilityFunction.Rd:784): Warning: <h5> anchor "Usage" already defined
PlausibilityFunction.html:741:1 (PlausibilityFunction.Rd:788): Warning: <h5> anchor "Arguments" already defined
PlausibilityFunction.html:759:1 (PlausibilityFunction.Rd:800): Warning: <h5> anchor "Examples" already defined
PlausibilityFunction.html:802:1 (PlausibilityFunction.Rd:838): Warning: <h5> anchor "Usage" already defined
PlausibilityFunction.html:808:1 (PlausibilityFunction.Rd:842): Warning: <h5> anchor "Arguments" already defined
PlausibilityFunction.html:825:1 (PlausibilityFunction.Rd:853): Warning: <h5> anchor "Examples" already defined
PlausibilityFunction.html:867:1 (PlausibilityFunction.Rd:890): Warning: <h5> anchor "Usage" already defined
PlausibilityFunction.html:873:1 (PlausibilityFunction.Rd:894): Warning: <h5> anchor "Arguments" already defined
- checking for non-standard things in the check directory ... OK
- DONE
Status: 1 NOTE