* using log directory ‘/home/hornik/tmp/R.check/r-devel-clang/Work/PKGS/flacco.Rcheck’ * using R Under development (unstable) (2025-07-13 r88407) * using platform: x86_64-pc-linux-gnu * R was compiled by Debian clang version 19.1.7 (3+b1) Debian flang-new version 19.1.7 (3+b1) * running under: Debian GNU/Linux 13 (trixie) * using session charset: UTF-8 * checking for file ‘flacco/DESCRIPTION’ ... OK * this is package ‘flacco’ version ‘1.8’ * package encoding: UTF-8 * checking CRAN incoming feasibility ... [1s/1s] NOTE Maintainer: ‘Pascal Kerschke ’ Found the following URLs which should use \doi (with the DOI name only): File ‘features.Rd’: http://dx.doi.org/10.1007/978-3-319-07494-8_9 http://dx.doi.org/10.1145/2739480.2754642 http://dx.doi.org/10.1145/1143997.1144085 http://dx.doi.org/10.1145/2001576.2001690 http://dx.doi.org/10.1109/TEVC.2014.2302006 File ‘plotCellMapping.Rd’: http://dx.doi.org/10.1007/978-3-319-07494-8_9 File ‘plotInformationContent.Rd’: http://dx.doi.org/10.1109/TEVC.2014.2302006 * checking package namespace information ... OK * checking package dependencies ... OK * checking if this is a source package ... OK * checking if there is a namespace ... OK * checking for executable files ... OK * checking for hidden files and directories ... OK * checking for portable file names ... OK * checking for sufficient/correct file permissions ... OK * checking serialization versions ... OK * checking whether package ‘flacco’ can be installed ... OK See 'https://www.r-project.org/nosvn/R.check/r-devel-linux-x86_64-debian-clang/flacco-00install.html' for details. * checking package directory ... OK * checking for future file timestamps ... OK * checking ‘build’ directory ... OK * checking DESCRIPTION meta-information ... OK * checking top-level files ... OK * checking for left-over files ... OK * checking index information ... OK * checking package subdirectories ... OK * checking code files for non-ASCII characters ... OK * checking R files for syntax errors ... OK * checking whether the package can be loaded ... [3s/4s] OK * checking whether the package can be loaded with stated dependencies ... [3s/4s] OK * checking whether the package can be unloaded cleanly ... [3s/4s] OK * checking whether the namespace can be loaded with stated dependencies ... [3s/4s] OK * checking whether the namespace can be unloaded cleanly ... [3s/5s] OK * checking loading without being on the library search path ... [3s/4s] OK * checking use of S3 registration ... OK * checking dependencies in R code ... OK * checking S3 generic/method consistency ... OK * checking replacement functions ... OK * checking foreign function calls ... OK * checking R code for possible problems ... [25s/30s] OK * checking Rd files ... [1s/1s] NOTE checkRd: (-1) convertInitDesignToGrid.Rd:11: Lost braces; missing escapes or markup? 11 | The initial design, consisting of \code{d + 1} columns ({d} dimensions and | ^ * checking Rd metadata ... OK * checking Rd line widths ... OK * checking Rd cross-references ... OK * checking for missing documentation entries ... OK * checking for code/documentation mismatches ... OK * checking Rd \usage sections ... OK * checking Rd contents ... OK * checking for unstated dependencies in examples ... OK * checking contents of ‘data’ directory ... OK * checking data for non-ASCII characters ... [0s/0s] OK * checking LazyData ... OK * checking data for ASCII and uncompressed saves ... OK * checking sizes of PDF files under ‘inst/doc’ ... OK * checking installed files from ‘inst/doc’ ... OK * checking files in ‘vignettes’ ... OK * checking examples ... [9s/10s] OK * checking for unstated dependencies in ‘tests’ ... OK * checking tests ... [11s/13s] OK Running ‘test-features.R’ [1s/1s] Running ‘test-general.R’ [10s/12s] * checking for unstated dependencies in vignettes ... OK * checking package vignettes ... OK * checking re-building of vignette outputs ... [1s/1s] OK * checking PDF version of manual ... [7s/9s] OK * checking HTML version of manual ... [2s/4s] OK * checking for non-standard things in the check directory ... OK * DONE Status: 2 NOTEs