- using R Under development (unstable) (2025-10-31 r88977)
- using platform: x86_64-pc-linux-gnu
- R was compiled by
Debian clang version 19.1.7 (7)
Debian flang-new version 19.1.7 (7)
- running under: Debian GNU/Linux forky/sid
- using session charset: UTF-8
- checking for file ‘fEGarch/DESCRIPTION’ ... OK
- checking extension type ... Package
- this is package ‘fEGarch’ version ‘1.0.2’
- package encoding: UTF-8
- checking CRAN incoming feasibility ... [2s/3s] OK
- checking package namespace information ... OK
- checking package dependencies ... OK
- checking if this is a source package ... OK
- checking if there is a namespace ... OK
- checking for executable files ... OK
- checking for hidden files and directories ... OK
- checking for portable file names ... OK
- checking for sufficient/correct file permissions ... OK
- checking whether package ‘fEGarch’ can be installed ... OK
See the install log for details.
- used C++ compiler: ‘Debian clang version 19.1.7 (7)’
- checking package directory ... OK
- checking for future file timestamps ... OK
- checking DESCRIPTION meta-information ... OK
- checking top-level files ... OK
- checking for left-over files ... OK
- checking index information ... OK
- checking package subdirectories ... OK
- checking code files for non-ASCII characters ... OK
- checking R files for syntax errors ... OK
- checking whether the package can be loaded ... [4s/7s] OK
- checking whether the package can be loaded with stated dependencies ... [4s/6s] OK
- checking whether the package can be unloaded cleanly ... [4s/5s] OK
- checking whether the namespace can be loaded with stated dependencies ... [4s/7s] OK
- checking whether the namespace can be unloaded cleanly ... [5s/6s] OK
- checking loading without being on the library search path ... [4s/5s] OK
- checking whether startup messages can be suppressed ... [4s/6s] OK
- checking use of S3 registration ... OK
- checking dependencies in R code ... OK
- checking S3 generic/method consistency ... OK
- checking replacement functions ... OK
- checking foreign function calls ... OK
- checking R code for possible problems ... [41s/53s] OK
- checking Rd files ... [1s/2s] OK
- checking Rd metadata ... OK
- checking Rd line widths ... OK
- checking Rd cross-references ... OK
- checking for missing documentation entries ... OK
- checking for code/documentation mismatches ... OK
- checking Rd \usage sections ... OK
- checking Rd contents ... OK
- checking for unstated dependencies in examples ... OK
- checking contents of ‘data’ directory ... OK
- checking data for non-ASCII characters ... [0s/0s] OK
- checking LazyData ... OK
- checking data for ASCII and uncompressed saves ... OK
- checking R/sysdata.rda ... OK
- checking line endings in C/C++/Fortran sources/headers ... OK
- checking line endings in Makefiles ... OK
- checking compilation flags in Makevars ... OK
- checking for GNU extensions in Makefiles ... OK
- checking for portable use of $(BLAS_LIBS) and $(LAPACK_LIBS) ... OK
- checking use of PKG_*FLAGS in Makefiles ... OK
- checking use of SHLIB_OPENMP_*FLAGS in Makefiles ... OK
- checking pragmas in C/C++ headers and code ... OK
- checking compilation flags used ... OK
- checking compiled code ... OK
- checking examples ... [69s/34s] OK
Examples with CPU (user + system) or elapsed time > 5s
user system elapsed
fEGarch 11.382 0.757 5.606
fitgarch 5.395 0.308 2.529
measure_risk 5.018 0.290 2.083
Examples with CPU time > 2.5 times elapsed time
user system elapsed ratio
goodn_of_fit_test-fEGarch_fit-method 1.283 0.080 0.477 2.857
loss_functions-fEGarch_risk-method 1.535 0.055 0.576 2.760
figjrgarch 2.487 0.124 0.951 2.746
fitted 1.052 0.054 0.412 2.684
sign_bias_test-fEGarch_fit-method 1.074 0.031 0.413 2.676
forecasting-methods 2.701 0.162 1.074 2.666
plot-fEGarch_risk-ANY-method 1.628 0.057 0.656 2.569
measure_risk 5.018 0.290 2.083 2.548
find_dist 2.345 0.150 0.998 2.500
- checking for unstated dependencies in ‘tests’ ... OK
- checking tests ... [242s/118s] OK
Running ‘testthat.R’ [242s/117s]
- checking PDF version of manual ... [13s/16s] OK
- checking HTML version of manual ... [7s/10s] OK
- checking for non-standard things in the check directory ... OK
- DONE
Status: OK