* using log directory ‘/home/hornik/tmp/R.check/r-devel-clang/Work/PKGS/evian.Rcheck’ * using R Under development (unstable) (2025-07-13 r88407) * using platform: x86_64-pc-linux-gnu * R was compiled by Debian clang version 19.1.7 (3+b1) Debian flang-new version 19.1.7 (3+b1) * running under: Debian GNU/Linux 13 (trixie) * using session charset: UTF-8 * checking for file ‘evian/DESCRIPTION’ ... OK * checking extension type ... Package * this is package ‘evian’ version ‘2.1.0’ * package encoding: UTF-8 * checking CRAN incoming feasibility ... [1s/1s] NOTE Maintainer: ‘Jiafen Gong ’ No Authors@R field in DESCRIPTION. Please add one, modifying Authors@R: c(person(given = c("Dr.", "Lisa", "J", "Strug;", "Dr.", "Zeynep", "Baskurt", ";", "Bowei", "Xiao", ";", "Ted", "Chiang"), family = "", role = "aut", email = "theodorechiang@gmail.com"), person(given = "Jiafen", family = "Gong", role = "cre", email = "jiafen.gong@sickkids.ca")) as necessary. * checking package namespace information ... OK * checking package dependencies ... OK * checking if this is a source package ... OK * checking if there is a namespace ... OK * checking for executable files ... OK * checking for hidden files and directories ... OK * checking for portable file names ... OK * checking for sufficient/correct file permissions ... OK * checking serialization versions ... OK * checking whether package ‘evian’ can be installed ... OK See 'https://www.r-project.org/nosvn/R.check/r-devel-linux-x86_64-debian-clang/evian-00install.html' for details. * checking package directory ... OK * checking for future file timestamps ... OK * checking DESCRIPTION meta-information ... OK * checking top-level files ... OK * checking for left-over files ... OK * checking index information ... OK * checking package subdirectories ... OK * checking code files for non-ASCII characters ... OK * checking R files for syntax errors ... OK * checking whether the package can be loaded ... [1s/1s] OK * checking whether the package can be loaded with stated dependencies ... [0s/1s] OK * checking whether the package can be unloaded cleanly ... [0s/0s] OK * checking whether the namespace can be loaded with stated dependencies ... [0s/1s] OK * checking whether the namespace can be unloaded cleanly ... [0s/0s] OK * checking loading without being on the library search path ... [0s/1s] OK * checking use of S3 registration ... OK * checking dependencies in R code ... OK * checking S3 generic/method consistency ... OK * checking replacement functions ... OK * checking foreign function calls ... OK * checking R code for possible problems ... [5s/8s] OK * checking Rd files ... [0s/1s] NOTE checkRd: (-1) calculateGLR.Rd:43: Escaped LaTeX specials: \& checkRd: (-1) glr.Rd:5: Lost braces 5 | Conducts a generalized likelihood ratio test testing whether {\eqn{\beta \in} (-\code{c},\code{c})}. Covariates can be accommodated. | ^ checkRd: (-1) glr.Rd:34: Lost braces 34 | This is a similar function to the main function \code{evian}. Instead of testing H0: \eqn{\beta}=0, it tests for whether H0:{\eqn{\beta \in} (-\code{c},\code{c})}. | ^ * checking Rd metadata ... OK * checking Rd line widths ... OK * checking Rd cross-references ... OK * checking for missing documentation entries ... OK * checking for code/documentation mismatches ... OK * checking Rd \usage sections ... OK * checking Rd contents ... OK * checking for unstated dependencies in examples ... OK * checking contents of ‘data’ directory ... OK * checking data for non-ASCII characters ... [0s/1s] OK * checking LazyData ... OK * checking data for ASCII and uncompressed saves ... OK * checking examples ... [27s/37s] OK Examples with CPU (user + system) or elapsed time > 5s user system elapsed glr_plot 5.618 0.001 5.640 multiLine_plot 5.512 0.000 7.266 glr 5.241 0.055 6.570 evian 5.216 0.005 8.164 densityPlot 5.190 0.030 8.401 * checking PDF version of manual ... [5s/6s] OK * checking HTML version of manual ... [1s/2s] OK * checking for non-standard things in the check directory ... OK * DONE Status: 2 NOTEs