- using R Under development (unstable) (2025-10-22 r88967)
- using platform: x86_64-pc-linux-gnu
- R was compiled by
Debian clang version 19.1.7 (7)
Debian flang-new version 19.1.7 (7)
- running under: Debian GNU/Linux forky/sid
- using session charset: UTF-8
- checking for file ‘estadistica/DESCRIPTION’ ... OK
- checking extension type ... Package
- this is package ‘estadistica’ version ‘1.0’
- package encoding: UTF-8
- checking CRAN incoming feasibility ... [1s/1s] OK
- checking package namespace information ... OK
- checking package dependencies ... OK
- checking if this is a source package ... OK
- checking if there is a namespace ... OK
- checking for executable files ... OK
- checking for hidden files and directories ... OK
- checking for portable file names ... OK
- checking for sufficient/correct file permissions ... OK
- checking whether package ‘estadistica’ can be installed ... OK
See the install log for details.
- checking package directory ... OK
- checking for future file timestamps ... OK
- checking DESCRIPTION meta-information ... OK
- checking top-level files ... OK
- checking for left-over files ... OK
- checking index information ... OK
- checking package subdirectories ... OK
- checking code files for non-ASCII characters ... OK
- checking R files for syntax errors ... OK
- checking whether the package can be loaded ... [2s/4s] OK
- checking whether the package can be loaded with stated dependencies ... [2s/3s] OK
- checking whether the package can be unloaded cleanly ... [2s/3s] OK
- checking whether the namespace can be loaded with stated dependencies ... [2s/3s] OK
- checking whether the namespace can be unloaded cleanly ... [2s/3s] OK
- checking loading without being on the library search path ... [2s/3s] OK
- checking whether startup messages can be suppressed ... [2s/3s] OK
- checking use of S3 registration ... OK
- checking dependencies in R code ... OK
- checking S3 generic/method consistency ... OK
- checking replacement functions ... OK
- checking foreign function calls ... OK
- checking R code for possible problems ... [31s/41s] OK
- checking Rd files ... [1s/1s] NOTE
checkRd: (-1) coeficiente.variacion.Rd:32: height/width attributes should be in pixels
checkRd: (-1) coeficiente.variacion.Rd:38: height/width attributes should be in pixels
checkRd: (-1) coeficiente.variacion.Rd:46: height/width attributes should be in pixels
checkRd: (-1) contraste.correlacion.Rd:41: height/width attributes should be in pixels
checkRd: (-1) contraste.diferencia.medias.Rd:49: height/width attributes should be in pixels
checkRd: (-1) contraste.diferencia.proporciones.Rd:43: height/width attributes should be in pixels
checkRd: (-1) contraste.diferencia.proporciones.Rd:51: height/width attributes should be in pixels
checkRd: (-1) contraste.diferencia.proporciones.Rd:56: height/width attributes should be in pixels
checkRd: (-1) contraste.diferencia.proporciones.Rd:61: height/width attributes should be in pixels
checkRd: (-1) contraste.media.Rd:46: height/width attributes should be in pixels
checkRd: (-1) contraste.media.Rd:52: height/width attributes should be in pixels
checkRd: (-1) contraste.media.Rd:63: height/width attributes should be in pixels
checkRd: (-1) contraste.media.Rd:68: height/width attributes should be in pixels
checkRd: (-1) contraste.proporcion.Rd:43: height/width attributes should be in pixels
checkRd: (-1) contraste.proporcion.Rd:49: height/width attributes should be in pixels
checkRd: (-1) contraste.razon.varianzas.Rd:43: height/width attributes should be in pixels
checkRd: (-1) contraste.razon.varianzas.Rd:49: height/width attributes should be in pixels
checkRd: (-1) contraste.razon.varianzas.Rd:57: height/width attributes should be in pixels
checkRd: (-1) contraste.razon.varianzas.Rd:62: height/width attributes should be in pixels
checkRd: (-1) contraste.varianza.Rd:44: height/width attributes should be in pixels
checkRd: (-1) contraste.varianza.Rd:52: height/width attributes should be in pixels
checkRd: (-1) contraste.varianza.Rd:57: height/width attributes should be in pixels
checkRd: (-1) contraste.varianza.Rd:64: height/width attributes should be in pixels
checkRd: (-1) correlacion.Rd:24: height/width attributes should be in pixels
checkRd: (-1) correlacion.Rd:30: height/width attributes should be in pixels
checkRd: (-1) correlacion.Rd:38: height/width attributes should be in pixels
checkRd: (-1) covarianza.Rd:26: height/width attributes should be in pixels
checkRd: (-1) covarianza.Rd:32: height/width attributes should be in pixels
checkRd: (-1) covarianza.Rd:37: height/width attributes should be in pixels
checkRd: (-1) covarianza.Rd:45: height/width attributes should be in pixels
checkRd: (-1) cuantiles.Rd:34: height/width attributes should be in pixels
checkRd: (-1) cuantiles.Rd:40: height/width attributes should be in pixels
checkRd: (-1) desviacion.Rd:26: height/width attributes should be in pixels
checkRd: (-1) desviacion.Rd:32: height/width attributes should be in pixels
checkRd: (-1) desviacion.Rd:39: height/width attributes should be in pixels
checkRd: (-1) desviacion.Rd:47: height/width attributes should be in pixels
checkRd: (-1) ic.correlacion.Rd:27: height/width attributes should be in pixels
checkRd: (-1) ic.correlacion.Rd:32: height/width attributes should be in pixels
checkRd: (-1) ic.diferencia.medias.Rd:40: height/width attributes should be in pixels
checkRd: (-1) ic.diferencia.medias.Rd:48: height/width attributes should be in pixels
checkRd: (-1) ic.diferencia.medias.Rd:59: height/width attributes should be in pixels
checkRd: (-1) ic.diferencia.medias.Rd:64: height/width attributes should be in pixels
checkRd: (-1) ic.diferencia.medias.Rd:73: height/width attributes should be in pixels
checkRd: (-1) ic.diferencia.medias.Rd:78: height/width attributes should be in pixels
checkRd: (-1) ic.diferencia.medias.Rd:83: height/width attributes should be in pixels
checkRd: (-1) ic.diferencia.medias.Rd:88: height/width attributes should be in pixels
checkRd: (-1) ic.diferencia.proporciones.Rd:29: height/width attributes should be in pixels
checkRd: (-1) ic.diferencia.proporciones.Rd:35: height/width attributes should be in pixels
checkRd: (-1) ic.media.Rd:40: height/width attributes should be in pixels
checkRd: (-1) ic.media.Rd:46: height/width attributes should be in pixels
checkRd: (-1) ic.media.Rd:51: height/width attributes should be in pixels
checkRd: (-1) ic.media.Rd:58: height/width attributes should be in pixels
checkRd: (-1) ic.media.Rd:63: height/width attributes should be in pixels
checkRd: (-1) ic.proporcion.Rd:37: height/width attributes should be in pixels
checkRd: (-1) ic.proporcion.Rd:43: height/width attributes should be in pixels
checkRd: (-1) ic.proporcion.Rd:54: height/width attributes should be in pixels
checkRd: (-1) ic.proporcion.Rd:59: height/width attributes should be in pixels
checkRd: (-1) ic.razon.varianzas.Rd:37: height/width attributes should be in pixels
checkRd: (-1) ic.razon.varianzas.Rd:43: height/width attributes should be in pixels
checkRd: (-1) ic.razon.varianzas.Rd:52: height/width attributes should be in pixels
checkRd: (-1) ic.razon.varianzas.Rd:57: height/width attributes should be in pixels
checkRd: (-1) ic.razon.varianzas.Rd:63: height/width attributes should be in pixels
checkRd: (-1) ic.razon.varianzas.Rd:68: height/width attributes should be in pixels
checkRd: (-1) ic.razon.varianzas.Rd:73: height/width attributes should be in pixels
checkRd: (-1) ic.razon.varianzas.Rd:78: height/width attributes should be in pixels
checkRd: (-1) ic.varianza.Rd:37: height/width attributes should be in pixels
checkRd: (-1) ic.varianza.Rd:43: height/width attributes should be in pixels
checkRd: (-1) ic.varianza.Rd:50: height/width attributes should be in pixels
checkRd: (-1) ic.varianza.Rd:55: height/width attributes should be in pixels
checkRd: (-1) leer.datos.Rd:20: height/width attributes should be in pixels
checkRd: (-1) matriz.correlacion.Rd:24: height/width attributes should be in pixels
checkRd: (-1) matriz.correlacion.Rd:30: height/width attributes should be in pixels
checkRd: (-1) matriz.correlacion.Rd:36: height/width attributes should be in pixels
checkRd: (-1) matriz.covar.Rd:31: height/width attributes should be in pixels
checkRd: (-1) matriz.covar.Rd:37: height/width attributes should be in pixels
checkRd: (-1) matriz.covar.Rd:42: height/width attributes should be in pixels
checkRd: (-1) matriz.covar.Rd:50: height/width attributes should be in pixels
checkRd: (-1) media.Rd:24: height/width attributes should be in pixels
checkRd: (-1) mediana.Rd:24: height/width attributes should be in pixels
checkRd: (-1) mediana.Rd:30: height/width attributes should be in pixels
checkRd: (-1) medidas.forma.Rd:31: height/width attributes should be in pixels
checkRd: (-1) medidas.forma.Rd:37: height/width attributes should be in pixels
checkRd: (-1) medidas.forma.Rd:42: height/width attributes should be in pixels
checkRd: (-1) medidas.forma.Rd:48: height/width attributes should be in pixels
checkRd: (-1) medidas.forma.Rd:53: height/width attributes should be in pixels
checkRd: (-1) medidas.forma.Rd:59: height/width attributes should be in pixels
checkRd: (-1) medidas.forma.Rd:62: height/width attributes should be in pixels
checkRd: (-1) moda.Rd:24: height/width attributes should be in pixels
checkRd: (-1) muestra.Rd:31: height/width attributes should be in pixels
checkRd: (-1) muestra.Rd:34: height/width attributes should be in pixels
checkRd: (-1) muestra.Rd:40: height/width attributes should be in pixels
checkRd: (-1) muestra.Rd:45: height/width attributes should be in pixels
checkRd: (-1) muestra.Rd:52: height/width attributes should be in pixels
checkRd: (-1) muestra.Rd:57: height/width attributes should be in pixels
checkRd: (-1) regresion.simple.Rd:44: height/width attributes should be in pixels
checkRd: (-1) regresion.simple.Rd:47: height/width attributes should be in pixels
checkRd: (-1) regresion.simple.Rd:54: height/width attributes should be in pixels
checkRd: (-1) regresion.simple.Rd:59: height/width attributes should be in pixels
checkRd: (-1) regresion.simple.Rd:64: height/width attributes should be in pixels
checkRd: (-1) regresion.simple.Rd:69: height/width attributes should be in pixels
checkRd: (-1) regresion.simple.Rd:76: height/width attributes should be in pixels
checkRd: (-1) regresion.simple.Rd:81: height/width attributes should be in pixels
checkRd: (-1) resumen.descriptivos.Rd:26: height/width attributes should be in pixels
checkRd: (-1) series.temporales.Rd:55: height/width attributes should be in pixels
checkRd: (-1) tabla.bidimensional.Rd:37: height/width attributes should be in pixels
checkRd: (-1) tabla.frecuencias.Rd:26: height/width attributes should be in pixels
checkRd: (-1) unir.vectores.Rd:18: height/width attributes should be in pixels
checkRd: (-1) varianza.Rd:26: height/width attributes should be in pixels
checkRd: (-1) varianza.Rd:32: height/width attributes should be in pixels
checkRd: (-1) varianza.Rd:39: height/width attributes should be in pixels
checkRd: (-1) varianza.Rd:48: height/width attributes should be in pixels
- checking Rd metadata ... OK
- checking Rd line widths ... OK
- checking Rd cross-references ... OK
- checking for missing documentation entries ... OK
- checking for code/documentation mismatches ... OK
- checking Rd \usage sections ... OK
- checking Rd contents ... OK
- checking for unstated dependencies in examples ... OK
- checking contents of ‘data’ directory ... OK
- checking data for non-ASCII characters ... [0s/0s] OK
- checking LazyData ... OK
- checking data for ASCII and uncompressed saves ... OK
- checking examples ... [3s/4s] OK
- checking PDF version of manual ... [13s/17s] OK
- checking HTML version of manual ... [3s/6s] OK
- checking for non-standard things in the check directory ... OK
- DONE
Status: 1 NOTE