- using R Under development (unstable) (2022-05-11 r82344)
- using platform: x86_64-pc-linux-gnu (64-bit)
- using session charset: ISO8859-15
- checking for file 'epcc/DESCRIPTION' ... OK
- checking extension type ... Package
- this is package 'epcc' version '1.4.7'
- package encoding: UTF-8
- checking package namespace information ... OK
- checking package dependencies ... OK
- checking if this is a source package ... OK
- checking if there is a namespace ... OK
- checking for executable files ... OK
- checking for hidden files and directories ... OK
- checking for portable file names ... OK
- checking for sufficient/correct file permissions ... OK
- checking serialization versions ... OK
- checking whether package 'epcc' can be installed ... OK
- checking package directory ... OK
- checking for future file timestamps ... OK
- checking DESCRIPTION meta-information ... OK
- checking top-level files ... OK
- checking for left-over files ... OK
- checking index information ... OK
- checking package subdirectories ... OK
- checking R files for non-ASCII characters ... OK
- checking R files for syntax errors ... OK
- checking whether the package can be loaded ... OK
- checking whether the package can be loaded with stated dependencies ... OK
- checking whether the package can be unloaded cleanly ... OK
- checking whether the namespace can be loaded with stated dependencies ... OK
- checking whether the namespace can be unloaded cleanly ... OK
- checking loading without being on the library search path ... OK
- checking use of S3 registration ... OK
- checking dependencies in R code ... OK
- checking S3 generic/method consistency ... OK
- checking replacement functions ... OK
- checking foreign function calls ... OK
- checking R code for possible problems ... [87s/106s] OK
- checking Rd files ... [1s/1s] OK
- checking Rd metadata ... OK
- checking Rd line widths ... OK
- checking Rd cross-references ... OK
- checking for missing documentation entries ... OK
- checking for code/documentation mismatches ... OK
- checking Rd \usage sections ... OK
- checking Rd contents ... OK
- checking for unstated dependencies in examples ... OK
- checking examples ... [122s/150s] OK
Examples with CPU (user + system) or elapsed time > 5s
user system elapsed
predation 10.829 0.068 12.598
variability 10.433 0.353 12.212
increasing_periodicity 9.901 0.083 12.149
competition 9.617 0.116 12.987
IPCC_RCP8_5 7.775 0.092 10.157
IPCC_RCP2_6 6.025 0.123 8.350
decreasing_periodicity 5.662 0.115 6.505
trend_periodic 5.529 0.035 6.234
cooling_pulse1 5.314 0.087 6.342
increasing_stabilization 5.323 0.076 6.373
increasing_linear 5.318 0.030 7.956
cooling_pulse2 5.226 0.078 6.027
heating_pulse2 5.198 0.071 5.551
decreasing_linear 5.174 0.029 6.369
heating_pulse1 5.154 0.032 6.192
decreasing_stabilization 5.019 0.085 6.613
- checking PDF version of manual ... OK
- checking for non-standard things in the check directory ... OK
- DONE
Status: OK