- using R Under development (unstable) (2025-10-28 r88973)
 
- using platform: x86_64-pc-linux-gnu
 
- R was compiled by
    Debian clang version 19.1.7 (7)
    Debian flang-new version 19.1.7 (7)
 
- running under: Debian GNU/Linux forky/sid
 
- using session charset: UTF-8
 
- checking for file ‘educineq/DESCRIPTION’ ... OK
 
- checking extension type ... Package
 
- this is package ‘educineq’ version ‘0.1.0’
 
- package encoding: UTF-8
 
- checking CRAN incoming feasibility ... [0s/1s] NOTE
Maintainer: ‘Vanesa Jorda <jordav@unican.es>’
Found the following (possibly) invalid file URIs:
  URI: www.educationdata.unican.es
    From: man/ineq_female15a.Rd
  URI: www.educationdata.unican.es
    From: man/ineq_female25a.Rd
  URI: www.educationdata.unican.es
    From: man/ineq_male15a.Rd
  URI: www.educationdata.unican.es
    From: man/ineq_male25a.Rd
  URI: www.educationdata.unican.es
    From: man/ineq_total15a.Rd
  URI: www.educationdata.unican.es
    From: man/ineq_total25a.Rd
 
- checking package namespace information ... OK
 
- checking package dependencies ... OK
 
- checking if this is a source package ... OK
 
- checking if there is a namespace ... OK
 
- checking for executable files ... OK
 
- checking for hidden files and directories ... OK
 
- checking for portable file names ... OK
 
- checking for sufficient/correct file permissions ... OK
 
- checking serialization versions ... OK
 
- checking whether package ‘educineq’ can be installed ... OK
See the install log for details.
 
- checking package directory ... OK
 
- checking for future file timestamps ... OK
 
- checking DESCRIPTION meta-information ... OK
 
- checking top-level files ... OK
 
- checking for left-over files ... OK
 
- checking index information ... OK
 
- checking package subdirectories ... OK
 
- checking code files for non-ASCII characters ... OK
 
- checking R files for syntax errors ... OK
 
- checking whether the package can be loaded ... [4s/14s] OK
 
- checking whether the package can be loaded with stated dependencies ... [3s/4s] OK
 
- checking whether the package can be unloaded cleanly ... [3s/10s] OK
 
- checking whether the namespace can be loaded with stated dependencies ... [3s/12s] OK
 
- checking whether the namespace can be unloaded cleanly ... [4s/4s] OK
 
- checking loading without being on the library search path ... [4s/22s] OK
 
- checking use of S3 registration ... OK
 
- checking dependencies in R code ... OK
 
- checking S3 generic/method consistency ... OK
 
- checking replacement functions ... OK
 
- checking foreign function calls ... OK
 
- checking R code for possible problems ... [19s/27s] OK
 
- checking Rd files ... [0s/1s] OK
 
- checking Rd metadata ... OK
 
- checking Rd line widths ... OK
 
- checking Rd cross-references ... OK
 
- checking for missing documentation entries ... OK
 
- checking for code/documentation mismatches ... OK
 
- checking Rd \usage sections ... OK
 
- checking Rd contents ... OK
 
- checking for unstated dependencies in examples ... OK
 
- checking contents of ‘data’ directory ... OK
 
- checking data for non-ASCII characters ... [0s/0s] OK
 
- checking LazyData ... OK
 
- checking data for ASCII and uncompressed saves ... OK
 
- checking R/sysdata.rda ... OK
 
- checking examples ... [10s/12s] OK
Examples with CPU (user + system) or elapsed time > 5s
       user system elapsed
edcdf 4.362  0.032    5.36
 
- checking PDF version of manual ... [6s/8s] OK
 
- checking HTML version of manual ... [1s/2s] OK
 
- checking for non-standard things in the check directory ... OK
 
- DONE
 
Status: 1 NOTE