- using R Under development (unstable) (2025-10-19 r88945)
- using platform: x86_64-pc-linux-gnu
- R was compiled by
Debian clang version 19.1.7 (7)
Debian flang-new version 19.1.7 (7)
- running under: Debian GNU/Linux forky/sid
- using session charset: UTF-8
- checking for file ‘dsp/DESCRIPTION’ ... OK
- checking extension type ... Package
- this is package ‘dsp’ version ‘1.2.0’
- package encoding: UTF-8
- checking CRAN incoming feasibility ... [2s/2s] OK
- checking package namespace information ... OK
- checking package dependencies ... OK
- checking if this is a source package ... OK
- checking if there is a namespace ... OK
- checking for executable files ... OK
- checking for hidden files and directories ... OK
- checking for portable file names ... OK
- checking for sufficient/correct file permissions ... OK
- checking whether package ‘dsp’ can be installed ... OK
See the install log for details.
- used C++ compiler: ‘Debian clang version 19.1.7 (7)’
- checking package directory ... OK
- checking for future file timestamps ... OK
- checking DESCRIPTION meta-information ... OK
- checking top-level files ... OK
- checking for left-over files ... OK
- checking index information ... OK
- checking package subdirectories ... OK
- checking code files for non-ASCII characters ... OK
- checking R files for syntax errors ... OK
- checking whether the package can be loaded ... [5s/8s] OK
- checking whether the package can be loaded with stated dependencies ... [4s/5s] OK
- checking whether the package can be unloaded cleanly ... [4s/5s] OK
- checking whether the namespace can be loaded with stated dependencies ... [4s/5s] OK
- checking whether the namespace can be unloaded cleanly ... [5s/5s] OK
- checking loading without being on the library search path ... [5s/6s] OK
- checking use of S3 registration ... OK
- checking dependencies in R code ... OK
- checking S3 generic/method consistency ... OK
- checking replacement functions ... OK
- checking foreign function calls ... OK
- checking R code for possible problems ... [35s/39s] OK
- checking Rd files ... [1s/1s] OK
- checking Rd metadata ... OK
- checking Rd line widths ... OK
- checking Rd cross-references ... OK
- checking for missing documentation entries ... OK
- checking for code/documentation mismatches ... OK
- checking Rd \usage sections ... OK
- checking Rd contents ... OK
- checking for unstated dependencies in examples ... OK
- checking line endings in C/C++/Fortran sources/headers ... OK
- checking line endings in Makefiles ... OK
- checking compilation flags in Makevars ... OK
- checking for GNU extensions in Makefiles ... OK
- checking for portable use of $(BLAS_LIBS) and $(LAPACK_LIBS) ... OK
- checking use of PKG_*FLAGS in Makefiles ... OK
- checking use of SHLIB_OPENMP_*FLAGS in Makefiles ... OK
- checking pragmas in C/C++ headers and code ... OK
- checking compilation flags used ... OK
- checking compiled code ... OK
- checking examples ... [36s/40s] OK
Examples with CPU (user + system) or elapsed time > 5s
user system elapsed
dsp_fit 8.958 0.187 9.376
plot.dsp 8.940 0.049 9.787
summary.dsp 8.589 0.015 9.224
predict.dsp 4.457 0.103 5.286
- checking for unstated dependencies in ‘tests’ ... OK
- checking tests ... [5s/6s] OK
Running ‘testthat.R’ [5s/6s]
- checking PDF version of manual ... [9s/11s] OK
- checking HTML version of manual ... [3s/5s] NOTE
Found the following HTML validation problems:
getARpXmat.html:54:1 (getARpXmat.Rd:14): Warning: missing </ul> before </div>
initCholReg_spam.html:60:1 (initCholReg_spam.Rd:16): Warning: missing </ul> before </div>
initChol_spam.html:52:1 (initChol_spam.Rd:12): Warning: missing </ul> before </div>
sample_mat_c.html:74:1 (sample_mat_c.Rd:24): Warning: missing </ul> before </div>
- checking for non-standard things in the check directory ... OK
- DONE
Status: 1 NOTE