- using R Under development (unstable) (2025-10-28 r88973)
 
- using platform: x86_64-pc-linux-gnu
 
- R was compiled by
    Debian clang version 19.1.7 (7)
    Debian flang-new version 19.1.7 (7)
 
- running under: Debian GNU/Linux forky/sid
 
- using session charset: UTF-8
 
- checking for file ‘drpop/DESCRIPTION’ ... OK
 
- this is package ‘drpop’ version ‘0.0.3’
 
- package encoding: UTF-8
 
- checking CRAN incoming feasibility ... [1s/1s] NOTE
Maintainer: ‘Manjari Das <manjari8d@gmail.com>’
The Description field contains
  Kennedy EH, and Jewell NP (2021) <arXiv:2104.14091>. The estimator is
Please refer to arXiv e-prints via their arXiv DOI <doi:10.48550/arXiv.YYMM.NNNNN>.
 
- checking package namespace information ... OK
 
- checking package dependencies ... OK
 
- checking if this is a source package ... OK
 
- checking if there is a namespace ... OK
 
- checking for executable files ... OK
 
- checking for hidden files and directories ... OK
 
- checking for portable file names ... OK
 
- checking for sufficient/correct file permissions ... OK
 
- checking serialization versions ... OK
 
- checking whether package ‘drpop’ can be installed ... OK
See the install log for details.
 
- checking package directory ... OK
 
- checking for future file timestamps ... OK
 
- checking DESCRIPTION meta-information ... OK
 
- checking top-level files ... OK
 
- checking for left-over files ... OK
 
- checking index information ... OK
 
- checking package subdirectories ... OK
 
- checking code files for non-ASCII characters ... OK
 
- checking R files for syntax errors ... OK
 
- checking whether the package can be loaded ... [3s/5s] OK
 
- checking whether the package can be loaded with stated dependencies ... [3s/5s] OK
 
- checking whether the package can be unloaded cleanly ... [3s/4s] OK
 
- checking whether the namespace can be loaded with stated dependencies ... [3s/5s] OK
 
- checking whether the namespace can be unloaded cleanly ... [4s/5s] OK
 
- checking loading without being on the library search path ... [4s/5s] OK
 
- checking use of S3 registration ... OK
 
- checking dependencies in R code ... OK
 
- checking S3 generic/method consistency ... OK
 
- checking replacement functions ... OK
 
- checking foreign function calls ... OK
 
- checking R code for possible problems ... [22s/28s] OK
 
- checking Rd files ... [0s/1s] NOTE
checkRd: (-1) popsize.Rd:70: Lost braces in \itemize; \value handles \item{}{} directly
checkRd: (-1) popsize.Rd:71: Lost braces in \itemize; \value handles \item{}{} directly
checkRd: (-1) popsize.Rd:72: Lost braces in \itemize; \value handles \item{}{} directly
checkRd: (-1) popsize.Rd:73: Lost braces in \itemize; \value handles \item{}{} directly
checkRd: (-1) popsize.Rd:74: Lost braces in \itemize; \value handles \item{}{} directly
checkRd: (-1) popsize.Rd:75: Lost braces in \itemize; \value handles \item{}{} directly
checkRd: (-1) popsize_cond.Rd:52: Lost braces in \itemize; \value handles \item{}{} directly
checkRd: (-1) popsize_cond.Rd:53: Lost braces in \itemize; \value handles \item{}{} directly
checkRd: (-1) popsize_cond.Rd:54: Lost braces in \itemize; \value handles \item{}{} directly
checkRd: (-1) popsize_cond.Rd:55: Lost braces in \itemize; \value handles \item{}{} directly
checkRd: (-1) popsize_cond.Rd:56: Lost braces in \itemize; \value handles \item{}{} directly
checkRd: (-1) popsize_cond.Rd:57: Lost braces in \itemize; \value handles \item{}{} directly
 
- checking Rd metadata ... OK
 
- checking Rd line widths ... OK
 
- checking Rd cross-references ... OK
 
- checking for missing documentation entries ... OK
 
- checking for code/documentation mismatches ... OK
 
- checking Rd \usage sections ... OK
 
- checking Rd contents ... OK
 
- checking for unstated dependencies in examples ... OK
 
- checking examples ... [5s/7s] OK
 
- checking for unstated dependencies in ‘tests’ ... OK
 
- checking tests ... [114s/149s] OK
  Running ‘testthat.R’ [113s/149s]
 
- checking PDF version of manual ... [8s/11s] OK
 
- checking HTML version of manual ... [1s/1s] OK
 
- checking for non-standard things in the check directory ... OK
 
- DONE
 
Status: 2 NOTEs