- using R Under development (unstable) (2023-09-20 r85183)
- using platform: x86_64-pc-linux-gnu
- R was compiled by
Debian clang version 16.0.6 (15)
GNU Fortran (Debian 13.2.0-3) 13.2.0
- running under: Debian GNU/Linux trixie/sid
- using session charset: UTF-8
- checking for file ‘ctqr/DESCRIPTION’ ... OK
- checking extension type ... Package
- this is package ‘ctqr’ version ‘2.0’
- checking package namespace information ... OK
- checking package dependencies ... OK
- checking if this is a source package ... OK
- checking if there is a namespace ... OK
- checking for executable files ... OK
- checking for hidden files and directories ... OK
- checking for portable file names ... OK
- checking for sufficient/correct file permissions ... OK
- checking serialization versions ... OK
- checking whether package ‘ctqr’ can be installed ... OK
See the install log for details.
- checking package directory ... OK
- checking for future file timestamps ... OK
- checking DESCRIPTION meta-information ... OK
- checking top-level files ... OK
- checking for left-over files ... OK
- checking index information ... OK
- checking package subdirectories ... OK
- checking R files for non-ASCII characters ... OK
- checking R files for syntax errors ... OK
- checking whether the package can be loaded ... [4s/7s] OK
- checking whether the package can be loaded with stated dependencies ... [4s/5s] OK
- checking whether the package can be unloaded cleanly ... [4s/4s] OK
- checking whether the namespace can be loaded with stated dependencies ... [4s/4s] OK
- checking whether the namespace can be unloaded cleanly ... [4s/5s] OK
- checking loading without being on the library search path ... [4s/5s] OK
- checking use of S3 registration ... OK
- checking dependencies in R code ... OK
- checking S3 generic/method consistency ... OK
- checking replacement functions ... OK
- checking foreign function calls ... OK
- checking R code for possible problems ... [24s/30s] OK
- checking Rd files ... [0s/1s] OK
- checking Rd metadata ... OK
- checking Rd line widths ... OK
- checking Rd cross-references ... OK
- checking for missing documentation entries ... OK
- checking for code/documentation mismatches ... OK
- checking Rd \usage sections ... NOTE
Objects in \usage without \alias in documentation object 'internals':
‘findagoodestimator’ ‘safe.pch’ ‘quickpred’ ‘check.in.ctqr’ ‘start’
‘ee.u’ ‘ee.cens’ ‘ee.cens.trunc’ ‘ee.icens’ ‘qr.gs’ ‘nobs.ctqr’
‘vcov.ctqr’ ‘coef.ctqr’ ‘print.ctqr’ ‘summary.ctqr’
‘print.summary.ctqr’ ‘firstep.ct’ ‘firstep.ic’ ‘asy.qr.ct’
‘asy.qr.ic’ ‘safesolve’ ‘regularize_corr’
Functions with \usage entries need to have the appropriate \alias
entries, and all their arguments documented.
The \usage entries must correspond to syntactically valid R code.
See chapter ‘Writing R documentation files’ in the ‘Writing R
Extensions’ manual.
S3 methods shown with full name in documentation object 'internals':
‘qr.gs’
The \usage entries for S3 methods should use the \method markup and not
their full name.
See chapter ‘Writing R documentation files’ in the ‘Writing R
Extensions’ manual.
- checking Rd contents ... OK
- checking for unstated dependencies in examples ... OK
- checking examples ... [6s/6s] OK
- checking PDF version of manual ... [6s/9s] OK
- checking HTML version of manual ... [1s/1s] OK
- checking for non-standard things in the check directory ... OK
- DONE
Status: 1 NOTE