* using log directory ‘/home/hornik/tmp/R.check/r-devel-clang/Work/PKGS/cssTools.Rcheck’ * using R Under development (unstable) (2025-07-13 r88407) * using platform: x86_64-pc-linux-gnu * R was compiled by Debian clang version 19.1.7 (3+b1) Debian flang-new version 19.1.7 (3+b1) * running under: Debian GNU/Linux 13 (trixie) * using session charset: UTF-8 * checking for file ‘cssTools/DESCRIPTION’ ... OK * checking extension type ... Package * this is package ‘cssTools’ version ‘1.0’ * checking CRAN incoming feasibility ... [0s/1s] NOTE Maintainer: ‘Deniz Yenigun ’ No Authors@R field in DESCRIPTION. Please add one, modifying Authors@R: c(person(given = "Deniz", family = "Yenigun", role = c("aut", "cre"), email = "deniz.yenigun@bilgi.edu.tr"), person(given = "Gunes", family = "Ertan", role = "aut"), person(given = "Michael", family = "Siciliano", role = "aut")) as necessary. Found the following URLs which should use \doi (with the DOI name only): File ‘atm.Rd’: http://dx.doi.org/10.1016/j.socnet.2012.06.004 File ‘cssTools-package.Rd’: http://dx.doi.org/10.1016/0378-8733(87)90009-8 File ‘highTechManagers.Rd’: http://dx.doi.org/10.1016/0378-8733(87)90009-8 File ‘s14.Rd’: http://dx.doi.org/10.1007/BF01896809 File ‘sliceQuality.Rd’: http://dx.doi.org/10.1016/0378-8733(87)90009-8 http://dx.doi.org/10.1016/j.socnet.2012.06.004 * checking package namespace information ... OK * checking package dependencies ... OK * checking if this is a source package ... OK * checking if there is a namespace ... OK * checking for executable files ... OK * checking for hidden files and directories ... OK * checking for portable file names ... OK * checking for sufficient/correct file permissions ... OK * checking serialization versions ... OK * checking whether package ‘cssTools’ can be installed ... OK See 'https://www.r-project.org/nosvn/R.check/r-devel-linux-x86_64-debian-clang/cssTools-00install.html' for details. * checking package directory ... OK * checking for future file timestamps ... OK * checking DESCRIPTION meta-information ... OK * checking top-level files ... OK * checking for left-over files ... OK * checking index information ... OK * checking package subdirectories ... OK * checking code files for non-ASCII characters ... OK * checking R files for syntax errors ... OK * checking whether the package can be loaded ... [1s/2s] OK * checking whether the package can be loaded with stated dependencies ... [1s/1s] OK * checking whether the package can be unloaded cleanly ... [1s/1s] OK * checking whether the namespace can be loaded with stated dependencies ... [1s/1s] OK * checking whether the namespace can be unloaded cleanly ... [1s/1s] OK * checking loading without being on the library search path ... [1s/1s] OK * checking use of S3 registration ... OK * checking dependencies in R code ... OK * checking S3 generic/method consistency ... OK * checking replacement functions ... OK * checking foreign function calls ... OK * checking R code for possible problems ... [7s/10s] OK * checking Rd files ... [0s/1s] OK * checking Rd metadata ... OK * checking Rd line widths ... OK * checking Rd cross-references ... OK * checking for missing documentation entries ... OK * checking for code/documentation mismatches ... OK * checking Rd \usage sections ... OK * checking Rd contents ... OK * checking for unstated dependencies in examples ... OK * checking contents of ‘data’ directory ... OK * checking data for non-ASCII characters ... [0s/0s] OK * checking data for ASCII and uncompressed saves ... OK * checking examples ... [1s/2s] OK * checking PDF version of manual ... [4s/6s] OK * checking HTML version of manual ... [1s/1s] OK * checking for non-standard things in the check directory ... OK * DONE Status: 1 NOTE