- using R Under development (unstable) (2022-05-20 r82390)
- using platform: x86_64-pc-linux-gnu (64-bit)
- using session charset: ISO8859-15
- checking for file 'crrstep/DESCRIPTION' ... OK
- checking extension type ... Package
- this is package 'crrstep' version '2015-2.1'
- checking package namespace information ... OK
- checking package dependencies ... OK
- checking if this is a source package ... OK
- checking if there is a namespace ... OK
- checking for executable files ... OK
- checking for hidden files and directories ... OK
- checking for portable file names ... OK
- checking for sufficient/correct file permissions ... OK
- checking serialization versions ... OK
- checking whether package 'crrstep' can be installed ... OK
- checking package directory ... OK
- checking for future file timestamps ... OK
- checking DESCRIPTION meta-information ... OK
- checking top-level files ... OK
- checking for left-over files ... OK
- checking index information ... OK
- checking package subdirectories ... OK
- checking R files for non-ASCII characters ... OK
- checking R files for syntax errors ... OK
- checking whether the package can be loaded ... OK
- checking whether the package can be loaded with stated dependencies ... OK
- checking whether the package can be unloaded cleanly ... OK
- checking whether the namespace can be loaded with stated dependencies ... OK
- checking whether the namespace can be unloaded cleanly ... OK
- checking loading without being on the library search path ... OK
- checking use of S3 registration ... OK
- checking dependencies in R code ... OK
- checking S3 generic/method consistency ... OK
- checking replacement functions ... OK
- checking foreign function calls ... OK
- checking R code for possible problems ... [14s/15s] NOTE
crrstep : crr.makecov1: no visible global function definition for
'model.matrix'
crrstep : crr.dropterm: no visible global function definition for
'terms'
crrstep : crr.dropterm: no visible global function definition for
'as.formula'
crrstep : crr.addterm: no visible global function definition for
'terms'
crrstep : crr.addterm: no visible global function definition for
'as.formula'
crrstep: no visible global function definition for 'as.formula'
crrstep: no visible global function definition for 'terms'
crrstep: no visible global function definition for 'model.frame'
crrstep: no visible binding for global variable 'na.pass'
crrstep: no visible global function definition for 'update'
crrstep: no visible global function definition for 'drop.terms'
Undefined global functions or variables:
as.formula drop.terms model.frame model.matrix na.pass terms update
Consider adding
importFrom("stats", "as.formula", "drop.terms", "model.frame",
"model.matrix", "na.pass", "terms", "update")
to your NAMESPACE file.
- checking Rd files ... [0s/1s] OK
- checking Rd metadata ... OK
- checking Rd line widths ... OK
- checking Rd cross-references ... OK
- checking for missing documentation entries ... OK
- checking for code/documentation mismatches ... OK
- checking Rd \usage sections ... OK
- checking Rd contents ... OK
- checking for unstated dependencies in examples ... OK
- checking examples ... [11s/12s] OK
Examples with CPU (user + system) or elapsed time > 5s
user system elapsed
crrstep-package 5.507 0.047 6.113
- checking PDF version of manual ... OK
- checking HTML version of manual ... OK
- checking for non-standard things in the check directory ... OK
- DONE
Status: 1 NOTE