- using R Under development (unstable) (2025-10-31 r88977)
 
- using platform: x86_64-pc-linux-gnu
 
- R was compiled by
    Debian clang version 19.1.7 (7)
    Debian flang-new version 19.1.7 (7)
 
- running under: Debian GNU/Linux forky/sid
 
- using session charset: UTF-8
 
- checking for file ‘coop/DESCRIPTION’ ... OK
 
- checking extension type ... Package
 
- this is package ‘coop’ version ‘0.6-3’
 
- checking CRAN incoming feasibility ... [1s/2s] NOTE
Maintainer: ‘Drew Schmidt <wrathematics@gmail.com>’
Package CITATION file contains call(s) to old-style citEntry().  Please
use bibentry() instead.
 
- checking package namespace information ... OK
 
- checking package dependencies ... OK
 
- checking if this is a source package ... OK
 
- checking if there is a namespace ... OK
 
- checking for executable files ... OK
 
- checking for hidden files and directories ... OK
 
- checking for portable file names ... OK
 
- checking for sufficient/correct file permissions ... OK
 
- checking serialization versions ... OK
 
- checking whether package ‘coop’ can be installed ... OK
See the install log for details.
 
- used C compiler: ‘Debian clang version 19.1.7 (7)’
 
- checking package directory ... OK
 
- checking for future file timestamps ... OK
 
- checking DESCRIPTION meta-information ... OK
 
- checking top-level files ... OK
 
- checking for left-over files ... OK
 
- checking index information ... OK
 
- checking package subdirectories ... OK
 
- checking code files for non-ASCII characters ... OK
 
- checking R files for syntax errors ... OK
 
- checking whether the package can be loaded ... [0s/0s] OK
 
- checking whether the package can be loaded with stated dependencies ... [0s/0s] OK
 
- checking whether the package can be unloaded cleanly ... [0s/0s] OK
 
- checking whether the namespace can be loaded with stated dependencies ... [0s/0s] OK
 
- checking whether the namespace can be unloaded cleanly ... [0s/0s] OK
 
- checking loading without being on the library search path ... [0s/1s] OK
 
- checking use of S3 registration ... OK
 
- checking dependencies in R code ... OK
 
- checking S3 generic/method consistency ... OK
 
- checking replacement functions ... OK
 
- checking foreign function calls ... OK
 
- checking R code for possible problems ... [4s/5s] OK
 
- checking Rd files ... [0s/0s] OK
 
- checking Rd metadata ... OK
 
- checking Rd line widths ... OK
 
- checking Rd cross-references ... OK
 
- checking for missing documentation entries ... OK
 
- checking for code/documentation mismatches ... OK
 
- checking Rd \usage sections ... OK
 
- checking Rd contents ... OK
 
- checking for unstated dependencies in examples ... OK
 
- checking line endings in shell scripts ... OK
 
- checking line endings in C/C++/Fortran sources/headers ... OK
 
- checking line endings in Makefiles ... OK
 
- checking compilation flags in Makevars ... OK
 
- checking for GNU extensions in Makefiles ... OK
 
- checking for portable use of $(BLAS_LIBS) and $(LAPACK_LIBS) ... OK
 
- checking use of PKG_*FLAGS in Makefiles ... OK
 
- checking use of SHLIB_OPENMP_*FLAGS in Makefiles ... OK
 
- checking pragmas in C/C++ headers and code ... OK
 
- checking compilation flags used ... OK
 
- checking compiled code ... OK
 
- checking sizes of PDF files under ‘inst/doc’ ... OK
 
- checking installed files from ‘inst/doc’ ... OK
 
- checking files in ‘vignettes’ ... OK
 
- checking examples ... [1s/1s] OK
 
- checking for unstated dependencies in ‘tests’ ... OK
 
- checking tests ... [3s/4s] OK
  Running ‘dense_matrix.R’ [0s/1s]
  Running ‘dense_matrix_inplace.R’ [0s/0s]
  Running ‘dense_matrix_pairwise.R’ [0s/0s]
  Running ‘dense_vecvec.R’ [0s/0s]
  Running ‘naomit.R’ [0s/1s]
  Running ‘scale.R’ [0s/0s]
  Running ‘sparse_matrix.R’ [0s/0s]
  Running ‘sparse_utils.R’ [0s/0s]
  Running ‘use_method.R’ [0s/0s]
 
- checking for unstated dependencies in vignettes ... OK
 
- checking package vignettes ... OK
 
- checking re-building of vignette outputs ... [13s/17s] OK
 
- checking PDF version of manual ... [5s/7s] OK
 
- checking HTML version of manual ... [1s/1s] OK
 
- checking for non-standard things in the check directory ... OK
 
- DONE
 
Status: 1 NOTE