- using R Under development (unstable) (2025-10-19 r88945)
- using platform: x86_64-pc-linux-gnu
- R was compiled by
Debian clang version 19.1.7 (7)
Debian flang-new version 19.1.7 (7)
- running under: Debian GNU/Linux forky/sid
- using session charset: UTF-8
- checking for file ‘conductor/DESCRIPTION’ ... OK
- checking extension type ... Package
- this is package ‘conductor’ version ‘0.1.1’
- package encoding: UTF-8
- checking CRAN incoming feasibility ... [1s/1s] OK
- checking package namespace information ... OK
- checking package dependencies ... OK
- checking if this is a source package ... OK
- checking if there is a namespace ... OK
- checking for executable files ... OK
- checking for hidden files and directories ... OK
- checking for portable file names ... OK
- checking for sufficient/correct file permissions ... OK
- checking serialization versions ... OK
- checking whether package ‘conductor’ can be installed ... OK
See the install log for details.
- checking package directory ... OK
- checking for future file timestamps ... OK
- checking DESCRIPTION meta-information ... OK
- checking top-level files ... OK
- checking for left-over files ... OK
- checking index information ... OK
- checking package subdirectories ... OK
- checking code files for non-ASCII characters ... OK
- checking R files for syntax errors ... OK
- checking whether the package can be loaded ... [1s/1s] OK
- checking whether the package can be loaded with stated dependencies ... [1s/1s] OK
- checking whether the package can be unloaded cleanly ... [1s/1s] OK
- checking whether the namespace can be loaded with stated dependencies ... [1s/1s] OK
- checking whether the namespace can be unloaded cleanly ... [1s/1s] OK
- checking loading without being on the library search path ... [1s/1s] OK
- checking whether startup messages can be suppressed ... [1s/1s] OK
- checking use of S3 registration ... OK
- checking dependencies in R code ... OK
- checking S3 generic/method consistency ... OK
- checking replacement functions ... OK
- checking foreign function calls ... OK
- checking R code for possible problems ... [5s/6s] OK
- checking Rd files ... [0s/1s] OK
- checking Rd metadata ... OK
- checking Rd line widths ... OK
- checking Rd cross-references ... OK
- checking for missing documentation entries ... OK
- checking for code/documentation mismatches ... OK
- checking Rd \usage sections ... OK
- checking Rd contents ... OK
- checking for unstated dependencies in examples ... OK
- checking examples ... [1s/1s] OK
- checking for unstated dependencies in ‘tests’ ... OK
- checking tests ... [3s/4s] OK
Running ‘testthat.R’ [2s/3s]
- checking PDF version of manual ... [7s/10s] OK
- checking HTML version of manual ... [1s/1s] NOTE
Found the following HTML validation problems:
Conductor.html:927:1 (Conductor.Rd:624): Warning: missing </ul> before </div>
Conductor.html:205:1 (Conductor.Rd:125): Warning: <h5> anchor "Usage" already defined
Conductor.html:211:1 (Conductor.Rd:129): Warning: <h5> anchor "Arguments" already defined
Conductor.html:225:1 (Conductor.Rd:137): Warning: <h5> anchor "Details" already defined
Conductor.html:240:1 (Conductor.Rd:146): Warning: <h5> anchor "Usage" already defined
Conductor.html:246:1 (Conductor.Rd:150): Warning: <h5> anchor "Arguments" already defined
Conductor.html:260:1 (Conductor.Rd:158): Warning: <h5> anchor "Details" already defined
Conductor.html:275:1 (Conductor.Rd:167): Warning: <h5> anchor "Usage" already defined
Conductor.html:302:1 (Conductor.Rd:192): Warning: <h5> anchor "Arguments" already defined
Conductor.html:374:1 (Conductor.Rd:258): Warning: <h5> anchor "Details" already defined
Conductor.html:389:1 (Conductor.Rd:267): Warning: <h5> anchor "Usage" already defined
Conductor.html:414:1 (Conductor.Rd:290): Warning: <h5> anchor "Arguments" already defined
Conductor.html:491:1 (Conductor.Rd:361): Warning: <h5> anchor "Details" already defined
Conductor.html:506:1 (Conductor.Rd:370): Warning: <h5> anchor "Usage" already defined
Conductor.html:512:1 (Conductor.Rd:374): Warning: <h5> anchor "Arguments" already defined
Conductor.html:529:1 (Conductor.Rd:385): Warning: <h5> anchor "Details" already defined
Conductor.html:544:1 (Conductor.Rd:394): Warning: <h5> anchor "Usage" already defined
Conductor.html:550:1 (Conductor.Rd:398): Warning: <h5> anchor "Arguments" already defined
Conductor.html:567:1 (Conductor.Rd:409): Warning: <h5> anchor "Details" already defined
Conductor.html:582:1 (Conductor.Rd:418): Warning: <h5> anchor "Usage" already defined
Conductor.html:588:1 (Conductor.Rd:422): Warning: <h5> anchor "Arguments" already defined
Conductor.html:602:1 (Conductor.Rd:430): Warning: <h5> anchor "Details" already defined
Conductor.html:617:1 (Conductor.Rd:439): Warning: <h5> anchor "Usage" already defined
Conductor.html:623:1 (Conductor.Rd:443): Warning: <h5> anchor "Arguments" already defined
Conductor.html:637:1 (Conductor.Rd:451): Warning: <h5> anchor "Details" already defined
Conductor.html:652:1 (Conductor.Rd:460): Warning: <h5> anchor "Usage" already defined
Conductor.html:658:1 (Conductor.Rd:464): Warning: <h5> anchor "Arguments" already defined
Conductor.html:672:1 (Conductor.Rd:472): Warning: <h5> anchor "Details" already defined
Conductor.html:687:1 (Conductor.Rd:481): Warning: <h5> anchor "Usage" already defined
Conductor.html:693:1 (Conductor.Rd:485): Warning: <h5> anchor "Arguments" already defined
Conductor.html:707:1 (Conductor.Rd:493): Warning: <h5> anchor "Details" already defined
Conductor.html:722:1 (Conductor.Rd:502): Warning: <h5> anchor "Usage" already defined
Conductor.html:728:1 (Conductor.Rd:506): Warning: <h5> anchor "Arguments" already defined
Conductor.html:742:1 (Conductor.Rd:514): Warning: <h5> anchor "Details" already defined
Conductor.html:757:1 (Conductor.Rd:523): Warning: <h5> anchor "Usage" already defined
Conductor.html:763:1 (Conductor.Rd:527): Warning: <h5> anchor "Arguments" already defined
Conductor.html:777:1 (Conductor.Rd:535): Warning: <h5> anchor "Details" already defined
Conductor.html:793:1 (Conductor.Rd:545): Warning: <h5> anchor "Usage" already defined
Conductor.html:799:1 (Conductor.Rd:549): Warning: <h5> anchor "Arguments" already defined
Conductor.html:813:1 (Conductor.Rd:557): Warning: <h5> anchor "Details" already defined
Conductor.html:829:1 (Conductor.Rd:567): Warning: <h5> anchor "Usage" already defined
Conductor.html:835:1 (Conductor.Rd:571): Warning: <h5> anchor "Arguments" already defined
Conductor.html:852:1 (Conductor.Rd:582): Warning: <h5> anchor "Details" already defined
Conductor.html:867:1 (Conductor.Rd:591): Warning: <h5> anchor "Usage" already defined
Conductor.html:873:1 (Conductor.Rd:595): Warning: <h5> anchor "Arguments" already defined
Conductor.html:887:1 (Conductor.Rd:603): Warning: <h5> anchor "Details" already defined
Conductor.html:904:1 (Conductor.Rd:613): Warning: <h5> anchor "Usage" already defined
Conductor.html:910:1 (Conductor.Rd:617): Warning: <h5> anchor "Arguments" already defined
- checking for non-standard things in the check directory ... OK
- DONE
Status: 1 NOTE