- using R Under development (unstable) (2025-11-05 r88988)
- using platform: x86_64-pc-linux-gnu
- R was compiled by
Debian clang version 19.1.7 (7)
Debian flang-new version 19.1.7 (7)
- running under: Debian GNU/Linux forky/sid
- using session charset: UTF-8
- checking for file ‘cffdrs/DESCRIPTION’ ... OK
- checking extension type ... Package
- this is package ‘cffdrs’ version ‘1.9.2’
- package encoding: UTF-8
- checking CRAN incoming feasibility ... [1s/1s] NOTE
Maintainer: ‘Brett Moore <Brett.Moore@nrcan-rncan.gc.ca>’
The BugReports field in DESCRIPTION has
https://github.com/cffdrs/cffdrs_r/issues/new/choose
which should likely be
https://github.com/cffdrs/cffdrs_r/issues/new/choose/issues
instead.
- checking package namespace information ... OK
- checking package dependencies ... OK
- checking if this is a source package ... OK
- checking if there is a namespace ... OK
- checking for executable files ... OK
- checking for hidden files and directories ... OK
- checking for portable file names ... OK
- checking for sufficient/correct file permissions ... OK
- checking whether package ‘cffdrs’ can be installed ... OK
See the install log for details.
- checking package directory ... OK
- checking for future file timestamps ... OK
- checking DESCRIPTION meta-information ... OK
- checking top-level files ... OK
- checking for left-over files ... OK
- checking index information ... OK
- checking package subdirectories ... OK
- checking code files for non-ASCII characters ... OK
- checking R files for syntax errors ... OK
- checking whether the package can be loaded ... [8s/11s] OK
- checking whether the package can be loaded with stated dependencies ... [8s/11s] OK
- checking whether the package can be unloaded cleanly ... [8s/10s] OK
- checking whether the namespace can be loaded with stated dependencies ... [8s/10s] OK
- checking whether the namespace can be unloaded cleanly ... [8s/9s] OK
- checking loading without being on the library search path ... [8s/12s] OK
- checking use of S3 registration ... OK
- checking dependencies in R code ... OK
- checking S3 generic/method consistency ... OK
- checking replacement functions ... OK
- checking foreign function calls ... OK
- checking R code for possible problems ... [43s/56s] OK
- checking Rd files ... [1s/1s] NOTE
checkRd: (-1) fbp.Rd:23-73: Only 3 columns allowed in this table (row 3 has 2)
checkRd: (-1) fbp.Rd:23-73: Only 3 columns allowed in this table (row 4 has 2)
checkRd: (-1) fbp.Rd:23-73: Only 3 columns allowed in this table (row 5 has 2)
checkRd: (-1) fbp.Rd:23-73: Only 3 columns allowed in this table (row 6 has 2)
checkRd: (-1) fbp.Rd:23-73: Only 3 columns allowed in this table (row 7 has 2)
checkRd: (-1) fbp.Rd:23-73: Only 3 columns allowed in this table (row 8 has 2)
checkRd: (-1) fbp.Rd:23-73: Only 3 columns allowed in this table (row 9 has 1)
checkRd: (-1) fbp.Rd:23-73: Only 3 columns allowed in this table (row 18 has 1)
checkRd: (-1) fbp.Rd:23-73: Only 3 columns allowed in this table (row 19 has 2)
checkRd: (-1) fbp.Rd:23-73: Only 3 columns allowed in this table (row 20 has 2)
checkRd: (-1) fbp.Rd:23-73: Only 3 columns allowed in this table (row 21 has 2)
checkRd: (-1) fbp.Rd:23-73: Only 3 columns allowed in this table (row 22 has 1)
checkRd: (-1) fbp.Rd:23-73: Only 3 columns allowed in this table (row 28 has 1)
checkRd: (-1) fbp.Rd:23-73: Only 3 columns allowed in this table (row 29 has 2)
checkRd: (-1) fbp.Rd:23-73: Only 3 columns allowed in this table (row 30 has 2)
checkRd: (-1) fbp.Rd:23-73: Only 3 columns allowed in this table (row 31 has 1)
checkRd: (-1) fbp.Rd:23-73: Only 3 columns allowed in this table (row 46 has 1)
checkRd: (-1) fbp.Rd:78-81: Only 2 columns allowed in this table (row 5 has 1)
checkRd: (-1) fbpRaster.Rd:224-244: Only 2 columns allowed in this table (row 21 has 1)
checkRd: (-1) fbpRaster.Rd:22-72: Only 3 columns allowed in this table (row 3 has 2)
checkRd: (-1) fbpRaster.Rd:22-72: Only 3 columns allowed in this table (row 4 has 2)
checkRd: (-1) fbpRaster.Rd:22-72: Only 3 columns allowed in this table (row 5 has 2)
checkRd: (-1) fbpRaster.Rd:22-72: Only 3 columns allowed in this table (row 6 has 2)
checkRd: (-1) fbpRaster.Rd:22-72: Only 3 columns allowed in this table (row 7 has 2)
checkRd: (-1) fbpRaster.Rd:22-72: Only 3 columns allowed in this table (row 8 has 2)
checkRd: (-1) fbpRaster.Rd:22-72: Only 3 columns allowed in this table (row 9 has 1)
checkRd: (-1) fbpRaster.Rd:22-72: Only 3 columns allowed in this table (row 18 has 1)
checkRd: (-1) fbpRaster.Rd:22-72: Only 3 columns allowed in this table (row 19 has 2)
checkRd: (-1) fbpRaster.Rd:22-72: Only 3 columns allowed in this table (row 20 has 2)
checkRd: (-1) fbpRaster.Rd:22-72: Only 3 columns allowed in this table (row 21 has 2)
checkRd: (-1) fbpRaster.Rd:22-72: Only 3 columns allowed in this table (row 22 has 1)
checkRd: (-1) fbpRaster.Rd:22-72: Only 3 columns allowed in this table (row 28 has 1)
checkRd: (-1) fbpRaster.Rd:22-72: Only 3 columns allowed in this table (row 29 has 2)
checkRd: (-1) fbpRaster.Rd:22-72: Only 3 columns allowed in this table (row 30 has 2)
checkRd: (-1) fbpRaster.Rd:22-72: Only 3 columns allowed in this table (row 31 has 1)
checkRd: (-1) fbpRaster.Rd:22-72: Only 3 columns allowed in this table (row 46 has 1)
- checking Rd metadata ... OK
- checking Rd line widths ... OK
- checking Rd cross-references ... OK
- checking for missing documentation entries ... OK
- checking for code/documentation mismatches ... OK
- checking Rd \usage sections ... OK
- checking Rd contents ... OK
- checking for unstated dependencies in examples ... OK
- checking contents of ‘data’ directory ... OK
- checking data for non-ASCII characters ... [0s/0s] OK
- checking LazyData ... OK
- checking data for ASCII and uncompressed saves ... OK
- checking examples ... [21s/28s] OK
Examples with CPU (user + system) or elapsed time > 5s
user system elapsed
fbpRaster 7.541 0.063 10.089
- checking for unstated dependencies in ‘tests’ ... OK
- checking tests ... [134s/131s] OK
Running ‘testthat.R’ [133s/131s]
- checking PDF version of manual ... [8s/10s] OK
- checking HTML version of manual ... [2s/3s] OK
- checking for non-standard things in the check directory ... OK
- DONE
Status: 2 NOTEs