- using R Under development (unstable) (2024-04-21 r86458)
- using platform: x86_64-pc-linux-gnu
- R was compiled by
Debian clang version 18.1.0 (rc4-1)
Debian flang-new version 18.1.0 (rc4-1)
- running under: Debian GNU/Linux trixie/sid
- using session charset: UTF-8
- checking for file ‘breakfast/DESCRIPTION’ ... OK
- this is package ‘breakfast’ version ‘2.3’
- package encoding: UTF-8
- checking package namespace information ... OK
- checking package dependencies ... OK
- checking if this is a source package ... OK
- checking if there is a namespace ... OK
- checking for executable files ... OK
- checking for hidden files and directories ... OK
- checking for portable file names ... OK
- checking for sufficient/correct file permissions ... OK
- checking serialization versions ... OK
- checking whether package ‘breakfast’ can be installed ... OK
See the install log for details.
- used C compiler: ‘Debian clang version 18.1.0 (rc4-1)’
- used C++ compiler: ‘Debian clang version 18.1.0 (rc4-1)’
- checking package directory ... OK
- checking for future file timestamps ... OK
- checking ‘build’ directory ... OK
- checking DESCRIPTION meta-information ... OK
- checking top-level files ... OK
- checking for left-over files ... OK
- checking index information ... OK
- checking package subdirectories ... OK
- checking code files for non-ASCII characters ... OK
- checking R files for syntax errors ... OK
- checking whether the package can be loaded ... [2s/2s] OK
- checking whether the package can be loaded with stated dependencies ... [1s/2s] OK
- checking whether the package can be unloaded cleanly ... [1s/2s] OK
- checking whether the namespace can be loaded with stated dependencies ... [1s/2s] OK
- checking whether the namespace can be unloaded cleanly ... [2s/2s] OK
- checking loading without being on the library search path ... [2s/2s] OK
- checking whether startup messages can be suppressed ... [2s/3s] OK
- checking use of S3 registration ... OK
- checking dependencies in R code ... OK
- checking S3 generic/method consistency ... OK
- checking replacement functions ... OK
- checking foreign function calls ... OK
- checking R code for possible problems ... [20s/26s] OK
- checking Rd files ... [1s/1s] NOTE
checkRd: (-1) breakfast.Rd:18: Lost braces in \itemize; meant \describe ?
checkRd: (-1) breakfast.Rd:19: Lost braces in \itemize; meant \describe ?
checkRd: (-1) breakfast.Rd:20: Lost braces in \itemize; meant \describe ?
checkRd: (-1) breakfast.Rd:21: Lost braces in \itemize; meant \describe ?
checkRd: (-1) breakfast.Rd:22: Lost braces in \itemize; meant \describe ?
checkRd: (-1) breakfast.Rd:23: Lost braces in \itemize; meant \describe ?
checkRd: (-1) breakfast.Rd:24: Lost braces in \itemize; meant \describe ?
checkRd: (-1) breakfast.Rd:33: Lost braces in \itemize; meant \describe ?
checkRd: (-1) breakfast.Rd:34: Lost braces in \itemize; meant \describe ?
checkRd: (-1) breakfast.Rd:35: Lost braces in \itemize; meant \describe ?
checkRd: (-1) breakfast.Rd:36: Lost braces in \itemize; meant \describe ?
checkRd: (-1) breakfast.Rd:37: Lost braces in \itemize; meant \describe ?
checkRd: (-1) breakfast.Rd:43: Lost braces in \itemize; \value handles \item{}{} directly
checkRd: (-1) breakfast.Rd:44: Lost braces in \itemize; \value handles \item{}{} directly
checkRd: (-1) breakfast.Rd:46: Lost braces in \itemize; \value handles \item{}{} directly
checkRd: (-1) breakfast.Rd:47: Lost braces in \itemize; \value handles \item{}{} directly
checkRd: (-1) breakfast.Rd:48: Lost braces in \itemize; \value handles \item{}{} directly
checkRd: (-1) breakfast.Rd:49: Lost braces in \itemize; \value handles \item{}{} directly
checkRd: (-1) breakfast.Rd:50: Lost braces in \itemize; \value handles \item{}{} directly
checkRd: (-1) model.lp.Rd:23: Lost braces in \itemize; meant \describe ?
checkRd: (-1) model.lp.Rd:24: Lost braces in \itemize; meant \describe ?
- checking Rd metadata ... OK
- checking Rd line widths ... OK
- checking Rd cross-references ... OK
- checking for missing documentation entries ... OK
- checking for code/documentation mismatches ... OK
- checking Rd \usage sections ... OK
- checking Rd contents ... OK
- checking for unstated dependencies in examples ... OK
- checking line endings in C/C++/Fortran sources/headers ... OK
- checking pragmas in C/C++ headers and code ... OK
- checking compilation flags used ... OK
- checking compiled code ... OK
- checking installed files from ‘inst/doc’ ... OK
- checking files in ‘vignettes’ ... OK
- checking examples ... [29s/37s] OK
Examples with CPU (user + system) or elapsed time > 5s
user system elapsed
plot.breakfast.cpts 8.520 0.130 10.651
print.breakfast.cpts 5.487 0.083 7.337
breakfast 4.758 0.128 5.739
sol.wbs2 3.819 0.031 5.410
- checking for unstated dependencies in vignettes ... OK
- checking package vignettes ... OK
- checking re-building of vignette outputs ... [5s/7s] OK
- checking PDF version of manual ... [6s/8s] OK
- checking HTML version of manual ... [1s/2s] OK
- checking for non-standard things in the check directory ... OK
- DONE
Status: 1 NOTE