- using R Under development (unstable) (2025-10-19 r88945)
- using platform: x86_64-pc-linux-gnu
- R was compiled by
Debian clang version 19.1.7 (7)
Debian flang-new version 19.1.7 (7)
- running under: Debian GNU/Linux forky/sid
- using session charset: UTF-8
- checking for file ‘bpnreg/DESCRIPTION’ ... OK
- checking extension type ... Package
- this is package ‘bpnreg’ version ‘2.0.3’
- package encoding: UTF-8
- checking CRAN incoming feasibility ... [2s/2s] OK
- checking package namespace information ... OK
- checking package dependencies ... OK
- checking if this is a source package ... OK
- checking if there is a namespace ... OK
- checking for executable files ... OK
- checking for hidden files and directories ... OK
- checking for portable file names ... OK
- checking for sufficient/correct file permissions ... OK
- checking whether package ‘bpnreg’ can be installed ... OK
See the install log for details.
- used C++ compiler: ‘Debian clang version 19.1.7 (7)’
- checking package directory ... OK
- checking for future file timestamps ... OK
- checking ‘build’ directory ... OK
- checking DESCRIPTION meta-information ... OK
- checking top-level files ... OK
- checking for left-over files ... OK
- checking index information ... OK
- checking package subdirectories ... OK
- checking code files for non-ASCII characters ... OK
- checking R files for syntax errors ... OK
- checking whether the package can be loaded ... [1s/2s] OK
- checking whether the package can be loaded with stated dependencies ... [1s/1s] OK
- checking whether the package can be unloaded cleanly ... [1s/1s] OK
- checking whether the namespace can be loaded with stated dependencies ... [1s/1s] OK
- checking whether the namespace can be unloaded cleanly ... [1s/2s] OK
- checking loading without being on the library search path ... [1s/2s] OK
- checking use of S3 registration ... OK
- checking dependencies in R code ... OK
- checking S3 generic/method consistency ... OK
- checking replacement functions ... OK
- checking foreign function calls ... OK
- checking R code for possible problems ... [17s/22s] OK
- checking Rd files ... [1s/1s] OK
- checking Rd metadata ... OK
- checking Rd line widths ... OK
- checking Rd cross-references ... OK
- checking for missing documentation entries ... OK
- checking for code/documentation mismatches ... OK
- checking Rd \usage sections ... OK
- checking Rd contents ... OK
- checking for unstated dependencies in examples ... OK
- checking contents of ‘data’ directory ... OK
- checking data for non-ASCII characters ... [0s/0s] OK
- checking LazyData ... OK
- checking data for ASCII and uncompressed saves ... OK
- checking line endings in C/C++/Fortran sources/headers ... OK
- checking line endings in Makefiles ... OK
- checking compilation flags in Makevars ... OK
- checking for GNU extensions in Makefiles ... OK
- checking for portable use of $(BLAS_LIBS) and $(LAPACK_LIBS) ... OK
- checking use of PKG_*FLAGS in Makefiles ... OK
- checking use of SHLIB_OPENMP_*FLAGS in Makefiles ... OK
- checking pragmas in C/C++ headers and code ... OK
- checking compilation flags used ... OK
- checking compiled code ... OK
- checking installed files from ‘inst/doc’ ... OK
- checking files in ‘vignettes’ ... OK
- checking examples ... [5s/4s] OK
- checking for unstated dependencies in vignettes ... OK
- checking package vignettes ... OK
- checking re-building of vignette outputs ... [6s/7s] OK
- checking PDF version of manual ... [8s/9s] OK
- checking HTML version of manual ... [2s/4s] NOTE
Found the following HTML validation problems:
DIC_reg.html:66:1 (DIC_reg.Rd:20): Warning: missing </ul> before </div>
Dbd.html:54:1 (Dbd.Rd:14): Warning: missing </ul> before </div>
b_samp.html:74:1 (b_samp.Rd:24): Warning: missing </ul> before </div>
betaBlock.html:70:1 (betaBlock.Rd:22): Warning: missing </ul> before </div>
circ_coef_rcpp.html:58:1 (circ_coef_rcpp.Rd:16): Warning: missing </ul> before </div>
eigen_val.html:46:1 (eigen_val.Rd:10): Warning: missing </ul> before </div>
eigen_vec.html:46:1 (eigen_vec.Rd:10): Warning: missing </ul> before </div>
lik_me.html:108:1 (lik_me.Rd:48): Warning: missing </ul> before </div>
lik_reg.html:66:1 (lik_reg.Rd:20): Warning: missing </ul> before </div>
mmme.html:54:1 (mmme.Rd:14): Warning: missing </ul> before </div>
mmr.html:54:1 (mmr.Rd:14): Warning: missing </ul> before </div>
mvrnorm_arma_eigen.html:54:1 (mvrnorm_arma_eigen.Rd:14): Warning: missing </ul> before </div>
omega_samp.html:63:1 (omega_samp.Rd:19): Warning: missing </ul> before </div>
pnme.html:113:1 (pnme.Rd:51): Warning: missing </ul> before </div>
pnr.html:66:1 (pnr.Rd:20): Warning: missing </ul> before </div>
rho.html:46:1 (rho.Rd:10): Warning: missing </ul> before </div>
slice_rcpp.html:70:1 (slice_rcpp.Rd:22): Warning: missing </ul> before </div>
summe.html:52:1 (summe.Rd:13): Warning: missing </ul> before </div>
sumr.html:50:1 (sumr.Rd:12): Warning: missing </ul> before </div>
theta_bar.html:46:1 (theta_bar.Rd:10): Warning: missing </ul> before </div>
- checking for non-standard things in the check directory ... OK
- DONE
Status: 1 NOTE