- using R Under development (unstable) (2025-10-19 r88945)
- using platform: x86_64-pc-linux-gnu
- R was compiled by
Debian clang version 19.1.7 (7)
Debian flang-new version 19.1.7 (7)
- running under: Debian GNU/Linux forky/sid
- using session charset: UTF-8
- checking for file ‘beakr/DESCRIPTION’ ... OK
- checking extension type ... Package
- this is package ‘beakr’ version ‘0.4.4’
- package encoding: UTF-8
- checking CRAN incoming feasibility ... [1s/2s] OK
- checking package namespace information ... OK
- checking package dependencies ... OK
- checking if this is a source package ... OK
- checking if there is a namespace ... OK
- checking for executable files ... OK
- checking for hidden files and directories ... OK
- checking for portable file names ... OK
- checking for sufficient/correct file permissions ... OK
- checking serialization versions ... OK
- checking whether package ‘beakr’ can be installed ... OK
See the install log for details.
- checking package directory ... OK
- checking for future file timestamps ... OK
- checking DESCRIPTION meta-information ... OK
- checking top-level files ... OK
- checking for left-over files ... OK
- checking index information ... OK
- checking package subdirectories ... OK
- checking code files for non-ASCII characters ... OK
- checking R files for syntax errors ... OK
- checking whether the package can be loaded ... [0s/1s] OK
- checking whether the package can be loaded with stated dependencies ... [0s/1s] OK
- checking whether the package can be unloaded cleanly ... [0s/0s] OK
- checking whether the namespace can be loaded with stated dependencies ... [0s/0s] OK
- checking whether the namespace can be unloaded cleanly ... [0s/0s] OK
- checking loading without being on the library search path ... [0s/0s] OK
- checking use of S3 registration ... OK
- checking dependencies in R code ... OK
- checking S3 generic/method consistency ... OK
- checking replacement functions ... OK
- checking foreign function calls ... OK
- checking R code for possible problems ... [5s/5s] OK
- checking Rd files ... [1s/1s] OK
- checking Rd metadata ... OK
- checking Rd line widths ... OK
- checking Rd cross-references ... OK
- checking for missing documentation entries ... OK
- checking for code/documentation mismatches ... OK
- checking Rd \usage sections ... OK
- checking Rd contents ... OK
- checking for unstated dependencies in examples ... OK
- checking examples ... [1s/1s] OK
- checking PDF version of manual ... [9s/12s] OK
- checking HTML version of manual ... [2s/3s] NOTE
Found the following HTML validation problems:
Beakr.html:103:1 (Beakr.Rd:54): Warning: <h5> anchor "Usage" already defined
Beakr.html:119:1 (Beakr.Rd:64): Warning: <h5> anchor "Usage" already defined
Beakr.html:153:1 (Beakr.Rd:86): Warning: <h5> anchor "Usage" already defined
Beakr.html:169:1 (Beakr.Rd:96): Warning: <h5> anchor "Usage" already defined
Beakr.html:175:1 (Beakr.Rd:100): Warning: <h5> anchor "Arguments" already defined
Error.html:116:1 (Error.Rd:62): Warning: <h5> anchor "Usage" already defined
Error.html:122:1 (Error.Rd:66): Warning: <h5> anchor "Arguments" already defined
Listener.html:109:1 (Listener.Rd:60): Warning: <h5> anchor "Usage" already defined
Listener.html:115:1 (Listener.Rd:64): Warning: <h5> anchor "Arguments" already defined
Middleware.html:116:1 (Middleware.Rd:67): Warning: <h5> anchor "Usage" already defined
Middleware.html:122:1 (Middleware.Rd:71): Warning: <h5> anchor "Arguments" already defined
Request.html:132:1 (Request.Rd:75): Warning: <h5> anchor "Usage" already defined
Request.html:138:1 (Request.Rd:79): Warning: <h5> anchor "Arguments" already defined
Request.html:161:1 (Request.Rd:92): Warning: <h5> anchor "Usage" already defined
Request.html:167:1 (Request.Rd:96): Warning: <h5> anchor "Arguments" already defined
Request.html:192:1 (Request.Rd:111): Warning: <h5> anchor "Usage" already defined
Request.html:198:1 (Request.Rd:115): Warning: <h5> anchor "Arguments" already defined
Request.html:221:1 (Request.Rd:128): Warning: <h5> anchor "Usage" already defined
Request.html:227:1 (Request.Rd:132): Warning: <h5> anchor "Arguments" already defined
Request.html:250:1 (Request.Rd:145): Warning: <h5> anchor "Usage" already defined
Request.html:256:1 (Request.Rd:149): Warning: <h5> anchor "Arguments" already defined
Response.html:134:1 (Response.Rd:69): Warning: <h5> anchor "Usage" already defined
Response.html:140:1 (Response.Rd:73): Warning: <h5> anchor "Arguments" already defined
Response.html:163:1 (Response.Rd:86): Warning: <h5> anchor "Usage" already defined
Response.html:169:1 (Response.Rd:90): Warning: <h5> anchor "Arguments" already defined
Response.html:192:1 (Response.Rd:103): Warning: <h5> anchor "Usage" already defined
Response.html:198:1 (Response.Rd:107): Warning: <h5> anchor "Arguments" already defined
Response.html:221:1 (Response.Rd:120): Warning: <h5> anchor "Usage" already defined
Response.html:227:1 (Response.Rd:124): Warning: <h5> anchor "Arguments" already defined
Response.html:250:1 (Response.Rd:137): Warning: <h5> anchor "Usage" already defined
Response.html:256:1 (Response.Rd:141): Warning: <h5> anchor "Arguments" already defined
Response.html:281:1 (Response.Rd:156): Warning: <h5> anchor "Usage" already defined
Response.html:287:1 (Response.Rd:160): Warning: <h5> anchor "Arguments" already defined
Response.html:310:1 (Response.Rd:173): Warning: <h5> anchor "Usage" already defined
Response.html:316:1 (Response.Rd:177): Warning: <h5> anchor "Arguments" already defined
Response.html:339:1 (Response.Rd:190): Warning: <h5> anchor "Usage" already defined
Response.html:345:1 (Response.Rd:194): Warning: <h5> anchor "Arguments" already defined
Response.html:372:1 (Response.Rd:211): Warning: <h5> anchor "Usage" already defined
Response.html:378:1 (Response.Rd:215): Warning: <h5> anchor "Arguments" already defined
Router.html:114:1 (Router.Rd:59): Warning: <h5> anchor "Usage" already defined
Router.html:120:1 (Router.Rd:63): Warning: <h5> anchor "Arguments" already defined
Router.html:143:1 (Router.Rd:76): Warning: <h5> anchor "Usage" already defined
Router.html:149:1 (Router.Rd:80): Warning: <h5> anchor "Arguments" already defined
Router.html:174:1 (Router.Rd:95): Warning: <h5> anchor "Usage" already defined
Router.html:180:1 (Router.Rd:99): Warning: <h5> anchor "Arguments" already defined
Router.html:207:1 (Router.Rd:116): Warning: <h5> anchor "Usage" already defined
Router.html:213:1 (Router.Rd:120): Warning: <h5> anchor "Arguments" already defined
- checking for non-standard things in the check directory ... OK
- DONE
Status: 1 NOTE