* using log directory ‘/home/hornik/tmp/R.check/r-devel-clang/Work/PKGS/bayesplot.Rcheck’ * using R Under development (unstable) (2025-07-13 r88407) * using platform: x86_64-pc-linux-gnu * R was compiled by Debian clang version 19.1.7 (3+b1) Debian flang-new version 19.1.7 (3+b1) * running under: Debian GNU/Linux 13 (trixie) * using session charset: UTF-8 * checking for file ‘bayesplot/DESCRIPTION’ ... OK * checking extension type ... Package * this is package ‘bayesplot’ version ‘1.13.0’ * package encoding: UTF-8 * checking CRAN incoming feasibility ... [1s/2s] OK * checking package namespace information ... OK * checking package dependencies ... OK * checking if this is a source package ... OK * checking if there is a namespace ... OK * checking for executable files ... OK * checking for hidden files and directories ... OK * checking for portable file names ... OK * checking for sufficient/correct file permissions ... OK * checking serialization versions ... OK * checking whether package ‘bayesplot’ can be installed ... OK See 'https://www.r-project.org/nosvn/R.check/r-devel-linux-x86_64-debian-clang/bayesplot-00install.html' for details. * checking package directory ... OK * checking for future file timestamps ... OK * checking ‘build’ directory ... OK * checking DESCRIPTION meta-information ... OK * checking top-level files ... OK * checking for left-over files ... OK * checking index information ... OK * checking package subdirectories ... OK * checking code files for non-ASCII characters ... OK * checking R files for syntax errors ... OK * checking whether the package can be loaded ... [2s/2s] OK * checking whether the package can be loaded with stated dependencies ... [1s/1s] OK * checking whether the package can be unloaded cleanly ... [1s/2s] OK * checking whether the namespace can be loaded with stated dependencies ... [1s/1s] OK * checking whether the namespace can be unloaded cleanly ... [2s/2s] OK * checking loading without being on the library search path ... [2s/2s] OK * checking whether startup messages can be suppressed ... [2s/2s] OK * checking use of S3 registration ... OK * checking dependencies in R code ... OK * checking S3 generic/method consistency ... OK * checking replacement functions ... OK * checking foreign function calls ... OK * checking R code for possible problems ... [25s/32s] OK * checking Rd files ... [1s/2s] OK * checking Rd metadata ... OK * checking Rd line widths ... OK * checking Rd cross-references ... OK * checking for missing documentation entries ... OK * checking for code/documentation mismatches ... OK * checking Rd \usage sections ... OK * checking Rd contents ... OK * checking for unstated dependencies in examples ... OK * checking R/sysdata.rda ... OK * checking installed files from ‘inst/doc’ ... OK * checking files in ‘vignettes’ ... OK * checking examples ... [97s/140s] OK Examples with CPU (user + system) or elapsed time > 5s user system elapsed bayesplot-colors 7.465 0.008 9.558 PPC-test-statistics 6.678 0.027 10.734 MCMC-traces 6.527 0.016 8.660 PPD-intervals 6.379 0.009 8.684 MCMC-intervals 5.636 0.020 7.538 bayesplot_theme_get 5.459 0.001 9.070 PPC-intervals 5.300 0.004 6.919 bayesplot-helpers 4.515 0.007 6.494 MCMC-combos 4.297 0.130 6.196 pp_check 4.298 0.019 6.332 tidy-params 3.708 0.004 5.748 MCMC-diagnostics 3.595 0.052 5.299 PPC-distributions 3.617 0.028 5.746 bayesplot-package 3.113 0.008 5.353 * checking for unstated dependencies in ‘tests’ ... OK * checking tests ... [232s/312s] OK Running ‘testthat.R’ [231s/311s] * checking for unstated dependencies in vignettes ... OK * checking package vignettes ... OK * checking re-building of vignette outputs ... [11s/16s] OK * checking PDF version of manual ... [9s/11s] OK * checking HTML version of manual ... [5s/7s] OK * checking for non-standard things in the check directory ... OK * DONE Status: OK