- using R Under development (unstable) (2023-11-29 r85646)
- using platform: x86_64-pc-linux-gnu
- R was compiled by
Debian clang version 17.0.5 (1)
Debian flang-new version 17.0.5 (1)
- running under: Debian GNU/Linux trixie/sid
- using session charset: UTF-8
- checking for file ‘bayesbr/DESCRIPTION’ ... OK
- this is package ‘bayesbr’ version ‘0.0.1.0’
- package encoding: UTF-8
- checking package namespace information ... OK
- checking package dependencies ... OK
- checking if this is a source package ... OK
- checking if there is a namespace ... OK
- checking for executable files ... OK
- checking for hidden files and directories ... OK
- checking for portable file names ... OK
- checking for sufficient/correct file permissions ... OK
- checking whether package ‘bayesbr’ can be installed ... OK
See the install log for details.
- used C++ compiler: ‘Debian clang version 17.0.5 (1)’
- checking C++ specification ... OK
Not all R platforms support C++17
- checking package directory ... OK
- checking for future file timestamps ... OK
- checking ‘build’ directory ... OK
- checking DESCRIPTION meta-information ... OK
- checking top-level files ... OK
- checking for left-over files ... OK
- checking index information ... OK
- checking package subdirectories ... OK
- checking R files for non-ASCII characters ... OK
- checking R files for syntax errors ... OK
- checking whether the package can be loaded ... [5s/6s] OK
- checking whether the package can be loaded with stated dependencies ... [5s/5s] OK
- checking whether the package can be unloaded cleanly ... [5s/5s] OK
- checking whether the namespace can be loaded with stated dependencies ... [5s/5s] OK
- checking whether the namespace can be unloaded cleanly ... [5s/6s] OK
- checking loading without being on the library search path ... [9s/12s] OK
- checking use of S3 registration ... OK
- checking dependencies in R code ... OK
- checking S3 generic/method consistency ... OK
- checking replacement functions ... OK
- checking foreign function calls ... OK
- checking R code for possible problems ... [31s/38s] OK
- checking Rd files ... [1s/1s] NOTE
checkRd: (-1) FoodExpenditure.Rd:48: Lost braces
48 | doi{10.1002/jae.3950090208} Griffiths, W.E., Hill, R.C., and Judge, G.G. (1993).
| ^
checkRd: (-1) GasolineYield.Rd:30: Lost braces; missing escapes or markup?
30 | variables. It was observed that there are only ten sets of values for the first three explanatory variables, so these sets served as conditions for controlled distillation. These conditions are listed in the variable \ code {batch}.
| ^
- checking Rd metadata ... OK
- checking Rd line widths ... OK
- checking Rd cross-references ... OK
- checking for missing documentation entries ... OK
- checking for code/documentation mismatches ... OK
- checking Rd \usage sections ... OK
- checking Rd contents ... OK
- checking for unstated dependencies in examples ... OK
- checking contents of ‘data’ directory ... OK
- checking data for non-ASCII characters ... [0s/0s] OK
- checking LazyData ... OK
- checking data for ASCII and uncompressed saves ... OK
- checking line endings in shell scripts ... OK
- checking line endings in C/C++/Fortran sources/headers ... OK
- checking line endings in Makefiles ... OK
- checking compilation flags in Makevars ... OK
- checking for GNU extensions in Makefiles ... NOTE
GNU make is a SystemRequirements.
- checking for portable use of $(BLAS_LIBS) and $(LAPACK_LIBS) ... OK
- checking use of PKG_*FLAGS in Makefiles ... OK
- checking use of SHLIB_OPENMP_*FLAGS in Makefiles ... OK
- checking pragmas in C/C++ headers and code ... OK
- checking compilation flags used ... OK
- checking compiled code ... OK
- checking installed files from ‘inst/doc’ ... OK
- checking files in ‘vignettes’ ... OK
- checking examples ... [82s/91s] OK
Examples with CPU (user + system) or elapsed time > 5s
user system elapsed
BIC_bayesbr 5.472 0.103 6.197
ImpreciseTask 5.301 0.008 5.794
predict.bayesbr 5.249 0.016 5.785
AIC_bayesbr 4.945 0.107 5.508
DIC_bayesbr 4.743 0.059 5.039
- checking for unstated dependencies in vignettes ... OK
- checking package vignettes in ‘inst/doc’ ... OK
- checking re-building of vignette outputs ... [11s/14s] OK
- checking PDF version of manual ... [7s/12s] OK
- checking HTML version of manual ... [2s/4s] OK
- checking for non-standard things in the check directory ... OK
- DONE
Status: 2 NOTEs