- using R Under development (unstable) (2023-05-24 r84463)
- using platform: x86_64-pc-linux-gnu
- R was compiled by
Debian clang version 15.0.6
GNU Fortran (Debian 12.2.0-14) 12.2.0
- running under: Debian GNU/Linux 12 (bookworm)
- using session charset: UTF-8
- checking for file ‘albatross/DESCRIPTION’ ... OK
- checking extension type ... Package
- this is package ‘albatross’ version ‘0.3-5’
- checking package namespace information ... OK
- checking package dependencies ... OK
- checking if this is a source package ... OK
- checking if there is a namespace ... OK
- checking for executable files ... OK
- checking for hidden files and directories ... OK
- checking for portable file names ... OK
- checking for sufficient/correct file permissions ... OK
- checking serialization versions ... OK
- checking whether package ‘albatross’ can be installed ... OK
- checking package directory ... OK
- checking for future file timestamps ... OK
- checking DESCRIPTION meta-information ... OK
- checking top-level files ... OK
- checking for left-over files ... OK
- checking index information ... OK
- checking package subdirectories ... OK
- checking R files for non-ASCII characters ... OK
- checking R files for syntax errors ... OK
- checking whether the package can be loaded ... [2s/3s] OK
- checking whether the package can be loaded with stated dependencies ... [2s/3s] OK
- checking whether the package can be unloaded cleanly ... [2s/3s] OK
- checking whether the namespace can be loaded with stated dependencies ... [2s/3s] OK
- checking whether the namespace can be unloaded cleanly ... [2s/3s] OK
- checking loading without being on the library search path ... [2s/3s] OK
- checking use of S3 registration ... OK
- checking dependencies in R code ... OK
- checking S3 generic/method consistency ... OK
- checking replacement functions ... OK
- checking foreign function calls ... OK
- checking R code for possible problems ... [20s/24s] OK
- checking Rd files ... [6s/7s] OK
- checking Rd metadata ... OK
- checking Rd line widths ... OK
- checking Rd cross-references ... OK
- checking for missing documentation entries ... OK
- checking for code/documentation mismatches ... OK
- checking Rd \usage sections ... OK
- checking Rd contents ... OK
- checking for unstated dependencies in examples ... OK
- checking contents of ‘data’ directory ... OK
- checking data for non-ASCII characters ... [0s/1s] OK
- checking data for ASCII and uncompressed saves ... OK
- checking examples ... [15s/18s] OK
Examples with CPU (user + system) or elapsed time > 5s
user system elapsed
feemparafac 4.205 0.023 5.016
- checking for unstated dependencies in ‘tests’ ... OK
- checking tests ... [154s/185s] OK
Running ‘feem.R’ [2s/3s]
Running ‘feemcube.R’ [3s/3s]
Running ‘feemife.R’ [3s/4s]
Running ‘feemlist.R’ [3s/3s]
Running ‘feemscale.R’ [2s/3s]
Running ‘feemscatter.R’ [6s/10s]
Running ‘flame.R’ [18s/21s]
Running ‘grid.R’ [3s/4s]
Running ‘import.R’ [3s/3s]
Running ‘indices.R’ [3s/3s]
Running ‘jackknife.R’ [51s/61s]
Running ‘parafac.R’ [6s/7s]
Running ‘splithalf.R’ [49s/55s]
Running ‘whittaker.R’ [3s/3s]
- checking PDF version of manual ... [11s/15s] OK
- checking HTML version of manual ... [5s/6s] OK
- checking for non-standard things in the check directory ... OK
- DONE
Status: OK