- using R Under development (unstable) (2025-06-27 r88363)
- using platform: x86_64-pc-linux-gnu
- R was compiled by
Debian clang version 19.1.7 (3+b1)
Debian flang-new version 19.1.7 (3+b1)
- running under: Debian GNU/Linux 13 (trixie)
- using session charset: UTF-8
- checking for file ‘adamethods/DESCRIPTION’ ... OK
- checking extension type ... Package
- this is package ‘adamethods’ version ‘1.2.1’
- checking CRAN incoming feasibility ... [1s/1s] NOTE
Maintainer: ‘Guillermo Vinue <Guillermo.Vinue@uv.es>’
No Authors@R field in DESCRIPTION.
Please add one, modifying
Authors@R: c(person(given = "Guillermo",
family = "Vinue",
role = c("aut", "cre"),
email = "guillermo.vinue@uv.es"),
person(given = "Irene",
family = "Epifanio",
role = "aut"))
as necessary.
Found the following URLs which should use \doi (with the DOI name only):
File ‘adalara.Rd’:
https://doi.org/10.18637/jss.v030.i08
https://doi.org/10.1016/j.csda.2007.11.008
https://doi.org/10.1016/j.physa.2018.12.036
https://doi.org/10.18637/jss.v077.i06
File ‘adalara_no_paral.Rd’:
https://doi.org/10.18637/jss.v030.i08
https://doi.org/10.1016/j.csda.2007.11.008
https://doi.org/10.1016/j.physa.2018.12.036
https://doi.org/10.18637/jss.v077.i06
File ‘archetypoids_funct.Rd’:
https://doi.org/10.1016/j.csda.2016.06.007
File ‘archetypoids_funct_multiv.Rd’:
https://doi.org/10.1016/j.csda.2016.06.007
File ‘archetypoids_funct_multiv_robust.Rd’:
https://doi.org/10.1016/j.physa.2018.12.036
File ‘archetypoids_funct_robust.Rd’:
https://doi.org/10.1016/j.physa.2018.12.036
File ‘archetypoids_norm_frob.Rd’:
https://doi.org/10.18637/jss.v030.i08
https://doi.org/10.1016/j.physa.2018.12.036
https://doi.org/10.1016/j.csda.2015.01.018
https://doi.org/10.18637/jss.v077.i06
File ‘archetypoids_robust.Rd’:
https://doi.org/10.1016/j.physa.2018.12.036
File ‘bisquare_function.Rd’:
https://doi.org/10.1016/j.physa.2018.12.036
File ‘do_ada.Rd’:
https://doi.org/10.18637/jss.v030.i08
https://doi.org/10.1016/j.csda.2015.01.018
https://doi.org/10.18637/jss.v077.i06
File ‘do_ada_robust.Rd’:
https://doi.org/10.1016/j.physa.2018.12.036
File ‘do_fada.Rd’:
https://doi.org/10.1016/j.csda.2016.06.007
File ‘do_fada_multiv.Rd’:
https://doi.org/10.1016/j.csda.2016.06.007
File ‘do_fada_multiv_robust.Rd’:
https://doi.org/10.1016/j.physa.2018.12.036
File ‘do_fada_robust.Rd’:
https://doi.org/10.1016/j.physa.2018.12.036
File ‘fadalara.Rd’:
https://doi.org/10.1016/j.csda.2016.06.007
https://doi.org/10.1016/j.csda.2007.11.008
https://doi.org/10.1016/j.physa.2018.12.036
File ‘fadalara_no_paral.Rd’:
https://doi.org/10.1016/j.csda.2016.06.007
https://doi.org/10.1016/j.csda.2007.11.008
https://doi.org/10.1016/j.physa.2018.12.036
File ‘frobenius_norm.Rd’:
https://doi.org/10.18637/jss.v030.i08
https://doi.org/10.1016/j.csda.2015.01.018
https://doi.org/10.18637/jss.v077.i06
File ‘frobenius_norm_funct.Rd’:
https://doi.org/10.1016/j.csda.2016.06.007
File ‘frobenius_norm_funct_multiv.Rd’:
https://doi.org/10.1016/j.csda.2016.06.007
File ‘frobenius_norm_funct_multiv_robust.Rd’:
https://doi.org/10.1016/j.physa.2018.12.036
File ‘frobenius_norm_funct_robust.Rd’:
https://doi.org/10.1016/j.physa.2018.12.036
File ‘frobenius_norm_robust.Rd’:
https://doi.org/10.1016/j.physa.2018.12.036
File ‘int_prod_mat.Rd’:
https://doi.org/10.1016/j.physa.2018.12.036
File ‘int_prod_mat_funct.Rd’:
https://doi.org/10.1016/j.physa.2018.12.036
File ‘int_prod_mat_sq.Rd’:
https://doi.org/10.1016/j.physa.2018.12.036
File ‘int_prod_mat_sq_funct.Rd’:
https://doi.org/10.1016/j.physa.2018.12.036
File ‘outl_toler.Rd’:
https://doi.org/10.18637/jss.v036.i05
File ‘stepArchetypesRawData_funct.Rd’:
https://doi.org/10.2307/1269949
https://doi.org/10.1016/j.csda.2016.06.007
https://doi.org/10.18637/jss.v030.i08
File ‘stepArchetypesRawData_funct_multiv.Rd’:
https://doi.org/10.2307/1269949
https://doi.org/10.1016/j.csda.2016.06.007
https://doi.org/10.18637/jss.v030.i08
File ‘stepArchetypesRawData_funct_multiv_robust.Rd’:
https://doi.org/10.2307/1269949
https://doi.org/10.1016/j.csda.2016.06.007
https://doi.org/10.18637/jss.v030.i08
https://doi.org/10.1016/j.physa.2018.12.036
File ‘stepArchetypesRawData_funct_robust.Rd’:
https://doi.org/10.2307/1269949
https://doi.org/10.1016/j.csda.2016.06.007
https://doi.org/10.18637/jss.v030.i08
https://doi.org/10.1016/j.physa.2018.12.036
File ‘stepArchetypesRawData_norm_frob.Rd’:
https://doi.org/10.18637/jss.v030.i08
https://doi.org/10.1016/j.physa.2018.12.036
https://doi.org/10.1016/j.csda.2015.01.018
https://doi.org/10.18637/jss.v077.i06
File ‘stepArchetypesRawData_robust.Rd’:
https://doi.org/10.1016/j.physa.2018.12.036
- checking package namespace information ... OK
- checking package dependencies ... OK
- checking if this is a source package ... OK
- checking if there is a namespace ... OK
- checking for executable files ... OK
- checking for hidden files and directories ... OK
- checking for portable file names ... OK
- checking for sufficient/correct file permissions ... OK
- checking serialization versions ... OK
- checking whether package ‘adamethods’ can be installed ... OK
See the install log for details.
- checking package directory ... OK
- checking for future file timestamps ... OK
- checking DESCRIPTION meta-information ... OK
- checking top-level files ... OK
- checking for left-over files ... OK
- checking index information ... OK
- checking package subdirectories ... OK
- checking code files for non-ASCII characters ... OK
- checking R files for syntax errors ... OK
- checking whether the package can be loaded ... [3s/5s] OK
- checking whether the package can be loaded with stated dependencies ... [3s/3s] OK
- checking whether the package can be unloaded cleanly ... [3s/4s] OK
- checking whether the namespace can be loaded with stated dependencies ... [3s/4s] OK
- checking whether the namespace can be unloaded cleanly ... [3s/4s] OK
- checking loading without being on the library search path ... [3s/5s] OK
- checking use of S3 registration ... OK
- checking dependencies in R code ... OK
- checking S3 generic/method consistency ... OK
- checking replacement functions ... OK
- checking foreign function calls ... OK
- checking R code for possible problems ... [27s/36s] OK
- checking Rd files ... [1s/1s] OK
- checking Rd metadata ... OK
- checking Rd line widths ... OK
- checking Rd cross-references ... OK
- checking for missing documentation entries ... OK
- checking for code/documentation mismatches ... OK
- checking Rd \usage sections ... OK
- checking Rd contents ... OK
- checking for unstated dependencies in examples ... OK
- checking LazyData ... INFO
'LazyData' is specified without a 'data' directory
- checking examples ... [12s/16s] OK
- checking PDF version of manual ... [6s/9s] OK
- checking HTML version of manual ... [3s/4s] OK
- checking for non-standard things in the check directory ... OK
- DONE
Status: 1 NOTE