* using log directory ‘/home/hornik/tmp/R.check/r-devel-clang/Work/PKGS/Sejong.Rcheck’ * using R Under development (unstable) (2025-07-13 r88407) * using platform: x86_64-pc-linux-gnu * R was compiled by Debian clang version 19.1.7 (3+b1) Debian flang-new version 19.1.7 (3+b1) * running under: Debian GNU/Linux 13 (trixie) * using session charset: UTF-8 * checking for file ‘Sejong/DESCRIPTION’ ... OK * this is package ‘Sejong’ version ‘0.01’ * package encoding: UTF-8 * checking CRAN incoming feasibility ... [0s/1s] NOTE Maintainer: ‘Heewon Jeon ’ No Authors@R field in DESCRIPTION. Please add one, modifying Authors@R: person(given = "Heewon", family = "Jeon", role = c("aut", "cre"), email = "madjakarta@gmail.com") as necessary. The Description field contains Sejong(http://www.sejong.or.kr/) corpus and Hannanum(http://semanticweb.kaist.ac.kr/home/index.php/HanNanum) Please enclose URLs in angle brackets (<...>). * checking package namespace information ... OK * checking package dependencies ... OK * checking if this is a source package ... OK * checking if there is a namespace ... OK * checking for executable files ... OK * checking for hidden files and directories ... OK * checking for portable file names ... OK * checking for sufficient/correct file permissions ... OK * checking serialization versions ... OK * checking whether package ‘Sejong’ can be installed ... OK See 'https://www.r-project.org/nosvn/R.check/r-devel-linux-x86_64-debian-clang/Sejong-00install.html' for details. * checking package directory ... OK * checking for future file timestamps ... OK * checking DESCRIPTION meta-information ... NOTE Malformed Title field: should not end in a period. Malformed Description field: should contain one or more complete sentences. * checking top-level files ... OK * checking for left-over files ... OK * checking index information ... OK * checking package subdirectories ... OK * checking code files for non-ASCII characters ... OK * checking R files for syntax errors ... OK * checking whether the package can be loaded ... [0s/0s] OK * checking whether the package can be loaded with stated dependencies ... [0s/0s] OK * checking whether the package can be unloaded cleanly ... [0s/0s] OK * checking whether the namespace can be loaded with stated dependencies ... [0s/0s] OK * checking whether the namespace can be unloaded cleanly ... [0s/0s] OK * checking loading without being on the library search path ... [0s/0s] OK * checking whether startup messages can be suppressed ... [0s/0s] OK * checking use of S3 registration ... OK * checking dependencies in R code ... OK * checking S3 generic/method consistency ... OK * checking replacement functions ... OK * checking foreign function calls ... OK * checking R code for possible problems ... [3s/4s] OK * checking for missing documentation entries ... OK * checking examples ... NONE * checking PDF version of manual ... [2s/3s] OK * checking for non-standard things in the check directory ... OK * DONE Status: 2 NOTEs