- using R Under development (unstable) (2025-10-19 r88945)
- using platform: x86_64-pc-linux-gnu
- R was compiled by
Debian clang version 19.1.7 (7)
Debian flang-new version 19.1.7 (7)
- running under: Debian GNU/Linux forky/sid
- using session charset: UTF-8
- checking for file ‘STATcubeR/DESCRIPTION’ ... OK
- checking extension type ... Package
- this is package ‘STATcubeR’ version ‘1.0.0’
- package encoding: UTF-8
- checking CRAN incoming feasibility ... [1s/2s] OK
- checking package namespace information ... OK
- checking package dependencies ... OK
- checking if this is a source package ... OK
- checking if there is a namespace ... OK
- checking for executable files ... OK
- checking for hidden files and directories ... OK
- checking for portable file names ... OK
- checking for sufficient/correct file permissions ... OK
- checking whether package ‘STATcubeR’ can be installed ... OK
See the install log for details.
- checking package directory ... OK
- checking for future file timestamps ... OK
- checking DESCRIPTION meta-information ... NOTE
Missing dependency on R >= 4.1.0 because package code uses the pipe
|> or function shorthand \(...) syntax added in R 4.1.0.
File(s) using such syntax:
‘od_list.R’ ‘od_resource.R’ ‘od_utils.R’ ‘other_endpoints.R’
‘sc_data.R’ ‘schema.R’ ‘schema_uri.R’ ‘sdmx_table.R’ ‘table.R’
‘table_as_data_frame.R’ ‘table_json.R’ ‘table_meta.R’ ‘table_saved.R’
- checking top-level files ... OK
- checking for left-over files ... OK
- checking index information ... OK
- checking package subdirectories ... OK
- checking code files for non-ASCII characters ... OK
- checking R files for syntax errors ... OK
- checking whether the package can be loaded ... [1s/1s] OK
- checking whether the package can be loaded with stated dependencies ... [1s/1s] OK
- checking whether the package can be unloaded cleanly ... [1s/1s] OK
- checking whether the namespace can be loaded with stated dependencies ... [1s/1s] OK
- checking whether the namespace can be unloaded cleanly ... [1s/1s] OK
- checking loading without being on the library search path ... [1s/1s] OK
- checking whether startup messages can be suppressed ... [1s/1s] OK
- checking use of S3 registration ... OK
- checking dependencies in R code ... OK
- checking S3 generic/method consistency ... OK
- checking replacement functions ... OK
- checking foreign function calls ... OK
- checking R code for possible problems ... [13s/18s] OK
- checking Rd files ... [1s/1s] OK
- checking Rd metadata ... OK
- checking Rd line widths ... OK
- checking Rd cross-references ... OK
- checking for missing documentation entries ... OK
- checking for code/documentation mismatches ... OK
- checking Rd \usage sections ... OK
- checking Rd contents ... OK
- checking for unstated dependencies in examples ... OK
- checking examples ... [7s/10s] OK
- checking for unstated dependencies in ‘tests’ ... OK
- checking tests ... [1s/1s] OK
Running ‘spelling.R’ [0s/0s]
- checking PDF version of manual ... [9s/12s] OK
- checking HTML version of manual ... [2s/3s] NOTE
Found the following HTML validation problems:
od_table_class.html:133:1 (od_table_class.Rd:75): Warning: missing </ul> before </div>
od_table_class.html:123:1 (od_table_class.Rd:71): Warning: <h5> anchor "Usage" already defined
sc_data.html:137:1 (sc_data.Rd:110): Warning: <h5> anchor "Usage" already defined
sc_data.html:143:1 (sc_data.Rd:114): Warning: <h5> anchor "Arguments" already defined
sc_data.html:180:1 (sc_data.Rd:140): Warning: <h5> anchor "Usage" already defined
sc_data.html:186:1 (sc_data.Rd:144): Warning: <h5> anchor "Arguments" already defined
sc_data.html:199:1 (sc_data.Rd:151): Warning: <h5> anchor "Examples" already defined
sc_data.html:217:1 (sc_data.Rd:165): Warning: <h5> anchor "Usage" already defined
sc_data.html:223:1 (sc_data.Rd:169): Warning: <h5> anchor "Arguments" already defined
sc_data.html:239:1 (sc_data.Rd:179): Warning: <h5> anchor "Examples" already defined
sc_data.html:262:1 (sc_data.Rd:197): Warning: <h5> anchor "Usage" already defined
sc_data.html:268:1 (sc_data.Rd:201): Warning: <h5> anchor "Arguments" already defined
sc_recoder.html:109:1 (sc_recoder.Rd:81): Warning: <h5> anchor "Usage" already defined
sc_recoder.html:115:1 (sc_recoder.Rd:85): Warning: <h5> anchor "Arguments" already defined
sc_recoder.html:142:1 (sc_recoder.Rd:102): Warning: <h5> anchor "Usage" already defined
sc_recoder.html:148:1 (sc_recoder.Rd:106): Warning: <h5> anchor "Arguments" already defined
sc_recoder.html:175:1 (sc_recoder.Rd:123): Warning: <h5> anchor "Usage" already defined
sc_recoder.html:181:1 (sc_recoder.Rd:127): Warning: <h5> anchor "Arguments" already defined
sc_recoder.html:210:1 (sc_recoder.Rd:146): Warning: <h5> anchor "Usage" already defined
sc_recoder.html:216:1 (sc_recoder.Rd:150): Warning: <h5> anchor "Arguments" already defined
sc_recoder.html:243:1 (sc_recoder.Rd:167): Warning: <h5> anchor "Usage" already defined
sc_recoder.html:249:1 (sc_recoder.Rd:171): Warning: <h5> anchor "Arguments" already defined
sc_recoder.html:276:1 (sc_recoder.Rd:188): Warning: <h5> anchor "Usage" already defined
sc_recoder.html:282:1 (sc_recoder.Rd:192): Warning: <h5> anchor "Arguments" already defined
sc_table_class.html:246:1 (sc_table_class.Rd:152): Warning: missing </ul> before </div>
sc_table_class.html:146:1 (sc_table_class.Rd:88): Warning: <h5> anchor "Usage" already defined
sc_table_class.html:163:1 (sc_table_class.Rd:99): Warning: <h5> anchor "Usage" already defined
sc_table_class.html:174:1 (sc_table_class.Rd:108): Warning: <h5> anchor "Arguments" already defined
sc_table_class.html:205:1 (sc_table_class.Rd:129): Warning: <h5> anchor "Usage" already defined
sc_table_class.html:221:1 (sc_table_class.Rd:139): Warning: <h5> anchor "Usage" already defined
sc_table_class.html:227:1 (sc_table_class.Rd:143): Warning: <h5> anchor "Arguments" already defined
- checking for non-standard things in the check directory ... OK
- DONE
Status: 2 NOTEs