* using log directory ‘/home/hornik/tmp/R.check/r-devel-clang/Work/PKGS/SNPassoc.Rcheck’ * using R Under development (unstable) (2025-07-13 r88407) * using platform: x86_64-pc-linux-gnu * R was compiled by Debian clang version 19.1.7 (3+b1) Debian flang-new version 19.1.7 (3+b1) * running under: Debian GNU/Linux 13 (trixie) * using session charset: UTF-8 * checking for file ‘SNPassoc/DESCRIPTION’ ... OK * this is package ‘SNPassoc’ version ‘2.1-2’ * package encoding: UTF-8 * checking CRAN incoming feasibility ... [1s/1s] OK * checking package namespace information ... OK * checking package dependencies ... OK * checking if this is a source package ... OK * checking if there is a namespace ... OK * checking for executable files ... OK * checking for hidden files and directories ... OK * checking for portable file names ... OK * checking for sufficient/correct file permissions ... OK * checking whether package ‘SNPassoc’ can be installed ... OK See 'https://www.r-project.org/nosvn/R.check/r-devel-linux-x86_64-debian-clang/SNPassoc-00install.html' for details. * checking package directory ... OK * checking for future file timestamps ... OK * checking ‘build’ directory ... OK * checking DESCRIPTION meta-information ... OK * checking top-level files ... OK * checking for left-over files ... OK * checking index information ... OK * checking package subdirectories ... OK * checking code files for non-ASCII characters ... OK * checking R files for syntax errors ... OK * checking whether the package can be loaded ... [5s/6s] OK * checking whether the package can be loaded with stated dependencies ... [4s/5s] OK * checking whether the package can be unloaded cleanly ... [4s/5s] OK * checking whether the namespace can be loaded with stated dependencies ... [4s/5s] OK * checking whether the namespace can be unloaded cleanly ... [5s/6s] OK * checking loading without being on the library search path ... [4s/5s] OK * checking use of S3 registration ... OK * checking dependencies in R code ... OK * checking S3 generic/method consistency ... OK * checking replacement functions ... OK * checking foreign function calls ... OK * checking R code for possible problems ... [36s/51s] OK * checking Rd files ... [1s/1s] OK * checking Rd metadata ... OK * checking Rd line widths ... OK * checking Rd cross-references ... OK * checking for missing documentation entries ... OK * checking for code/documentation mismatches ... OK * checking Rd \usage sections ... OK * checking Rd contents ... OK * checking for unstated dependencies in examples ... OK * checking contents of ‘data’ directory ... OK * checking data for non-ASCII characters ... [2s/3s] OK * checking data for ASCII and uncompressed saves ... OK * checking installed files from ‘inst/doc’ ... OK * checking files in ‘vignettes’ ... OK * checking examples ... [38s/40s] OK Examples with CPU (user + system) or elapsed time > 5s user system elapsed plotWGassociation 6.517 0.770 6.417 interactionPval 5.437 0.054 7.492 permTest 3.277 0.398 5.207 Examples with CPU time > 2.5 times elapsed time user system elapsed ratio plotMissing 2.604 0.314 0.248 11.766 * checking for unstated dependencies in vignettes ... OK * checking package vignettes ... OK * checking re-building of vignette outputs ... [52s/61s] OK * checking PDF version of manual ... [5s/7s] OK * checking HTML version of manual ... [1s/2s] OK * checking for non-standard things in the check directory ... OK * DONE Status: OK