- using R Under development (unstable) (2025-10-19 r88945)
- using platform: x86_64-pc-linux-gnu
- R was compiled by
Debian clang version 19.1.7 (7)
Debian flang-new version 19.1.7 (7)
- running under: Debian GNU/Linux forky/sid
- using session charset: UTF-8
- checking for file ‘Ryacas/DESCRIPTION’ ... OK
- this is package ‘Ryacas’ version ‘1.1.5’
- package encoding: UTF-8
- checking CRAN incoming feasibility ... [1s/2s] NOTE
Maintainer: ‘Mikkel Meyer Andersen <mikl@math.aau.dk>’
Package CITATION file contains call(s) to old-style personList() or
as.personList(). Please use c() on person objects instead.
Package CITATION file contains call(s) to old-style citEntry(). Please
use bibentry() instead.
- checking package namespace information ... OK
- checking package dependencies ... OK
- checking if this is a source package ... OK
- checking if there is a namespace ... OK
- checking for executable files ... OK
- checking for hidden files and directories ... OK
- checking for portable file names ... OK
- checking for sufficient/correct file permissions ... OK
- checking serialization versions ... OK
- checking whether package ‘Ryacas’ can be installed ... OK
See the install log for details.
- used C++ compiler: ‘Debian clang version 19.1.7 (7)’
- checking C++ specification ... NOTE
Specified C++14: please drop specification unless essential
- checking package directory ... OK
- checking for future file timestamps ... OK
- checking ‘build’ directory ... OK
- checking DESCRIPTION meta-information ... OK
- checking top-level files ... OK
- checking for left-over files ... OK
- checking index information ... OK
- checking package subdirectories ... OK
- checking code files for non-ASCII characters ... OK
- checking R files for syntax errors ... OK
- checking whether the package can be loaded ... [1s/1s] OK
- checking whether the package can be loaded with stated dependencies ... [1s/1s] OK
- checking whether the package can be unloaded cleanly ... [1s/1s] OK
- checking whether the namespace can be loaded with stated dependencies ... [1s/1s] OK
- checking whether the namespace can be unloaded cleanly ... [1s/1s] OK
- checking loading without being on the library search path ... [0s/0s] OK
- checking whether startup messages can be suppressed ... [1s/1s] OK
- checking use of S3 registration ... OK
- checking dependencies in R code ... OK
- checking S3 generic/method consistency ... OK
- checking replacement functions ... OK
- checking foreign function calls ... OK
- checking R code for possible problems ... [9s/11s] OK
- checking Rd files ... [0s/1s] OK
- checking Rd metadata ... OK
- checking Rd line widths ... OK
- checking Rd cross-references ... OK
- checking for missing documentation entries ... OK
- checking for code/documentation mismatches ... OK
- checking Rd \usage sections ... OK
- checking Rd contents ... OK
- checking for unstated dependencies in examples ... OK
- checking line endings in C/C++/Fortran sources/headers ... OK
- checking line endings in Makefiles ... OK
- checking compilation flags in Makevars ... OK
- checking for GNU extensions in Makefiles ... OK
- checking for portable use of $(BLAS_LIBS) and $(LAPACK_LIBS) ... OK
- checking use of PKG_*FLAGS in Makefiles ... OK
- checking use of SHLIB_OPENMP_*FLAGS in Makefiles ... OK
- checking pragmas in C/C++ headers and code ... OK
- checking compilation flags used ... OK
- checking compiled code ... OK
- checking installed files from ‘inst/doc’ ... OK
- checking files in ‘vignettes’ ... OK
- checking examples ... [2s/3s] OK
- checking for unstated dependencies in ‘demo’ ... OK
- checking for unstated dependencies in ‘tests’ ... OK
- checking tests ... [12s/15s] OK
Running ‘test-all.R’ [12s/15s]
- checking for unstated dependencies in vignettes ... OK
- checking package vignettes ... OK
- checking re-building of vignette outputs ... [31s/45s] OK
- checking PDF version of manual ... [7s/9s] OK
- checking HTML version of manual ... [1s/3s] NOTE
Found the following HTML validation problems:
Hessian.html:50:1 (Hessian.Rd:12): Warning: missing </ul> before </div>
Jacobian.html:50:1 (Jacobian.Rd:12): Warning: missing </ul> before </div>
Math.yac_symbol.html:51:1 (Math.yac_symbol.Rd:12): Warning: missing </ul> before </div>
Ops.yac_symbol.html:51:1 (Ops.yac_symbol.Rd:12): Warning: missing </ul> before </div>
as.character.yac_symbol.html:51:1 (as.character.yac_symbol.Rd:12): Warning: missing </ul> before </div>
as_y.html:46:1 (as_y.Rd:10): Warning: missing </ul> before </div>
cbind.yac_symbol.html:51:1 (cbind.yac_symbol.Rd:12): Warning: missing </ul> before </div>
deriv.yac_symbol.html:51:1 (deriv.yac_symbol.Rd:12): Warning: missing </ul> before </div>
diag-set.html:50:1 (diag-set.Rd:12): Warning: missing </ul> before </div>
diag.html:50:1 (diag.Rd:12): Warning: missing </ul> before </div>
grapes-times-grapes.html:50:1 (grapes-times-grapes.Rd:12): Warning: missing </ul> before </div>
lower.tri.html:51:1 (lower.tri.Rd:13): Warning: missing </ul> before </div>
prod.yac_symbol.html:55:1 (prod.yac_symbol.Rd:14): Warning: missing </ul> before </div>
rbind.yac_symbol.html:51:1 (rbind.yac_symbol.Rd:12): Warning: missing </ul> before </div>
set_output_width.html:46:1 (set_output_width.Rd:10): Warning: missing </ul> before </div>
simplify.html:51:1 (simplify.Rd:13): Warning: missing </ul> before </div>
sub-.yac_symbol.html:55:1 (sub-.yac_symbol.Rd:14): Warning: missing </ul> before </div>
sub-sub-.yac_symbol.html:51:1 (sub-sub-.yac_symbol.Rd:12): Warning: missing </ul> before </div>
subset-.yac_symbol.html:59:1 (subset-.yac_symbol.Rd:16): Warning: missing </ul> before </div>
t.html:48:1 (t.Rd:12): Warning: missing </ul> before </div>
tex.html:46:1 (tex.Rd:10): Warning: missing </ul> before </div>
upper.tri.html:51:1 (upper.tri.Rd:13): Warning: missing </ul> before </div>
with_value.html:54:1 (with_value.Rd:14): Warning: missing </ul> before </div>
yac_assign.html:50:1 (yac_assign.Rd:12): Warning: missing </ul> before </div>
yac_silent.html:46:1 (yac_silent.Rd:10): Warning: missing </ul> before </div>
ysym_ls.html:46:1 (ysym_ls.Rd:10): Warning: missing </ul> before </div>
- checking for non-standard things in the check directory ... OK
- DONE
Status: 3 NOTEs